BEGIN:VCALENDAR
VERSION:2.0
PRODID:-//Powys - ECPv6.15.20//NONSGML v1.0//EN
CALSCALE:GREGORIAN
METHOD:PUBLISH
X-WR-CALNAME:Powys
X-ORIGINAL-URL:https://storipowys.org.uk/?lang=cy
X-WR-CALDESC:Events for Powys
REFRESH-INTERVAL;VALUE=DURATION:PT1H
X-Robots-Tag:noindex
X-PUBLISHED-TTL:PT1H
BEGIN:VTIMEZONE
TZID:UTC
BEGIN:STANDARD
TZOFFSETFROM:+0000
TZOFFSETTO:+0000
TZNAME:UTC
DTSTART:20240101T000000
END:STANDARD
END:VTIMEZONE
BEGIN:VEVENT
DTSTART;TZID=UTC:20250702T153000
DTEND;TZID=UTC:20250702T173000
DTSTAMP:20260423T160817
CREATED:20250205T155136Z
LAST-MODIFIED:20250205T155136Z
UID:10006952-1751470200-1751477400@storipowys.org.uk
SUMMARY:Clwb Lego
DESCRIPTION:Y Cyntaf ddydd Mercher o’r Mis \nDoes dim angen archebu lle \nRhais i blant dan o 8 oed fod yng nghwmni oedolyn/gofalwr
URL:https://storipowys.org.uk/event/clwb-lego/2025-07-02/?lang=cy
ATTACH;FMTTYPE=image/jpeg:https://storipowys.org.uk/wp-content/uploads/2025/02/lego-club-1.jpg
END:VEVENT
BEGIN:VEVENT
DTSTART;TZID=UTC:20250702T133000
DTEND;TZID=UTC:20250702T150000
DTSTAMP:20260423T160817
CREATED:20250528T101154Z
LAST-MODIFIED:20250528T101154Z
UID:10011987-1751463000-1751468400@storipowys.org.uk
SUMMARY:Nexus Arts
DESCRIPTION:Celfyddydau Perfformio a Chreadigol i Bawb\nDrama\, dawns a chelfyddydau gweledol ar gyfer grŵp integredig o oedolion ac oedolion ag anableddau dysgu. \nPob Dydd Mercher 1.30 – 3pm\n£5 y sesiwn\, Gofalwyr am ddim
URL:https://storipowys.org.uk/event/nexus-arts/2025-07-02/?lang=cy
LOCATION:The Welfare Ystradgynlais Y Neuadd Les\, Brecon Rd\, Ystradgynlais\, Swansea\, SA9 1JJ\, United Kingdom
ATTACH;FMTTYPE=image/jpeg:https://storipowys.org.uk/wp-content/uploads/2025/05/2jzeSqBw-1.jpeg
ORGANIZER;CN="The Welfare Ystradgynlais":MAILTO:boxoffice@thewelfare.co.uk
END:VEVENT
BEGIN:VEVENT
DTSTART;TZID=UTC:20250702T101500
DTEND;TZID=UTC:20250702T123000
DTSTAMP:20260423T160817
CREATED:20250122T145303Z
LAST-MODIFIED:20250331T142332Z
UID:10005475-1751451300-1751459400@storipowys.org.uk
SUMMARY:Clwb Celf
DESCRIPTION:Grŵp croesawgar ar gyfer pob gallu a chariadon celf. Bob wythnos byddwch yn cael rhai syniadau a thechnegau prosiect i roi cynnig arnynt\, neu gallwch ddefnyddio’r gofod i weithio ar eich prosiectau presennol. Darperir deunyddiau ac offer\, ond mae croeso i chi ddod â’ch deunyddiau eich hun.
URL:https://storipowys.org.uk/event/14172/2025-07-02/?lang=cy
LOCATION:Llyfrgell Ystradgynlais Library\, Temperance Lane\, Swansea\, SA9 1JP
ATTACH;FMTTYPE=image/png:https://storipowys.org.uk/wp-content/uploads/2025/01/Clwb-Celf-4.png
ORGANIZER;CN="Ystradgynlais Library":MAILTO:ystrad.library@powys.gov.uk
END:VEVENT
BEGIN:VEVENT
DTSTART;TZID=UTC:20250701T190000
DTEND;TZID=UTC:20250701T210000
DTSTAMP:20260423T160817
CREATED:20250113T150838Z
LAST-MODIFIED:20250407T143341Z
UID:10010273-1751396400-1751403600@storipowys.org.uk
SUMMARY:MPYT Mawr - Theatr Ieuenctid\, 14-24 oed
DESCRIPTION:7.15 – 8.45pm nos Fawrth drwy gydol y tymor \nAddas i blant 14-24 oed \nGostyngiad i £60 y tymor (ychydig dros £5 y sesiwn – mae gostyngiadau i frodyr a chwiorydd yn berthnasol) \nWeithiau yn yr ysgol\, efallai byddwch yn teimlo’r pwysau i guddio pwy ydych chi go iawn a bod yn rhaid ffitio i mewn. Mae Theatr Ieuenctid Canol Powys yn lle diogel i ddod a bod yn fersiwn fawr (neu fach) (neu fersiynau) o’ch hunaniaeth unigryw gyda phobl a fydd yn eich dathlu am fod yn union hynny. Mae Theatr Ieuenctid Canol Powys yn cynnig ‘cartref’ creadigol cefnogol i chi wrth i chi archwilio eich hun fel oedolyn\, lle byddwch yn cael gwrandawiad a’ch trin yn gyfartal a ble y gallwch ofyn cwestiynau mawr bywyd. Cewch eich annog i archwilio eich hunaniaeth i’r ymylon a’r hyn y gallwch ei wneud gyda ffrindiau cefnogol a’r bobl theatr orau y gallwn gael gafael arnynt. \nDyma’r grŵp theatr ieuenctid craidd; sef gweithdy a sesiwn nos Fawrth sydd wedi bod yn rhedeg ers 1987. \nBeth sy’n dod nesaf? \nO fis Ionawr i fis Gorffennaf 2025 rydym yn gwahodd y storïwr dwyieithog arobryn Tamar Williams i arwain rhai sesiynau a hefyd Bethan Dear sy’n wneutheliwr theatr sydd wedi gweithio yng Nghymru a Llundain ers 20+ o flynyddoedd ac sy’n wych! Bydd ein harweinwyr ifanc dan hyfforddiant: Alice\, Melody a Ben (weithiau pob un ohonynt\, ac weithiau eraill fel Cai ac Ellis) hefyd yn cynorthwyo’r sesiynau\, maen nhw’n gyn-aelodau eu hunain ac yno i’ch croesawu a’ch cefnogi a’ch helpu i deimlo’n gartrefol. \nBydd sesiwn nodweddiadol yn cynnwys gemau ac ymarferion theatr\, dyfeisio heriau; ymddiried a gemau ffocws; a phethau eraill fel theatr gorfforol; gwaith masg; cynllunio; pypedau; syrcas; canu; ymladd ar lwyfan… gallem fynd yn ein blaenau\, ond bydd yn rhaid i chi ddod i weld drosoch eich hun. \nAwydd ymuno? Dewch i roi cynnig arni a gweld a yw’n addas i chi! Gallwch gofrestru yma. \nAnfonwch neges i hello@mpyt.co.uk gallech hefyd alw heibio i’r swyddfa am sgwrs i gael yr holl wybodaeth. \nCelf O Gwmpas\, Llandrindod\, LD1 5EB
URL:https://storipowys.org.uk/event/big-mpyt-youth-theatre-for-ages-14-24/2025-07-01/?lang=cy
LOCATION:Mid Powys Youth Theatre\, Celf O Gwmpas\, Tremont Road\, Llandrindod Wells\, LD1 5EB\, United Kingdom
ATTACH;FMTTYPE=image/jpeg:https://storipowys.org.uk/wp-content/uploads/2025/01/73_IMG_9141-4.jpg
ORGANIZER;CN="Mid Powys Youth Theatre":MAILTO:hello@mpyt.co.uk
END:VEVENT
BEGIN:VEVENT
DTSTART;TZID=UTC:20250701T183000
DTEND;TZID=UTC:20250701T203000
DTSTAMP:20260423T160817
CREATED:20250409T151816Z
LAST-MODIFIED:20250409T151816Z
UID:10011229-1751394600-1751401800@storipowys.org.uk
SUMMARY:Masquerade
DESCRIPTION:Our classes aimed at people with learning disabilities feature drama\, art\, movement & music | Mae ein dosbarthiadau ar gyfer pobl ag anableddau dysgu yn cynnwys drama\, celf\, symud a cherddoriaeth\nBi-weekly classes on Tuesday evenings | Dosbarthiadau bob yn ail wythnos ar nos Fawrth\n🕐 6:30-8:30pm\n📍 The Institute\, Llanfyllin\n💰 £4 per session | £4 y sesiwn\nDates: The group will be meeting on the following TUESDAYS of each month:\nApril | Ebrill 15 & 22\nMay | Mai 6 & 20\nJune | Mehefin 3 & 17\nJuly | Gorffennaf 1 & 15\nBreak for summer\nSep | Medi 9 & 23\nOct | Hydref 7 & 21st\nNov | Tachwedd 4\, 18 & 25\nEnd of year show: Saturday 29 November | Dydd Sad 29 Tach
URL:https://storipowys.org.uk/event/masquerade/2025-07-01/?lang=cy
LOCATION:The Institute\, Llanfyllin\, SY22 5AA
ATTACH;FMTTYPE=image/png:https://storipowys.org.uk/wp-content/uploads/2025/04/Masquerade-24-Facebook-Cover-5.png
ORGANIZER;CN="Arts Connection - Cyswllt Celf":MAILTO:sian@artsconnection.org.uk
END:VEVENT
BEGIN:VEVENT
DTSTART;TZID=UTC:20250701T180000
DTEND;TZID=UTC:20250701T193000
DTSTAMP:20260423T160817
CREATED:20250326T133731Z
LAST-MODIFIED:20250326T133828Z
UID:10008418-1751392800-1751398200@storipowys.org.uk
SUMMARY:Clwb Crochenwaith
DESCRIPTION:Cwrs Crochenwaith Amser Tymor i Oedolion sydd eisiau dysgu sut i adeiladu â llaw yn greadigol. Pob modelu creadigol a chyfleoedd i arbrofi a chreu. Offer\, Clai a Gwydredd wedi’u cynnwys. Gyda’r Meistr Tiwtor Potter Alex Allpress
URL:https://storipowys.org.uk/event/15497/2025-07-01/?lang=cy
LOCATION:The Pottery\, Church Street\, Builth Wells\, LD2 3AP
ATTACH;FMTTYPE=image/jpeg:https://storipowys.org.uk/wp-content/uploads/2025/03/pottery-builth.jpg
END:VEVENT
BEGIN:VEVENT
DTSTART;TZID=UTC:20250701T173000
DTEND;TZID=UTC:20250701T183000
DTSTAMP:20260423T160817
CREATED:20250115T125727Z
LAST-MODIFIED:20250326T141731Z
UID:10005177-1751391000-1751394600@storipowys.org.uk
SUMMARY:MPYT Bach - Theatre Ieuenctid\, 10-13 oed
DESCRIPTION:5.30-6.30pm nos Fawrth drwy gydol y tymor \nAddas i blant 10-13 oed \nGostyngiad i £60 y tymor (ychydig dros £5 y sesiwn – mae gostyngiadau i frodyr a chwiorydd yn berthnasol) \nMae’r grŵp hwn wedi’i anelu at bobl ifanc yn eu harddegau ond mae’n cael ei lywio gan yr un gwerthoedd ac ethos â grŵp mawr Theatr Ieuenctid Canol Powys. \nMae Theatr Ieuenctid Canol Powys yn fan lle mae’r dychymyg yn dod yn fyw. Dyma lle mae cyfeillgarwch yn cael ei eni\, ac unigolion unigryw yn dod ynghyd i greu rhywbeth hudolus. \nCewch gyfle i ddod o hyd i’ch llais—dysgu’r hyn yr ydych yn ei feddwl\, pwy ydych chi\, a ble yr ydych am berthyn yn y byd. Mae’n lle i ofyn cwestiynau mawr bywyd a nodi’r atebion gyda’n gilydd. Mae’n lle i deimlo llawenydd\, a chael hwyl. \nMae Theatr Ieuenctid Canol Powys yn lle diogel i fod yn feiddgar\, i gymryd risgiau\, gwthio i’r ymylon a darganfod gwedd newydd o’ch hunan. \nO fis Ionawr i fis Gorffennaf bydd y grŵp yn cael ei arwain gan wneuthurwyr theatr profiadol: \nTamar Williams\, storïwr dwyieithog arobryn a Bethan Dear\, cyfarwyddwr a gwneuthurwr theatr gydag 20+ blwyddyn o brofiad yn gweithio yng Nghymru a Llundain. \nBydd Tamar a Bethan yn gweithio ochr yn ochr ag arweinwyr ifanc grŵp Theatr Ieuenctid Canol Powys+ sydd wedi bod yn aelodau eu hunain\, wedi bod i ffwrdd i wneud gradd mewn perfformio ac sydd bellach wedi dod yn ôl ac sy’n dysgu’r sgiliau sydd eu hangen arnynt i fod yn arweinwyr gweithdai gwych ar gyfer y genhedlaeth nesaf o fynychwyr Theatr Ieuenctid Canol Powys. \nNeu cysylltwch â ni am ragor o wybodaeth. \nAnfonwch neges i hello@mpyt.co.uk. \nCelf O Gwmpas\, Llandrindod\, LD1 5EB
URL:https://storipowys.org.uk/event/mpyt-bach-theatre-ieuenctid-10-13-oed/2025-07-01/?lang=cy
LOCATION:Mid Powys Youth Theatre\, Celf O Gwmpas\, Tremont Road\, Llandrindod Wells\, LD1 5EB\, United Kingdom
ATTACH;FMTTYPE=image/png:https://storipowys.org.uk/wp-content/uploads/2025/01/about-sessions-03-2.png
ORGANIZER;CN="Mid Powys Youth Theatre":MAILTO:hello@mpyt.co.uk
END:VEVENT
BEGIN:VEVENT
DTSTART;TZID=UTC:20250701T160000
DTEND;TZID=UTC:20250701T193000
DTSTAMP:20260423T160817
CREATED:20250528T112355Z
LAST-MODIFIED:20250528T112355Z
UID:10011867-1751385600-1751398200@storipowys.org.uk
SUMMARY:The Performance Factory Stage School
DESCRIPTION:Dechrau perffaith i’r celfyddydau perfformio! \nDydd Mawrth\n4.15yp – 5.15yp:  Oedrannau 3-6\n5.15yp – 7.15yp: Oedrannau 7+
URL:https://storipowys.org.uk/event/the-performance-factory-stage-school/2025-07-01/?lang=cy
LOCATION:The Welfare Ystradgynlais Y Neuadd Les\, Brecon Rd\, Ystradgynlais\, Swansea\, SA9 1JJ\, United Kingdom
ATTACH;FMTTYPE=image/jpeg:https://storipowys.org.uk/wp-content/uploads/2025/05/124027951_3857489414296447_387030462166457355_n-2.jpg
ORGANIZER;CN="The Welfare Ystradgynlais":MAILTO:boxoffice@thewelfare.co.uk
END:VEVENT
BEGIN:VEVENT
DTSTART;TZID=UTC:20250701T110000
DTEND;TZID=UTC:20250701T140000
DTSTAMP:20260423T160817
CREATED:20250625T092703Z
LAST-MODIFIED:20250625T092703Z
UID:10017154-1751367600-1751378400@storipowys.org.uk
SUMMARY:
DESCRIPTION:
URL:https://storipowys.org.uk/event/16761/?lang=cy
LOCATION:Newtown Library\, Park Lane\, Newtown\, SY16 1EJ
ATTACH;FMTTYPE=image/jpeg:https://storipowys.org.uk/wp-content/uploads/2025/06/Vision-Aid-Secondhand-Stock-1-scaled.jpg
ORGANIZER;CN="Accessibility Powys":MAILTO:info@accessibilitypowys.org.uk
END:VEVENT
BEGIN:VEVENT
DTSTART;TZID=UTC:20250701T103000
DTEND;TZID=UTC:20250701T123000
DTSTAMP:20260423T160817
CREATED:20250528T101159Z
LAST-MODIFIED:20250528T112130Z
UID:10012107-1751365800-1751373000@storipowys.org.uk
SUMMARY:Caffi Crefftus
DESCRIPTION:Ymunwch â’n hartistiaid cymunedol am sesiwn grefftau gyda phaned.\nGwerthfawrogir cyfraniad pawb\, nid oes angen profiad. \nPob Dydd Mawrth | 10.30yb – 12.30yp\n£4 y sesiwn | Gofalwyr Am Ddim
URL:https://storipowys.org.uk/event/caffi-crefftus/2025-07-01/?lang=cy
LOCATION:The Welfare Ystradgynlais Y Neuadd Les\, Brecon Rd\, Ystradgynlais\, Swansea\, SA9 1JJ\, United Kingdom
ATTACH;FMTTYPE=image/jpeg:https://storipowys.org.uk/wp-content/uploads/2025/05/brush-96240_1280-1-1140x500-1.jpg
ORGANIZER;CN="The Welfare Ystradgynlais":MAILTO:boxoffice@thewelfare.co.uk
END:VEVENT
BEGIN:VEVENT
DTSTART;TZID=UTC:20250701T100000
DTEND;TZID=UTC:20250701T120000
DTSTAMP:20260423T160817
CREATED:20250609T102810Z
LAST-MODIFIED:20250609T103017Z
UID:10012572-1751364000-1751371200@storipowys.org.uk
SUMMARY:Sesiwn Galw Heibio Wcreinaidd
DESCRIPTION:Fsesiynau cyfeillgar ble fydd tîm Powys ar gael i ddarparu cymorth\, gwybodaeth ac ateb unrhyw gwestiynau. \nGyda Nathan Gittins.
URL:https://storipowys.org.uk/event/ukrainian-drop-in/2025-07-01/?lang=cy
LOCATION:Llyfrgell Llandrindod Library\, Radnorshire Museum\, Temple Street\, Llandrinod Wells\, Powys\, LD1 5DL\, United Kingdom
ATTACH;FMTTYPE=image/png:https://storipowys.org.uk/wp-content/uploads/2025/06/ukraine.png
ORGANIZER;CN="Llyfrgell Llandrindod Library":MAILTO:llandrindod.library@powys.gov.uk
END:VEVENT
BEGIN:VEVENT
DTSTART;TZID=UTC:20250630T140000
DTEND;TZID=UTC:20250630T160000
DTSTAMP:20260423T160817
CREATED:20250609T141251Z
LAST-MODIFIED:20250609T141406Z
UID:10015240-1751292000-1751299200@storipowys.org.uk
SUMMARY:Gweu A Sgwrs\, Crosio A Siarad
DESCRIPTION:Grŵp cyfeillgar o bobl yn gwau a chrosio amrywiaeth o eitemau o flancedi i siwmperi \nNi chodir tâl i fynychu.
URL:https://storipowys.org.uk/event/knit-natter-crochet-chatter-2/2025-06-30/?lang=cy
LOCATION:Llyfrgell Rhaeadr / Rhayader Library\, West Street\, Rhayader\, LD6 5DS
ATTACH;FMTTYPE=image/jpeg:https://storipowys.org.uk/wp-content/uploads/2025/01/Screenshot_6-1-2025_143423_rhayader.co_.uk_.jpeg
ORGANIZER;CN="Llyfrgell Rhaeadr / Rhayader Library":MAILTO:rhayader.library@powys.gov.uk
END:VEVENT
BEGIN:VEVENT
DTSTART;TZID=UTC:20250630T140000
DTEND;TZID=UTC:20250630T160000
DTSTAMP:20260423T160817
CREATED:20250609T103814Z
LAST-MODIFIED:20250609T104104Z
UID:10013410-1751292000-1751299200@storipowys.org.uk
SUMMARY:Grŵp Ffynde
DESCRIPTION:Ymunwch â ni i fwynhau plethu gyda sgwrs. Mae peiriannau plethu ar gael.Mae te a choffi ar gael hefyd!
URL:https://storipowys.org.uk/event/patchwork-group-dec-24-3/2025-06-30/?lang=cy
LOCATION:Llyfrgell Ystradgynlais Library
ATTACH;FMTTYPE=image/jpeg:https://storipowys.org.uk/wp-content/uploads/2024/11/patchwork.jpg
ORGANIZER;CN="Llyfrgell Ystradgynlais Library":MAILTO:ystrad.library@powys.gov.uk
END:VEVENT
BEGIN:VEVENT
DTSTART;TZID=UTC:20250630T140000
DTEND;TZID=UTC:20250630T150000
DTSTAMP:20260423T160817
CREATED:20250205T155212Z
LAST-MODIFIED:20251110T115910Z
UID:10006645-1751292000-1751295600@storipowys.org.uk
SUMMARY:Sesiynau jamio gitâr
DESCRIPTION:Chwarae’r gitâr?\nEisiau jamio gyda gitarwyr eraill?\nDewch â’ch gitâr a/neu’ch llais\, bob Dydd Llun 2-3!\nCroeso i bob gallu.
URL:https://storipowys.org.uk/event/sesiynau-jamio-gitar/2025-06-30/?lang=cy
LOCATION:Llyfrgell Ystradgynlais Library
ATTACH;FMTTYPE=image/png:https://storipowys.org.uk/wp-content/uploads/2025/02/GUITAR.png
ORGANIZER;CN="Ystradgynlais Library":MAILTO:ystrad.library@powys.gov.uk
END:VEVENT
BEGIN:VEVENT
DTSTART;TZID=UTC:20250630T110000
DTEND;TZID=UTC:20250630T113000
DTSTAMP:20260423T160817
CREATED:20250613T134113Z
LAST-MODIFIED:20250613T134337Z
UID:10015891-1751281200-1751283000@storipowys.org.uk
SUMMARY:Amser Stori
DESCRIPTION:Bob Dydd Llun
URL:https://storipowys.org.uk/event/storytime-2/2025-06-30/?lang=cy
LOCATION:Hay on Wye Library\, Oxford Road\, Hay on Wye\, HR3 5BT
ATTACH;FMTTYPE=image/jpeg:https://storipowys.org.uk/wp-content/uploads/2025/06/Screenshot_13-6-2025_144057_.jpeg
ORGANIZER;CN="y Gaer":MAILTO:ygaer@powys.gov.uk
END:VEVENT
BEGIN:VEVENT
DTSTART;TZID=UTC:20250630T101500
DTEND;TZID=UTC:20250630T110000
DTSTAMP:20260423T160817
CREATED:20241206T143703Z
LAST-MODIFIED:20241216T163654Z
UID:10003540-1751278500-1751281200@storipowys.org.uk
SUMMARY:Amser stori gyda Sammi
DESCRIPTION:Caneuon\, rhigymau a straeon i blant oed cyn-ysgol (a’u rhieni/gofalwyr). \nGyda Sammi Orme.
URL:https://storipowys.org.uk/event/amser-stori-gyda-sammi-llanidloes-jan-25/2025-06-30/?lang=cy
LOCATION:Llyfrgell Llanidloes / Llanidloes Library\, Great Oak Street\, Llanidloes\, SY18 6BN
ATTACH;FMTTYPE=image/jpeg:https://storipowys.org.uk/wp-content/uploads/2024/12/Storytime_With_Sammi.jpg
ORGANIZER;CN="Llfrygell Llanidloes Library":MAILTO:llanidloes.library@powys.gov.uk
END:VEVENT
BEGIN:VEVENT
DTSTART;TZID=UTC:20250629T190000
DTEND;TZID=UTC:20250629T220000
DTSTAMP:20260423T160817
CREATED:20250602T095033Z
LAST-MODIFIED:20250602T095301Z
UID:10012167-1751223600-1751234400@storipowys.org.uk
SUMMARY:Cyngerdd Epynt 85
DESCRIPTION:Cynhelir cyngerdd i goffáu 85 mlynedd ers tynnu cymunedau Epynt yn ystod Mehefin 1940.
URL:https://storipowys.org.uk/event/16412/?lang=cy
LOCATION:Eglwys Defynnog Church\, 8 Church Row\, Defynnog\, LD3 8SD
ATTACH;FMTTYPE=image/png:https://storipowys.org.uk/wp-content/uploads/2025/06/epynt-poster-3.png
ORGANIZER;CN="Marc Williams":MAILTO:grwpepynt@gmail.com
END:VEVENT
BEGIN:VEVENT
DTSTART;TZID=UTC:20250628T190000
DTEND;TZID=UTC:20250628T213000
DTSTAMP:20260423T160817
CREATED:20250530T143702Z
LAST-MODIFIED:20250530T143829Z
UID:10012165-1751137200-1751146200@storipowys.org.uk
SUMMARY:The Carnival Band
DESCRIPTION:O’r Carnavalau chwyldroadol cyn-y Nadolig yn Ewrop canol oes i’r dathlu canol gaeaf gan Arglwydd y Chwyldro\, mae The Carnival Band yn ein tywys trwy’r flwyddyn\, gan wehyddu yn ddychmygus ffoc\, hanesyddol a chyfoes o gartref ac o dramor i mewn i dapestri cyfoethog o ddathlu tymhorol. Mae themaoedd yn ymwneud â’r hinsawdd\, natur\, traddodiad\, mudo\, cariad a cholli yn cael eu harchwilio gyda baledi gyffrous\, melodïau dawns syfrdanol a gosodiadau o destunau sy’n amrywio o’r Oesoedd Canol i’r dyddiau presennol. Mae The Carnival Band yn perfformio cymysgedd rhyfeddol o offerynnau\, gan gynnwys shawms canol oes\, cittern adnewyddol\, pibau Flemish\, fidil\, bas a chydleisio lleisiol cyfoethog. Mae eu cymysgedd unigryw o ddylanwadau ffoc\, byd\, clasurol a chyfoes yn anodd i’w ddiffinio. Mae’n adnabyddus am eu recordiadau a’u cyngherddau gyda Maddy Prior\, maent yn cael eu weren’t a’u parodrwydd a’u cymeriad.
URL:https://storipowys.org.uk/event/thecarnival-band/?lang=cy
LOCATION:Llanbedr Village Hall\, Llanbedr Village Hall Maes Ffynnon\, Crickhowell\, NP8 1SR
ATTACH;FMTTYPE=image/jpeg:https://storipowys.org.uk/wp-content/uploads/2025/05/carnival.jpg
END:VEVENT
BEGIN:VEVENT
DTSTART;TZID=UTC:20250628T033000
DTEND;TZID=UTC:20250628T173000
DTSTAMP:20260423T160817
CREATED:20250616T131223Z
LAST-MODIFIED:20250616T131223Z
UID:10017148-1751081400-1751131800@storipowys.org.uk
SUMMARY:MPYT+ Monthly Youth Theatre\, Ages 19-29
DESCRIPTION:3.30-5.30pm on the last Sunday of the month during term time. \nWe know that opportunities for young people in Mid Wales can be few and far between\, so we’ve created a space for creatives in age 19-29 to meet. Whether you’re a performer\, director\, singer\, dance\, costume maker or set designer; come along and find some like-minded people. \nExpect games\, impro\, script-work\, chats about the world and our place in it.  We have performance plans bubbling to make some Walkabout festival theatre and to put on play readings in the local towns….you are encouraged to feed into ideas and lead on things and we will help you make it happen! \nWe are also training some of this age bracket up as workshop leaders and creating assistant roles on professionally led productions. We have friends across Wales and the UK working in theatre and events (many ex MPYTers) and are happy to link you up and help you gain outstanding professional experience if you like….or otherwise just come and play! \nAll abilities welcome. £5 a session. Celf O Gwmpas\, Llandrindod\, LD1 5EB
URL:https://storipowys.org.uk/event/mpyt-monthly-youth-theatre-ages-19-29-2/?lang=cy
LOCATION:Celf O Gwmpas\, Tremont Road\, Llandrindod Wells\, LD1 5EB
ATTACH;FMTTYPE=image/jpeg:https://storipowys.org.uk/wp-content/uploads/2025/01/3_SUN01232-2.jpg
ORGANIZER;CN="Mid Powys Youth Theatre":MAILTO:hello@mpyt.co.uk
END:VEVENT
BEGIN:VEVENT
DTSTART;TZID=UTC:20250627T203000
DTEND;TZID=UTC:20250627T223000
DTSTAMP:20260423T160817
CREATED:20250416T133300Z
LAST-MODIFIED:20250416T133300Z
UID:10011593-1751056200-1751063400@storipowys.org.uk
SUMMARY:MARCHES COMEDY
DESCRIPTION:Comedy On The Borders
URL:https://storipowys.org.uk/event/marches-comedy-2/?lang=cy
LOCATION:MONTGOMERY TOWN HALL\, Montgomery Town Hall\, Welshpool\, SY15 6PH
END:VEVENT
BEGIN:VEVENT
DTSTART;TZID=UTC:20250627T140000
DTEND;TZID=UTC:20250627T150000
DTSTAMP:20260423T160817
CREATED:20250613T135903Z
LAST-MODIFIED:20250613T140024Z
UID:10016151-1751032800-1751036400@storipowys.org.uk
SUMMARY:Yr Awr Hudolus Llyfrgell y Gelli
DESCRIPTION:John Price yn son am teulu Bevan o Gastell y Gelli \nDetholiadau heb eu cyhoeddi o ddyddiadur Kilvert\, Mary Bevan\, Edward Lear\, cysylltiadau a’r Frenhines Victoria\, Rossini\, Stori Castell-paen a’r Clas-ar-Wy\, Rudyard Kipling\, Noel Coward\, Christopher Dawson\, Eglwys Y Gelli\, Cloc y Dref\, Neuadd y Plwyf\, Porth Mynwent.
URL:https://storipowys.org.uk/event/enchanted-hour-at-hay-library/?lang=cy
LOCATION:Hay on Wye Library\, Oxford Road\, Hay on Wye\, HR3 5BT
ATTACH;FMTTYPE=image/jpeg:https://storipowys.org.uk/wp-content/uploads/2025/06/Screenshot_13-6-2025_14552_.jpeg
ORGANIZER;CN="y Gaer":MAILTO:ygaer@powys.gov.uk
END:VEVENT
BEGIN:VEVENT
DTSTART;TZID=UTC:20250627T110000
DTEND;TZID=UTC:20250627T120000
DTSTAMP:20260423T160817
CREATED:20250305T122312Z
LAST-MODIFIED:20251124T120334Z
UID:10009977-1751022000-1751025600@storipowys.org.uk
SUMMARY:Grŵp Canu Rootlets
DESCRIPTION:Rootlets yn grŵp canu “dewch â’ch babi eich hun” sy’n cwrdd bob wythnos yn\nystod y tymor yn ystafell John Edwards yn Y Plas\, Machynlleth ar fore Gwener o 11-12.\nMae croeso i bob gofalwr a phob oedran o blant.\nArchebu yn hanfodol.\nRhaid i bob oedolyn fod yng nghwmni plentyn.\nBwriedir i archebion fod ar gyfer teuluoedd: gallwch archebu bloc a newid yr oedolyn\nsy’n dod gyda’r plentyn bob tro (hefyd yn iawn i’r ddau riant/gofalwr fynychu gydag un\nplentyn).\nGallwch hefyd ddod â brodyr a chwiorydd yn rhad ac am ddim.\nOs ydych chi’n rhannu gofal plant gyda ffrindiau ac eisiau dod â phlant o fwy nag un\nteulu\, mae hynny’n iawn hefyd\, cyn belled â’ch bod chi’n gallu gofalu am yr holl blant\nrydych chi’n dod â nhw gyda chi’n gyfrifol ac yn ddibynadwy.\nDylai pob plentyn o deulu ar wahân gael archebu ar wahân.\nRwy’n argymell cymhareb o 1 oedolyn i 2 blentyn os yw’r ddau o dan 4 oed. I ddod draw\,\narchebwch floc hanner tymor.
URL:https://storipowys.org.uk/event/grwp-canu-rootlets/2025-06-27/?lang=cy
LOCATION:Y Plas\, Pentrerhedyn St\, Machynlleth\, SY20 8ER
ATTACH;FMTTYPE=image/png:https://storipowys.org.uk/wp-content/uploads/2025/02/Square-website-images.zip-6.png
ORGANIZER;CN="Ruth Gordon":MAILTO:Rootedvoiceschoir@gmail.com
END:VEVENT
BEGIN:VEVENT
DTSTART;TZID=UTC:20250627T103000
DTEND;TZID=UTC:20250627T110000
DTSTAMP:20260423T160817
CREATED:20250609T094840Z
LAST-MODIFIED:20250609T094840Z
UID:10012236-1751020200-1751022000@storipowys.org.uk
SUMMARY:Amser Stori
DESCRIPTION:Straeon\, caneuon a rhigymau i blant oed cyn-ysgol (a’u rhieni/gofalwyr).
URL:https://storipowys.org.uk/event/amser-stori/2025-06-27/?lang=cy
LOCATION:Builth Wells Library\, Antur Gwy\, Park Road\, Builth Wells\, LD2 3BA
ATTACH;FMTTYPE=image/jpeg:https://storipowys.org.uk/wp-content/uploads/2025/06/Storytime-2-1.jpg
END:VEVENT
BEGIN:VEVENT
DTSTART;TZID=UTC:20250627T100000
DTEND;TZID=UTC:20250627T110000
DTSTAMP:20260423T160817
CREATED:20250609T094543Z
LAST-MODIFIED:20250609T094543Z
UID:10012307-1751018400-1751022000@storipowys.org.uk
SUMMARY:Morning Mindfulness Meditation at Mid Wales Arts Centre
DESCRIPTION:
URL:https://storipowys.org.uk/event/morning-mindfulness-meditation-at-mid-wales-arts-centre/2025-06-27/?lang=cy
LOCATION:Mid Wales Arts Centre\, CAERSWS\, SY17 5SB
ATTACH;FMTTYPE=image/webp:https://storipowys.org.uk/wp-content/uploads/2025/05/lilies-of-the-valley-4240129_1920.webp
ORGANIZER;CN="Emily Bartlett":MAILTO:emily@wiseheartmeditation.co.uk
END:VEVENT
BEGIN:VEVENT
DTSTART;TZID=UTC:20250626T190000
DTEND;TZID=UTC:20250626T210000
DTSTAMP:20260423T160817
CREATED:20250403T113710Z
LAST-MODIFIED:20251124T120407Z
UID:10009196-1750964400-1750971600@storipowys.org.uk
SUMMARY:Côr Cymunedol Rooted Voices
DESCRIPTION:Ydych chi wrth eich bodd yn canu? Heb ganu ers ysgol ond hoffech roi cynnig arni? \nMae croeso cynnes i chi ddod draw i’n côr cymunedol ar nos Iau (7–9pm) yn y Tabernacl\, MOMA ym Machynlleth. Dan ni yn canolbwyntio ar iechyd y llais\, teimlo’n dda yn ein cyrff ein hunain\, a chanu harmoni. Does dim angen profiad blaenorol o ganu ac mae croeso mawr i gantorion swil! \n£5-15 y sesiwn\, neu £25-75 am floc o 6. Os oes angen i chi dalu llai i allu dod\, cysylltwch â ni.
URL:https://storipowys.org.uk/event/15621/2025-06-26/?lang=cy
LOCATION:St Peter’s church\, St Peter Penrallt Street\, MACHYNLLETH\, SY20 8HE
ATTACH;FMTTYPE=image/jpeg:https://storipowys.org.uk/wp-content/uploads/2025/04/4.jpg
ORGANIZER;CN="Ruth Gordon":MAILTO:Rootedvoiceschoir@gmail.com
END:VEVENT
BEGIN:VEVENT
DTSTART;TZID=UTC:20250626T180000
DTEND;TZID=UTC:20250626T203000
DTSTAMP:20260423T160817
CREATED:20250113T102342Z
LAST-MODIFIED:20250205T161043Z
UID:10004819-1750960800-1750969800@storipowys.org.uk
SUMMARY:Grŵp cymdeithasol celf
DESCRIPTION:Mae Art Social Group ar gyfer artistiaid a phobl greadigol. Ein nod yw lleddfu unigedd drwy ddarparu lle i artistiaid ac unigolion creadigol ddod at ei gilydd\, creu celf\, cymdeithasu a chreu cysylltiadau newydd. Mae’r grŵp o allu cymysg\, a darperir yr holl adnoddau. Mae’r grŵp yn rhedeg o Ganolfan Integredig Teuluoedd y Trallwng bob pythefnos\, ar nos Iau\, rhwng 6-8:30pm. £15 y sesiwn i dalu am logi ystafell a deunyddiau.
URL:https://storipowys.org.uk/event/13761/2025-06-26/?lang=cy
LOCATION:Welshpool Integrated Family Centre\, Oldford Close\, Welshpool\, SY21 7SX
ATTACH;FMTTYPE=image/png:https://storipowys.org.uk/wp-content/uploads/2025/01/welshppol-art-group.png
ORGANIZER;CN="Jain Downing":MAILTO:welshpoolcreativearts@gmail.com
END:VEVENT
BEGIN:VEVENT
DTSTART;TZID=UTC:20250626T140000
DTEND;TZID=UTC:20250626T150000
DTSTAMP:20260423T160817
CREATED:20250609T094638Z
LAST-MODIFIED:20250609T094725Z
UID:10012299-1750946400-1750950000@storipowys.org.uk
SUMMARY:Mali a'r Môr
DESCRIPTION:Sioe ddwyieithog ar gyfer pobl bach yn Llyfrgell Knighton.
URL:https://storipowys.org.uk/event/mali-ar-mor/?lang=cy
LOCATION:Llyfrgell Tref-y-Clawdd / Knighton Library\, Knighton Community Centre\, Knighton\, LD7 1DR
ATTACH;FMTTYPE=image/jpeg:https://storipowys.org.uk/wp-content/uploads/2025/06/Screenshot-2025-06-03-155141-1.jpg
ORGANIZER;CN="Llyfrgell Tref-y-Clawdd / Knighton Library":MAILTO:knighlib@powys.gov.uk
END:VEVENT
BEGIN:VEVENT
DTSTART;TZID=UTC:20250626T120000
DTEND;TZID=UTC:20250626T140000
DTSTAMP:20260423T160817
CREATED:20250609T103503Z
LAST-MODIFIED:20250609T104139Z
UID:10013670-1750939200-1750946400@storipowys.org.uk
SUMMARY:Grŵp Gwehyddu
DESCRIPTION:Ymunwch â ni i fwynhau gwau gyda sgwrs. Mae peiriannau gwnïo ar gael.
URL:https://storipowys.org.uk/event/sewing-group-2/2025-06-26/?lang=cy
LOCATION:Llyfrgell Ystradgynlais Library
ATTACH;FMTTYPE=image/png:https://storipowys.org.uk/wp-content/uploads/2024/12/sewing-photo-for-StP.png
ORGANIZER;CN="Llyfrgell Ystradgynlais Library":MAILTO:ystrad.library@powys.gov.uk
END:VEVENT
BEGIN:VEVENT
DTSTART;TZID=UTC:20250626T110000
DTEND;TZID=UTC:20250626T130000
DTSTAMP:20260423T160817
CREATED:20250609T104234Z
LAST-MODIFIED:20250609T104341Z
UID:10014191-1750935600-1750942800@storipowys.org.uk
SUMMARY:Clwb Bridge
DESCRIPTION:Ymunwch ag Andrew Gilbey yn y grŵp bywiog hwn sy’n addas ar gyfer pob lefel o allu\, o ddechreuwyr i chwaraewyr medrus.
URL:https://storipowys.org.uk/event/bridge-club-2/2025-06-26/?lang=cy
LOCATION:Llyfrgell Ystradgynlais Library
ATTACH;FMTTYPE=image/png:https://storipowys.org.uk/wp-content/uploads/2024/12/bridge-photo.png
ORGANIZER;CN="Llyfrgell Ystradgynlais Library":MAILTO:ystrad.library@powys.gov.uk
END:VEVENT
BEGIN:VEVENT
DTSTART;TZID=UTC:20250626T103000
DTEND;TZID=UTC:20250626T120000
DTSTAMP:20260423T160817
CREATED:20250609T104431Z
LAST-MODIFIED:20250609T104530Z
UID:10014712-1750933800-1750939200@storipowys.org.uk
SUMMARY:Coffi a Sgwrs
DESCRIPTION:Trefnir ein boreau coffi cymunedol poblogaidd gan Ffrindiau’r Llyfrgell ac fe’u cynhelir bob dydd Iau 10.30-12.
URL:https://storipowys.org.uk/event/coffee-and-chat-2/2025-06-26/?lang=cy
LOCATION:Llyfrgell Ystradgynlais Library
ATTACH;FMTTYPE=image/png:https://storipowys.org.uk/wp-content/uploads/2024/12/Coffee-and-chat-photo.png
ORGANIZER;CN="Llyfrgell Ystradgynlais Library":MAILTO:ystrad.library@powys.gov.uk
END:VEVENT
END:VCALENDAR