BEGIN:VCALENDAR
VERSION:2.0
PRODID:-//Powys - ECPv6.15.20//NONSGML v1.0//EN
CALSCALE:GREGORIAN
METHOD:PUBLISH
X-WR-CALNAME:Powys
X-ORIGINAL-URL:https://storipowys.org.uk/?lang=cy
X-WR-CALDESC:Events for Powys
REFRESH-INTERVAL;VALUE=DURATION:PT1H
X-Robots-Tag:noindex
X-PUBLISHED-TTL:PT1H
BEGIN:VTIMEZONE
TZID:UTC
BEGIN:STANDARD
TZOFFSETFROM:+0000
TZOFFSETTO:+0000
TZNAME:UTC
DTSTART:20240101T000000
END:STANDARD
END:VTIMEZONE
BEGIN:VEVENT
DTSTART;TZID=UTC:20250715T173000
DTEND;TZID=UTC:20250715T183000
DTSTAMP:20260423T091505
CREATED:20250115T125727Z
LAST-MODIFIED:20250326T141731Z
UID:10005179-1752600600-1752604200@storipowys.org.uk
SUMMARY:MPYT Bach - Theatre Ieuenctid\, 10-13 oed
DESCRIPTION:5.30-6.30pm nos Fawrth drwy gydol y tymor \nAddas i blant 10-13 oed \nGostyngiad i £60 y tymor (ychydig dros £5 y sesiwn – mae gostyngiadau i frodyr a chwiorydd yn berthnasol) \nMae’r grŵp hwn wedi’i anelu at bobl ifanc yn eu harddegau ond mae’n cael ei lywio gan yr un gwerthoedd ac ethos â grŵp mawr Theatr Ieuenctid Canol Powys. \nMae Theatr Ieuenctid Canol Powys yn fan lle mae’r dychymyg yn dod yn fyw. Dyma lle mae cyfeillgarwch yn cael ei eni\, ac unigolion unigryw yn dod ynghyd i greu rhywbeth hudolus. \nCewch gyfle i ddod o hyd i’ch llais—dysgu’r hyn yr ydych yn ei feddwl\, pwy ydych chi\, a ble yr ydych am berthyn yn y byd. Mae’n lle i ofyn cwestiynau mawr bywyd a nodi’r atebion gyda’n gilydd. Mae’n lle i deimlo llawenydd\, a chael hwyl. \nMae Theatr Ieuenctid Canol Powys yn lle diogel i fod yn feiddgar\, i gymryd risgiau\, gwthio i’r ymylon a darganfod gwedd newydd o’ch hunan. \nO fis Ionawr i fis Gorffennaf bydd y grŵp yn cael ei arwain gan wneuthurwyr theatr profiadol: \nTamar Williams\, storïwr dwyieithog arobryn a Bethan Dear\, cyfarwyddwr a gwneuthurwr theatr gydag 20+ blwyddyn o brofiad yn gweithio yng Nghymru a Llundain. \nBydd Tamar a Bethan yn gweithio ochr yn ochr ag arweinwyr ifanc grŵp Theatr Ieuenctid Canol Powys+ sydd wedi bod yn aelodau eu hunain\, wedi bod i ffwrdd i wneud gradd mewn perfformio ac sydd bellach wedi dod yn ôl ac sy’n dysgu’r sgiliau sydd eu hangen arnynt i fod yn arweinwyr gweithdai gwych ar gyfer y genhedlaeth nesaf o fynychwyr Theatr Ieuenctid Canol Powys. \nNeu cysylltwch â ni am ragor o wybodaeth. \nAnfonwch neges i hello@mpyt.co.uk. \nCelf O Gwmpas\, Llandrindod\, LD1 5EB
URL:https://storipowys.org.uk/event/mpyt-bach-theatre-ieuenctid-10-13-oed/2025-07-15/?lang=cy
LOCATION:Mid Powys Youth Theatre\, Celf O Gwmpas\, Tremont Road\, Llandrindod Wells\, LD1 5EB\, United Kingdom
ATTACH;FMTTYPE=image/png:https://storipowys.org.uk/wp-content/uploads/2025/01/about-sessions-03-2.png
ORGANIZER;CN="Mid Powys Youth Theatre":MAILTO:hello@mpyt.co.uk
END:VEVENT
BEGIN:VEVENT
DTSTART;TZID=UTC:20250715T160000
DTEND;TZID=UTC:20250715T193000
DTSTAMP:20260423T091506
CREATED:20250528T112355Z
LAST-MODIFIED:20250528T112355Z
UID:10011869-1752595200-1752607800@storipowys.org.uk
SUMMARY:The Performance Factory Stage School
DESCRIPTION:Dechrau perffaith i’r celfyddydau perfformio! \nDydd Mawrth\n4.15yp – 5.15yp:  Oedrannau 3-6\n5.15yp – 7.15yp: Oedrannau 7+
URL:https://storipowys.org.uk/event/the-performance-factory-stage-school/2025-07-15/?lang=cy
LOCATION:The Welfare Ystradgynlais Y Neuadd Les\, Brecon Rd\, Ystradgynlais\, Swansea\, SA9 1JJ\, United Kingdom
ATTACH;FMTTYPE=image/jpeg:https://storipowys.org.uk/wp-content/uploads/2025/05/124027951_3857489414296447_387030462166457355_n-2.jpg
ORGANIZER;CN="The Welfare Ystradgynlais":MAILTO:boxoffice@thewelfare.co.uk
END:VEVENT
BEGIN:VEVENT
DTSTART;TZID=UTC:20250715T153000
DTEND;TZID=UTC:20250715T163000
DTSTAMP:20260423T091506
CREATED:20250711T105109Z
LAST-MODIFIED:20250711T105109Z
UID:10017616-1752593400-1752597000@storipowys.org.uk
SUMMARY:Clwb Gwyddbwyll
DESCRIPTION:Addas ar gyfer chwaraewyr sy’n ddechreuwyr a rhai profiadol o bob oed
URL:https://storipowys.org.uk/event/clwb-gwyddbwyll/2025-07-15/?lang=cy
LOCATION:Ystradgynlais Library\, Temperance Lane\, SA9 1JP
ATTACH;FMTTYPE=image/jpeg:https://storipowys.org.uk/wp-content/uploads/2025/07/2.jpg
ORGANIZER;CN="Ystradgynlais Library / LLyfrgell Ystradygnlais":MAILTO:ystrad.library@powys.gov.uk
END:VEVENT
BEGIN:VEVENT
DTSTART;TZID=UTC:20250715T103000
DTEND;TZID=UTC:20250715T123000
DTSTAMP:20260423T091506
CREATED:20250528T101159Z
LAST-MODIFIED:20250528T112130Z
UID:10012109-1752575400-1752582600@storipowys.org.uk
SUMMARY:Caffi Crefftus
DESCRIPTION:Ymunwch â’n hartistiaid cymunedol am sesiwn grefftau gyda phaned.\nGwerthfawrogir cyfraniad pawb\, nid oes angen profiad. \nPob Dydd Mawrth | 10.30yb – 12.30yp\n£4 y sesiwn | Gofalwyr Am Ddim
URL:https://storipowys.org.uk/event/caffi-crefftus/2025-07-15/?lang=cy
LOCATION:The Welfare Ystradgynlais Y Neuadd Les\, Brecon Rd\, Ystradgynlais\, Swansea\, SA9 1JJ\, United Kingdom
ATTACH;FMTTYPE=image/jpeg:https://storipowys.org.uk/wp-content/uploads/2025/05/brush-96240_1280-1-1140x500-1.jpg
ORGANIZER;CN="The Welfare Ystradgynlais":MAILTO:boxoffice@thewelfare.co.uk
END:VEVENT
BEGIN:VEVENT
DTSTART;TZID=UTC:20250715T100000
DTEND;TZID=UTC:20250715T120000
DTSTAMP:20260423T091506
CREATED:20250609T102810Z
LAST-MODIFIED:20250609T103017Z
UID:10012574-1752573600-1752580800@storipowys.org.uk
SUMMARY:Sesiwn Galw Heibio Wcreinaidd
DESCRIPTION:Fsesiynau cyfeillgar ble fydd tîm Powys ar gael i ddarparu cymorth\, gwybodaeth ac ateb unrhyw gwestiynau. \nGyda Nathan Gittins.
URL:https://storipowys.org.uk/event/ukrainian-drop-in/2025-07-15/?lang=cy
LOCATION:Llyfrgell Llandrindod Library\, Radnorshire Museum\, Temple Street\, Llandrinod Wells\, Powys\, LD1 5DL\, United Kingdom
ATTACH;FMTTYPE=image/png:https://storipowys.org.uk/wp-content/uploads/2025/06/ukraine.png
ORGANIZER;CN="Llyfrgell Llandrindod Library":MAILTO:llandrindod.library@powys.gov.uk
END:VEVENT
BEGIN:VEVENT
DTSTART;TZID=UTC:20250714T140000
DTEND;TZID=UTC:20250714T160000
DTSTAMP:20260423T091506
CREATED:20250609T141251Z
LAST-MODIFIED:20250609T141406Z
UID:10015242-1752501600-1752508800@storipowys.org.uk
SUMMARY:Gweu A Sgwrs\, Crosio A Siarad
DESCRIPTION:Grŵp cyfeillgar o bobl yn gwau a chrosio amrywiaeth o eitemau o flancedi i siwmperi \nNi chodir tâl i fynychu.
URL:https://storipowys.org.uk/event/knit-natter-crochet-chatter-2/2025-07-14/?lang=cy
LOCATION:Llyfrgell Rhaeadr / Rhayader Library\, West Street\, Rhayader\, LD6 5DS
ATTACH;FMTTYPE=image/jpeg:https://storipowys.org.uk/wp-content/uploads/2025/01/Screenshot_6-1-2025_143423_rhayader.co_.uk_.jpeg
ORGANIZER;CN="Llyfrgell Rhaeadr / Rhayader Library":MAILTO:rhayader.library@powys.gov.uk
END:VEVENT
BEGIN:VEVENT
DTSTART;TZID=UTC:20250714T140000
DTEND;TZID=UTC:20250714T160000
DTSTAMP:20260423T091506
CREATED:20250609T103814Z
LAST-MODIFIED:20250609T104104Z
UID:10013412-1752501600-1752508800@storipowys.org.uk
SUMMARY:Grŵp Ffynde
DESCRIPTION:Ymunwch â ni i fwynhau plethu gyda sgwrs. Mae peiriannau plethu ar gael.Mae te a choffi ar gael hefyd!
URL:https://storipowys.org.uk/event/patchwork-group-dec-24-3/2025-07-14/?lang=cy
LOCATION:Llyfrgell Ystradgynlais Library
ATTACH;FMTTYPE=image/jpeg:https://storipowys.org.uk/wp-content/uploads/2024/11/patchwork.jpg
ORGANIZER;CN="Llyfrgell Ystradgynlais Library":MAILTO:ystrad.library@powys.gov.uk
END:VEVENT
BEGIN:VEVENT
DTSTART;TZID=UTC:20250714T140000
DTEND;TZID=UTC:20250714T150000
DTSTAMP:20260423T091506
CREATED:20250205T155212Z
LAST-MODIFIED:20251110T115910Z
UID:10006647-1752501600-1752505200@storipowys.org.uk
SUMMARY:Sesiynau jamio gitâr
DESCRIPTION:Chwarae’r gitâr?\nEisiau jamio gyda gitarwyr eraill?\nDewch â’ch gitâr a/neu’ch llais\, bob Dydd Llun 2-3!\nCroeso i bob gallu.
URL:https://storipowys.org.uk/event/sesiynau-jamio-gitar/2025-07-14/?lang=cy
LOCATION:Llyfrgell Ystradgynlais Library
ATTACH;FMTTYPE=image/png:https://storipowys.org.uk/wp-content/uploads/2025/02/GUITAR.png
ORGANIZER;CN="Ystradgynlais Library":MAILTO:ystrad.library@powys.gov.uk
END:VEVENT
BEGIN:VEVENT
DTSTART;TZID=UTC:20250714T110000
DTEND;TZID=UTC:20250714T113000
DTSTAMP:20260423T091506
CREATED:20250613T134113Z
LAST-MODIFIED:20250613T134337Z
UID:10015893-1752490800-1752492600@storipowys.org.uk
SUMMARY:Amser Stori
DESCRIPTION:Bob Dydd Llun
URL:https://storipowys.org.uk/event/storytime-2/2025-07-14/?lang=cy
LOCATION:Hay on Wye Library\, Oxford Road\, Hay on Wye\, HR3 5BT
ATTACH;FMTTYPE=image/jpeg:https://storipowys.org.uk/wp-content/uploads/2025/06/Screenshot_13-6-2025_144057_.jpeg
ORGANIZER;CN="y Gaer":MAILTO:ygaer@powys.gov.uk
END:VEVENT
BEGIN:VEVENT
DTSTART;TZID=UTC:20250714T101500
DTEND;TZID=UTC:20250714T110000
DTSTAMP:20260423T091506
CREATED:20241206T143703Z
LAST-MODIFIED:20241216T163654Z
UID:10003542-1752488100-1752490800@storipowys.org.uk
SUMMARY:Amser stori gyda Sammi
DESCRIPTION:Caneuon\, rhigymau a straeon i blant oed cyn-ysgol (a’u rhieni/gofalwyr). \nGyda Sammi Orme.
URL:https://storipowys.org.uk/event/amser-stori-gyda-sammi-llanidloes-jan-25/2025-07-14/?lang=cy
LOCATION:Llyfrgell Llanidloes / Llanidloes Library\, Great Oak Street\, Llanidloes\, SY18 6BN
ATTACH;FMTTYPE=image/jpeg:https://storipowys.org.uk/wp-content/uploads/2024/12/Storytime_With_Sammi.jpg
ORGANIZER;CN="Llfrygell Llanidloes Library":MAILTO:llanidloes.library@powys.gov.uk
END:VEVENT
BEGIN:VEVENT
DTSTART;TZID=UTC:20250713T170000
DTEND;TZID=UTC:20250713T200000
DTSTAMP:20260423T091506
CREATED:20250205T155121Z
LAST-MODIFIED:20250212T142133Z
UID:10006886-1752426000-1752436800@storipowys.org.uk
SUMMARY:Cyngerdd Blynyddol yr Ardd yng Ngregynog
DESCRIPTION:Cyngerdd awyr agored gydag Opera Canolbarth Cymru. Cadw’r dyddiad!
URL:https://storipowys.org.uk/event/14702/?lang=cy
LOCATION:Neuadd Gregynog Hall\, Tregynon\, Newtown\, SY16 3PL\, United Kingdom
ATTACH;FMTTYPE=image/jpeg:https://storipowys.org.uk/wp-content/uploads/2025/02/IMG_8876-scaled.jpeg
ORGANIZER;CN="Mid Wales Opera":MAILTO:admin@midwalesopera.co.uk
END:VEVENT
BEGIN:VEVENT
DTSTART;TZID=UTC:20250712T193000
DTEND;TZID=UTC:20250712T220000
DTSTAMP:20260423T091506
CREATED:20250623T095244Z
LAST-MODIFIED:20250623T095552Z
UID:10017152-1752348600-1752357600@storipowys.org.uk
SUMMARY:Marw ar Gyfnod: Stori ofnadwy wedi'i lleoli yng Nghyfnod y Theatr
DESCRIPTION:Mae ‘Dead on Cue’ gan Mark Carey yn gêl weledigaeth unig ddyn sydd â chrefydd a theip arweinydd\, gan gyfuno elfennau o gyffro\, arswyd\, a dramâu. Mae ei bennod unigryw\, naratif deniadol\, a chynulleidfaoedd rhagorol yn ei gwneud yn orfodol i unrhyw un sy’n mwynhau dirgelwch da gyda thro cyfreithiol. \nMae’r syniad unigryw o ‘Dead on Cue’ yn ysgafnhau gyda dwy berfformiad o ‘Hamlet’ gan Shakespeare\, a sefydlwyd 65 mlynedd ar wahân\, yn 1958 a 2023. Mae’r frawddeg “mae amser wedi’i ddarnio” yn mynd yn gyffrous yn llythrennol wrth i ddigwyddiadau rhyfedd a methu â’u hegluro ymddangos yn ymddangos yn yr oblygiadau amserol. Mae Mark Carey yn gwehyddu’r ddwy naratif hyn gyda’i gymeriad yn y cyfnod diweddarach\, Hamish Fife\, yn ceisio darganfod diflaniad dirgel yr is-gynyrchydd ar noswaith agoriadol Hamlet. Mae ‘Dead on Cue’ yn orlwr o weithredoedd i Carey\, wedi iddo ysgrifennu’r ddrama\, cymryd yr holl rolau\, a dylunio’r effeithiau arbennig dychrynllyd. \nMae’n brofiad sy’n gadael argraff barhaol\, gan ddod â chymeriadau cymhleth Carey i fyw ac yn creu awyrgylch sych sy’n gadael y gynulleidfa’n hunan-dynod.
URL:https://storipowys.org.uk/event/16745/?lang=cy
LOCATION:Clyro Village Hall\, The Village\, Clyro\, HR3 5SA\, United Kingdom
ATTACH;FMTTYPE=image/png:https://storipowys.org.uk/wp-content/uploads/2025/06/Dead-on-Cue-Facebook-Post.png
ORGANIZER;CN="Clyro Hall Committee":MAILTO:clyrohallcommittee@gmail.com
END:VEVENT
BEGIN:VEVENT
DTSTART;TZID=UTC:20250712T190000
DTEND;TZID=UTC:20250712T210000
DTSTAMP:20260423T091506
CREATED:20250226T142156Z
LAST-MODIFIED:20250226T142156Z
UID:10007379-1752346800-1752354000@storipowys.org.uk
SUMMARY:Yr Ysgol Nos
DESCRIPTION:Yr Ysgol Nos
URL:https://storipowys.org.uk/event/yr-ysgol-nos/?lang=cy
LOCATION:Willow Globe\, Penanole LLanwrthyl\, LLANDRINDOD WELLS\, LD1 6NN
ATTACH;FMTTYPE=image/jpeg:https://storipowys.org.uk/wp-content/uploads/2025/02/SchlNight-1.jpg
ORGANIZER;CN="Shakespeare Link":MAILTO:info@shakespearelink.org.uk
END:VEVENT
BEGIN:VEVENT
DTSTART;TZID=UTC:20250712T190000
DTEND;TZID=UTC:20250712T210000
DTSTAMP:20260423T091506
CREATED:20250110T095618Z
LAST-MODIFIED:20250110T095618Z
UID:10004891-1752346800-1752354000@storipowys.org.uk
SUMMARY:The School Of Night
DESCRIPTION:Dwy flynedd ar hugain yn ôl\, ymddangosodd Ysgol y Nos am y tro cyntaf yn Globe Shakespeare yn Llundain. Ers hynny\, mae ei chyfuniad unigryw o fyrfyfyrio llenyddol wedi’i weld ledled y DU (National Theatre\, Llyfrgell Brydeinig\, Gŵyl y Gelli\, Latitude ac Caeredin) ac ymhellach i ffwrdd (yn yr UD\, Malaysia ac ar draws Ewrop) yn ogystal ag ymddangos ar lawer o raglenni radio\, gan gynnwys The Verb ar BBC Radio. \nAc wrth gwrs\, BUM mlynedd yn ôl fe wnaethom ymddangos am y tro cyntaf yng nghanolfan Shakespeare flaenllaw Cymru! Rydym wrth ein bodd i fod yn ôl unwaith eto\, yn perfformio gwaith newydd gan Shakespeare ac eraill a alwyd i fodolaeth o’r dim! \n‘Peidiwch byth â ymddiried mewn dyn\, pan gaiff ei adael ar ei ben ei hun mewn ystafell gyda choesyn te\, nad yw’n rhoi cynnig arno.’ Billy Connolly
URL:https://storipowys.org.uk/event/the-school-of-night/?lang=cy
LOCATION:Willow Globe\, Penanole LLanwrthyl\, LLANDRINDOD WELLS\, LD1 6NN
ATTACH;FMTTYPE=image/jpeg:https://storipowys.org.uk/wp-content/uploads/2025/01/1000031694-1.jpg
ORGANIZER;CN="Shakespeare Link":MAILTO:info@shakespearelink.org.uk
END:VEVENT
BEGIN:VEVENT
DTSTART;TZID=UTC:20250711T110000
DTEND;TZID=UTC:20250711T120000
DTSTAMP:20260423T091506
CREATED:20250305T122312Z
LAST-MODIFIED:20251124T120334Z
UID:10009979-1752231600-1752235200@storipowys.org.uk
SUMMARY:Grŵp Canu Rootlets
DESCRIPTION:Rootlets yn grŵp canu “dewch â’ch babi eich hun” sy’n cwrdd bob wythnos yn\nystod y tymor yn ystafell John Edwards yn Y Plas\, Machynlleth ar fore Gwener o 11-12.\nMae croeso i bob gofalwr a phob oedran o blant.\nArchebu yn hanfodol.\nRhaid i bob oedolyn fod yng nghwmni plentyn.\nBwriedir i archebion fod ar gyfer teuluoedd: gallwch archebu bloc a newid yr oedolyn\nsy’n dod gyda’r plentyn bob tro (hefyd yn iawn i’r ddau riant/gofalwr fynychu gydag un\nplentyn).\nGallwch hefyd ddod â brodyr a chwiorydd yn rhad ac am ddim.\nOs ydych chi’n rhannu gofal plant gyda ffrindiau ac eisiau dod â phlant o fwy nag un\nteulu\, mae hynny’n iawn hefyd\, cyn belled â’ch bod chi’n gallu gofalu am yr holl blant\nrydych chi’n dod â nhw gyda chi’n gyfrifol ac yn ddibynadwy.\nDylai pob plentyn o deulu ar wahân gael archebu ar wahân.\nRwy’n argymell cymhareb o 1 oedolyn i 2 blentyn os yw’r ddau o dan 4 oed. I ddod draw\,\narchebwch floc hanner tymor.
URL:https://storipowys.org.uk/event/grwp-canu-rootlets/2025-07-11/?lang=cy
LOCATION:Y Plas\, Pentrerhedyn St\, Machynlleth\, SY20 8ER
ATTACH;FMTTYPE=image/png:https://storipowys.org.uk/wp-content/uploads/2025/02/Square-website-images.zip-6.png
ORGANIZER;CN="Ruth Gordon":MAILTO:Rootedvoiceschoir@gmail.com
END:VEVENT
BEGIN:VEVENT
DTSTART;TZID=UTC:20250711T103000
DTEND;TZID=UTC:20250711T110000
DTSTAMP:20260423T091506
CREATED:20250609T094840Z
LAST-MODIFIED:20250609T094840Z
UID:10012238-1752229800-1752231600@storipowys.org.uk
SUMMARY:Amser Stori
DESCRIPTION:Straeon\, caneuon a rhigymau i blant oed cyn-ysgol (a’u rhieni/gofalwyr).
URL:https://storipowys.org.uk/event/amser-stori/2025-07-11/?lang=cy
LOCATION:Builth Wells Library\, Antur Gwy\, Park Road\, Builth Wells\, LD2 3BA
ATTACH;FMTTYPE=image/jpeg:https://storipowys.org.uk/wp-content/uploads/2025/06/Storytime-2-1.jpg
END:VEVENT
BEGIN:VEVENT
DTSTART;TZID=UTC:20250710T190000
DTEND;TZID=UTC:20250710T210000
DTSTAMP:20260423T091506
CREATED:20250403T113710Z
LAST-MODIFIED:20251124T120407Z
UID:10009198-1752174000-1752181200@storipowys.org.uk
SUMMARY:Côr Cymunedol Rooted Voices
DESCRIPTION:Ydych chi wrth eich bodd yn canu? Heb ganu ers ysgol ond hoffech roi cynnig arni? \nMae croeso cynnes i chi ddod draw i’n côr cymunedol ar nos Iau (7–9pm) yn y Tabernacl\, MOMA ym Machynlleth. Dan ni yn canolbwyntio ar iechyd y llais\, teimlo’n dda yn ein cyrff ein hunain\, a chanu harmoni. Does dim angen profiad blaenorol o ganu ac mae croeso mawr i gantorion swil! \n£5-15 y sesiwn\, neu £25-75 am floc o 6. Os oes angen i chi dalu llai i allu dod\, cysylltwch â ni.
URL:https://storipowys.org.uk/event/15621/2025-07-10/?lang=cy
LOCATION:St Peter’s church\, St Peter Penrallt Street\, MACHYNLLETH\, SY20 8HE
ATTACH;FMTTYPE=image/jpeg:https://storipowys.org.uk/wp-content/uploads/2025/04/4.jpg
ORGANIZER;CN="Ruth Gordon":MAILTO:Rootedvoiceschoir@gmail.com
END:VEVENT
BEGIN:VEVENT
DTSTART;TZID=UTC:20250710T180000
DTEND;TZID=UTC:20250710T203000
DTSTAMP:20260423T091506
CREATED:20250113T102342Z
LAST-MODIFIED:20250205T161043Z
UID:10004820-1752170400-1752179400@storipowys.org.uk
SUMMARY:Grŵp cymdeithasol celf
DESCRIPTION:Mae Art Social Group ar gyfer artistiaid a phobl greadigol. Ein nod yw lleddfu unigedd drwy ddarparu lle i artistiaid ac unigolion creadigol ddod at ei gilydd\, creu celf\, cymdeithasu a chreu cysylltiadau newydd. Mae’r grŵp o allu cymysg\, a darperir yr holl adnoddau. Mae’r grŵp yn rhedeg o Ganolfan Integredig Teuluoedd y Trallwng bob pythefnos\, ar nos Iau\, rhwng 6-8:30pm. £15 y sesiwn i dalu am logi ystafell a deunyddiau.
URL:https://storipowys.org.uk/event/13761/2025-07-10/?lang=cy
LOCATION:Welshpool Integrated Family Centre\, Oldford Close\, Welshpool\, SY21 7SX
ATTACH;FMTTYPE=image/png:https://storipowys.org.uk/wp-content/uploads/2025/01/welshppol-art-group.png
ORGANIZER;CN="Jain Downing":MAILTO:welshpoolcreativearts@gmail.com
END:VEVENT
BEGIN:VEVENT
DTSTART;TZID=UTC:20250710T120000
DTEND;TZID=UTC:20250710T140000
DTSTAMP:20260423T091506
CREATED:20250609T103503Z
LAST-MODIFIED:20250609T104139Z
UID:10013672-1752148800-1752156000@storipowys.org.uk
SUMMARY:Grŵp Gwehyddu
DESCRIPTION:Ymunwch â ni i fwynhau gwau gyda sgwrs. Mae peiriannau gwnïo ar gael.
URL:https://storipowys.org.uk/event/sewing-group-2/2025-07-10/?lang=cy
LOCATION:Llyfrgell Ystradgynlais Library
ATTACH;FMTTYPE=image/png:https://storipowys.org.uk/wp-content/uploads/2024/12/sewing-photo-for-StP.png
ORGANIZER;CN="Llyfrgell Ystradgynlais Library":MAILTO:ystrad.library@powys.gov.uk
END:VEVENT
BEGIN:VEVENT
DTSTART;TZID=UTC:20250710T110000
DTEND;TZID=UTC:20250710T130000
DTSTAMP:20260423T091506
CREATED:20250609T104234Z
LAST-MODIFIED:20250609T104341Z
UID:10014193-1752145200-1752152400@storipowys.org.uk
SUMMARY:Clwb Bridge
DESCRIPTION:Ymunwch ag Andrew Gilbey yn y grŵp bywiog hwn sy’n addas ar gyfer pob lefel o allu\, o ddechreuwyr i chwaraewyr medrus.
URL:https://storipowys.org.uk/event/bridge-club-2/2025-07-10/?lang=cy
LOCATION:Llyfrgell Ystradgynlais Library
ATTACH;FMTTYPE=image/png:https://storipowys.org.uk/wp-content/uploads/2024/12/bridge-photo.png
ORGANIZER;CN="Llyfrgell Ystradgynlais Library":MAILTO:ystrad.library@powys.gov.uk
END:VEVENT
BEGIN:VEVENT
DTSTART;TZID=UTC:20250710T103000
DTEND;TZID=UTC:20250710T120000
DTSTAMP:20260423T091506
CREATED:20250609T104431Z
LAST-MODIFIED:20250609T104530Z
UID:10014714-1752143400-1752148800@storipowys.org.uk
SUMMARY:Coffi a Sgwrs
DESCRIPTION:Trefnir ein boreau coffi cymunedol poblogaidd gan Ffrindiau’r Llyfrgell ac fe’u cynhelir bob dydd Iau 10.30-12.
URL:https://storipowys.org.uk/event/coffee-and-chat-2/2025-07-10/?lang=cy
LOCATION:Llyfrgell Ystradgynlais Library
ATTACH;FMTTYPE=image/png:https://storipowys.org.uk/wp-content/uploads/2024/12/Coffee-and-chat-photo.png
ORGANIZER;CN="Llyfrgell Ystradgynlais Library":MAILTO:ystrad.library@powys.gov.uk
END:VEVENT
BEGIN:VEVENT
DTSTART;TZID=UTC:20250710T093000
DTEND;TZID=UTC:20250710T110000
DTSTAMP:20260423T091506
CREATED:20250226T142244Z
LAST-MODIFIED:20250226T142244Z
UID:10007214-1752139800-1752145200@storipowys.org.uk
SUMMARY:Grŵp Y Ffrindiau Digidol
DESCRIPTION:Man diogel lle gall oedolyn hŷn dod i’r arfer â thecnoleg gyda’ igilydd.
URL:https://storipowys.org.uk/event/grwp-y-ffrindiau-digidol/2025-07-10/?lang=cy
LOCATION:Newtown Library/Llyfrgell y Drenewydd\, Park Lane\, Newtown\, SY16 1EJ
ATTACH;FMTTYPE=image/png:https://storipowys.org.uk/wp-content/uploads/2025/02/Digital-Friends-1.png
ORGANIZER;CN="Newtown Library":MAILTO:newtown.library@powys.gov.uk
END:VEVENT
BEGIN:VEVENT
DTSTART;TZID=UTC:20250710T060000
DTEND;TZID=UTC:20250710T203000
DTSTAMP:20260423T091506
CREATED:20250409T151955Z
LAST-MODIFIED:20250409T151955Z
UID:10011251-1752127200-1752179400@storipowys.org.uk
SUMMARY:
DESCRIPTION:
URL:https://storipowys.org.uk/event/15685/2025-07-10/?lang=cy
LOCATION:The Youth & Community Centre (RDC)\, Llanfyllin
ATTACH;FMTTYPE=image/png:https://storipowys.org.uk/wp-content/uploads/2025/04/lyac-facebok-banner-25.png
ORGANIZER;CN="Arts Connection - Cyswllt Celf":MAILTO:sian@artsconnection.org.uk
END:VEVENT
BEGIN:VEVENT
DTSTART;TZID=UTC:20250709T163000
DTEND;TZID=UTC:20250709T180000
DTSTAMP:20260423T091506
CREATED:20250528T101144Z
LAST-MODIFIED:20250528T101144Z
UID:10011748-1752078600-1752084000@storipowys.org.uk
SUMMARY:Dawns Solar
DESCRIPTION:Mae Solar Dance\, a sefydlwyd ym 1994\, yn cynnig ystod eang o ddosbarthiadau dawns hwyliog i blant 4 oed a hŷn.\nGydag amrywiaeth o arddulliau dawns i’w harchwilio\, mae pob myfyriwr yn cael y cyfle i fod yn ‘Seren Solar!’ \nBob dydd Mercher: 4.30pm – 6pm\n4+ oed
URL:https://storipowys.org.uk/event/dawns-solar/2025-07-09/?lang=cy
LOCATION:The Welfare Ystradgynlais Y Neuadd Les\, Brecon Rd\, Ystradgynlais\, Swansea\, SA9 1JJ\, United Kingdom
ATTACH;FMTTYPE=image/jpeg:https://storipowys.org.uk/wp-content/uploads/2025/05/45271545_2005380566213227_2904708570085851136_n.jpg
ORGANIZER;CN="The Welfare Ystradgynlais":MAILTO:boxoffice@thewelfare.co.uk
END:VEVENT
BEGIN:VEVENT
DTSTART;TZID=UTC:20250709T160000
DTEND;TZID=UTC:20250709T180000
DTSTAMP:20260423T091506
CREATED:20250711T132758Z
LAST-MODIFIED:20250714T101904Z
UID:10017199-1752076800-1752084000@storipowys.org.uk
SUMMARY:Clwb Gwyddbwyll
DESCRIPTION:Clwb gwyddbwyll yn llyfrgell ac amgueddfa Llanidloes \nCroeso i bob oed a phob lefel o allu.\nRhaid i blant dan 8 oed fod yng nghwmni oedolyn.
URL:https://storipowys.org.uk/event/clwb-gwyddbwyll-2/2025-07-09/?lang=cy
LOCATION:Llanidloes library and musuem\, Town Hall\, Llanidloes\, SY18 6BN
ATTACH;FMTTYPE=image/jpeg:https://storipowys.org.uk/wp-content/uploads/2025/07/girls-playing-chess-together-home_738298-151.jpg
ORGANIZER;CN="Llanidloes library and museum":MAILTO:llanidloes.library@powys.gov.uk
END:VEVENT
BEGIN:VEVENT
DTSTART;TZID=UTC:20250709T150000
DTEND;TZID=UTC:20250709T163000
DTSTAMP:20260423T091506
CREATED:20250528T112806Z
LAST-MODIFIED:20250609T100031Z
UID:10011665-1752073200-1752078600@storipowys.org.uk
SUMMARY:Tynnu lluniau yn y Gaer
DESCRIPTION:Ymunwch â grŵp tynnu lluniau newydd y Gaer\, yn cychwyn ar 4 Mehefin\, i rannu syniadau\, sgiliau\, sgwrs ac anogaeth tra’n cael eich ysbrydoli gan eitemau o gasgliadau gwych y Gaer. Gan gwrdd yn yr Atriwm\, byddwn yn mynd i’r Amgueddfa a’r Orielau Celf am awr o dynnu lluniau cyn mynd i fyny i’r Ystafell Dysgu Creadigol i rannu ein gwaith a thrafod y sesiwn. Mae croeso i bob gallu; Y peth pwysicaf yw bod gennych chi angerdd tuag at dynnu lluniau! \nNoder\, mae Tynnu Lluniau yn y Gaer yn grŵp tynnu lluniau ar y cyd ac nid yw’r sesiwn yn cynnwys tiwtora. Mae cadeiriau/stolion i’w defnyddio yn yr amgueddfa ar gael yn ôl yr angen. \nRhestr Deunyddiau (na ddarperir) \nLlyfr Braslunio / Papur \nPensil \nHygyrchedd \nRydym am i’n holl ymwelwyr deimlo bod croeso yn y Gaer\, felly rhowch wybod i ni wrth archebu os oes gennych unrhyw anghenion hygyrchedd y dylai ein gwirfoddolwyr neu’n staff fod yn ymwybodol ohonynt.
URL:https://storipowys.org.uk/event/tynnu-lluniau-yn-y-gaer/2025-07-09/?lang=cy
LOCATION:y Gaer Brecon Library\, Museum and Art Gallery / y Gaer Aberhonddu Llyfyrgell\, Amgueddfa a Oriel Gelf\, y Gaer\, Glamorgan Street\, Brecon\, LD3 7DW
ATTACH;FMTTYPE=image/jpeg:https://storipowys.org.uk/wp-content/uploads/2025/05/website-version.jpg
ORGANIZER;CN="y Gaer":MAILTO:ygaer@powys.gov.uk
END:VEVENT
BEGIN:VEVENT
DTSTART;TZID=UTC:20250709T140000
DTEND;TZID=UTC:20250709T170000
DTSTAMP:20260423T091506
CREATED:20250127T103315Z
LAST-MODIFIED:20250129T142305Z
UID:10004994-1752069600-1752080400@storipowys.org.uk
SUMMARY:Clwb Gwyddbwyll
DESCRIPTION:
URL:https://storipowys.org.uk/event/14032/2025-07-09/?lang=cy
LOCATION:Llyfrgell Machynlleth / Machynlleth Library\, Maengwyn Street\, Machynlleth\, S20 8DY
ATTACH;FMTTYPE=image/png:https://storipowys.org.uk/wp-content/uploads/2025/01/Orange-and-Black-Chess-Club-Instagram-Post-2.png
END:VEVENT
BEGIN:VEVENT
DTSTART;TZID=UTC:20250709T133000
DTEND;TZID=UTC:20250709T150000
DTSTAMP:20260423T091506
CREATED:20250528T101154Z
LAST-MODIFIED:20250528T101154Z
UID:10011988-1752067800-1752073200@storipowys.org.uk
SUMMARY:Nexus Arts
DESCRIPTION:Celfyddydau Perfformio a Chreadigol i Bawb\nDrama\, dawns a chelfyddydau gweledol ar gyfer grŵp integredig o oedolion ac oedolion ag anableddau dysgu. \nPob Dydd Mercher 1.30 – 3pm\n£5 y sesiwn\, Gofalwyr am ddim
URL:https://storipowys.org.uk/event/nexus-arts/2025-07-09/?lang=cy
LOCATION:The Welfare Ystradgynlais Y Neuadd Les\, Brecon Rd\, Ystradgynlais\, Swansea\, SA9 1JJ\, United Kingdom
ATTACH;FMTTYPE=image/jpeg:https://storipowys.org.uk/wp-content/uploads/2025/05/2jzeSqBw-1.jpeg
ORGANIZER;CN="The Welfare Ystradgynlais":MAILTO:boxoffice@thewelfare.co.uk
END:VEVENT
BEGIN:VEVENT
DTSTART;TZID=UTC:20250709T101500
DTEND;TZID=UTC:20250709T123000
DTSTAMP:20260423T091506
CREATED:20250122T145303Z
LAST-MODIFIED:20250331T142332Z
UID:10005476-1752056100-1752064200@storipowys.org.uk
SUMMARY:Clwb Celf
DESCRIPTION:Grŵp croesawgar ar gyfer pob gallu a chariadon celf. Bob wythnos byddwch yn cael rhai syniadau a thechnegau prosiect i roi cynnig arnynt\, neu gallwch ddefnyddio’r gofod i weithio ar eich prosiectau presennol. Darperir deunyddiau ac offer\, ond mae croeso i chi ddod â’ch deunyddiau eich hun.
URL:https://storipowys.org.uk/event/14172/2025-07-09/?lang=cy
LOCATION:Llyfrgell Ystradgynlais Library\, Temperance Lane\, Swansea\, SA9 1JP
ATTACH;FMTTYPE=image/png:https://storipowys.org.uk/wp-content/uploads/2025/01/Clwb-Celf-4.png
ORGANIZER;CN="Ystradgynlais Library":MAILTO:ystrad.library@powys.gov.uk
END:VEVENT
BEGIN:VEVENT
DTSTART;TZID=UTC:20250708T190000
DTEND;TZID=UTC:20250708T210000
DTSTAMP:20260423T091506
CREATED:20250113T150838Z
LAST-MODIFIED:20250407T143341Z
UID:10010274-1752001200-1752008400@storipowys.org.uk
SUMMARY:MPYT Mawr - Theatr Ieuenctid\, 14-24 oed
DESCRIPTION:7.15 – 8.45pm nos Fawrth drwy gydol y tymor \nAddas i blant 14-24 oed \nGostyngiad i £60 y tymor (ychydig dros £5 y sesiwn – mae gostyngiadau i frodyr a chwiorydd yn berthnasol) \nWeithiau yn yr ysgol\, efallai byddwch yn teimlo’r pwysau i guddio pwy ydych chi go iawn a bod yn rhaid ffitio i mewn. Mae Theatr Ieuenctid Canol Powys yn lle diogel i ddod a bod yn fersiwn fawr (neu fach) (neu fersiynau) o’ch hunaniaeth unigryw gyda phobl a fydd yn eich dathlu am fod yn union hynny. Mae Theatr Ieuenctid Canol Powys yn cynnig ‘cartref’ creadigol cefnogol i chi wrth i chi archwilio eich hun fel oedolyn\, lle byddwch yn cael gwrandawiad a’ch trin yn gyfartal a ble y gallwch ofyn cwestiynau mawr bywyd. Cewch eich annog i archwilio eich hunaniaeth i’r ymylon a’r hyn y gallwch ei wneud gyda ffrindiau cefnogol a’r bobl theatr orau y gallwn gael gafael arnynt. \nDyma’r grŵp theatr ieuenctid craidd; sef gweithdy a sesiwn nos Fawrth sydd wedi bod yn rhedeg ers 1987. \nBeth sy’n dod nesaf? \nO fis Ionawr i fis Gorffennaf 2025 rydym yn gwahodd y storïwr dwyieithog arobryn Tamar Williams i arwain rhai sesiynau a hefyd Bethan Dear sy’n wneutheliwr theatr sydd wedi gweithio yng Nghymru a Llundain ers 20+ o flynyddoedd ac sy’n wych! Bydd ein harweinwyr ifanc dan hyfforddiant: Alice\, Melody a Ben (weithiau pob un ohonynt\, ac weithiau eraill fel Cai ac Ellis) hefyd yn cynorthwyo’r sesiynau\, maen nhw’n gyn-aelodau eu hunain ac yno i’ch croesawu a’ch cefnogi a’ch helpu i deimlo’n gartrefol. \nBydd sesiwn nodweddiadol yn cynnwys gemau ac ymarferion theatr\, dyfeisio heriau; ymddiried a gemau ffocws; a phethau eraill fel theatr gorfforol; gwaith masg; cynllunio; pypedau; syrcas; canu; ymladd ar lwyfan… gallem fynd yn ein blaenau\, ond bydd yn rhaid i chi ddod i weld drosoch eich hun. \nAwydd ymuno? Dewch i roi cynnig arni a gweld a yw’n addas i chi! Gallwch gofrestru yma. \nAnfonwch neges i hello@mpyt.co.uk gallech hefyd alw heibio i’r swyddfa am sgwrs i gael yr holl wybodaeth. \nCelf O Gwmpas\, Llandrindod\, LD1 5EB
URL:https://storipowys.org.uk/event/big-mpyt-youth-theatre-for-ages-14-24/2025-07-08/?lang=cy
LOCATION:Mid Powys Youth Theatre\, Celf O Gwmpas\, Tremont Road\, Llandrindod Wells\, LD1 5EB\, United Kingdom
ATTACH;FMTTYPE=image/jpeg:https://storipowys.org.uk/wp-content/uploads/2025/01/73_IMG_9141-4.jpg
ORGANIZER;CN="Mid Powys Youth Theatre":MAILTO:hello@mpyt.co.uk
END:VEVENT
END:VCALENDAR