BEGIN:VCALENDAR
VERSION:2.0
PRODID:-//Powys - ECPv6.15.20//NONSGML v1.0//EN
CALSCALE:GREGORIAN
METHOD:PUBLISH
X-WR-CALNAME:Powys
X-ORIGINAL-URL:https://storipowys.org.uk/?lang=cy
X-WR-CALDESC:Events for Powys
REFRESH-INTERVAL;VALUE=DURATION:PT1H
X-Robots-Tag:noindex
X-PUBLISHED-TTL:PT1H
BEGIN:VTIMEZONE
TZID:UTC
BEGIN:STANDARD
TZOFFSETFROM:+0000
TZOFFSETTO:+0000
TZNAME:UTC
DTSTART:20240101T000000
END:STANDARD
END:VTIMEZONE
BEGIN:VEVENT
DTSTART;TZID=UTC:20250725T110000
DTEND;TZID=UTC:20250725T120000
DTSTAMP:20260423T035534
CREATED:20250305T122312Z
LAST-MODIFIED:20251124T120334Z
UID:10009981-1753441200-1753444800@storipowys.org.uk
SUMMARY:Grŵp Canu Rootlets
DESCRIPTION:Rootlets yn grŵp canu “dewch â’ch babi eich hun” sy’n cwrdd bob wythnos yn\nystod y tymor yn ystafell John Edwards yn Y Plas\, Machynlleth ar fore Gwener o 11-12.\nMae croeso i bob gofalwr a phob oedran o blant.\nArchebu yn hanfodol.\nRhaid i bob oedolyn fod yng nghwmni plentyn.\nBwriedir i archebion fod ar gyfer teuluoedd: gallwch archebu bloc a newid yr oedolyn\nsy’n dod gyda’r plentyn bob tro (hefyd yn iawn i’r ddau riant/gofalwr fynychu gydag un\nplentyn).\nGallwch hefyd ddod â brodyr a chwiorydd yn rhad ac am ddim.\nOs ydych chi’n rhannu gofal plant gyda ffrindiau ac eisiau dod â phlant o fwy nag un\nteulu\, mae hynny’n iawn hefyd\, cyn belled â’ch bod chi’n gallu gofalu am yr holl blant\nrydych chi’n dod â nhw gyda chi’n gyfrifol ac yn ddibynadwy.\nDylai pob plentyn o deulu ar wahân gael archebu ar wahân.\nRwy’n argymell cymhareb o 1 oedolyn i 2 blentyn os yw’r ddau o dan 4 oed. I ddod draw\,\narchebwch floc hanner tymor.
URL:https://storipowys.org.uk/event/grwp-canu-rootlets/2025-07-25/?lang=cy
LOCATION:Y Plas\, Pentrerhedyn St\, Machynlleth\, SY20 8ER
ATTACH;FMTTYPE=image/png:https://storipowys.org.uk/wp-content/uploads/2025/02/Square-website-images.zip-6.png
ORGANIZER;CN="Ruth Gordon":MAILTO:Rootedvoiceschoir@gmail.com
END:VEVENT
BEGIN:VEVENT
DTSTART;TZID=UTC:20250724T190000
DTEND;TZID=UTC:20250724T210000
DTSTAMP:20260423T035534
CREATED:20250403T113710Z
LAST-MODIFIED:20251124T120407Z
UID:10009200-1753383600-1753390800@storipowys.org.uk
SUMMARY:Côr Cymunedol Rooted Voices
DESCRIPTION:Ydych chi wrth eich bodd yn canu? Heb ganu ers ysgol ond hoffech roi cynnig arni? \nMae croeso cynnes i chi ddod draw i’n côr cymunedol ar nos Iau (7–9pm) yn y Tabernacl\, MOMA ym Machynlleth. Dan ni yn canolbwyntio ar iechyd y llais\, teimlo’n dda yn ein cyrff ein hunain\, a chanu harmoni. Does dim angen profiad blaenorol o ganu ac mae croeso mawr i gantorion swil! \n£5-15 y sesiwn\, neu £25-75 am floc o 6. Os oes angen i chi dalu llai i allu dod\, cysylltwch â ni.
URL:https://storipowys.org.uk/event/15621/2025-07-24/?lang=cy
LOCATION:St Peter’s church\, St Peter Penrallt Street\, MACHYNLLETH\, SY20 8HE
ATTACH;FMTTYPE=image/jpeg:https://storipowys.org.uk/wp-content/uploads/2025/04/4.jpg
ORGANIZER;CN="Ruth Gordon":MAILTO:Rootedvoiceschoir@gmail.com
END:VEVENT
BEGIN:VEVENT
DTSTART;TZID=UTC:20250724T180000
DTEND;TZID=UTC:20250724T203000
DTSTAMP:20260423T035534
CREATED:20250113T102342Z
LAST-MODIFIED:20250205T161043Z
UID:10004821-1753380000-1753389000@storipowys.org.uk
SUMMARY:Grŵp cymdeithasol celf
DESCRIPTION:Mae Art Social Group ar gyfer artistiaid a phobl greadigol. Ein nod yw lleddfu unigedd drwy ddarparu lle i artistiaid ac unigolion creadigol ddod at ei gilydd\, creu celf\, cymdeithasu a chreu cysylltiadau newydd. Mae’r grŵp o allu cymysg\, a darperir yr holl adnoddau. Mae’r grŵp yn rhedeg o Ganolfan Integredig Teuluoedd y Trallwng bob pythefnos\, ar nos Iau\, rhwng 6-8:30pm. £15 y sesiwn i dalu am logi ystafell a deunyddiau.
URL:https://storipowys.org.uk/event/13761/2025-07-24/?lang=cy
LOCATION:Welshpool Integrated Family Centre\, Oldford Close\, Welshpool\, SY21 7SX
ATTACH;FMTTYPE=image/png:https://storipowys.org.uk/wp-content/uploads/2025/01/welshppol-art-group.png
ORGANIZER;CN="Jain Downing":MAILTO:welshpoolcreativearts@gmail.com
END:VEVENT
BEGIN:VEVENT
DTSTART;TZID=UTC:20250724T133000
DTEND;TZID=UTC:20250724T160000
DTSTAMP:20260423T035534
CREATED:20250716T092619Z
LAST-MODIFIED:20250716T092939Z
UID:10017172-1753363800-1753372800@storipowys.org.uk
SUMMARY:Gweithdy Haf: Addurn Gardd Pren Drifft (Oedran 12+)
DESCRIPTION:Byddwch yn greadigol yr haf hwn gyda’n gweithdai â thema amgylcheddol\, pob un dan arweiniad ein tîm talentog o artistiaid cymunedol. \nCrëwch gerfluniau o froc môr\, blychau adar neu glychau gwynt o falurion traeth. \nI blant 12+ oed\n1.30yp – 4yp\n£3 y plentyn
URL:https://storipowys.org.uk/event/gweithdy-haf-addurn-gardd-pren-drifft-oedran-12/?lang=cy
LOCATION:The Welfare Ystradgynlais Y Neuadd Les\, Brecon Rd\, Ystradgynlais\, Swansea\, SA9 1JJ\, United Kingdom
ATTACH;FMTTYPE=image/jpeg:https://storipowys.org.uk/wp-content/uploads/2025/07/driftwood-craftsjpg.jpg
ORGANIZER;CN="The Welfare Ystradgynlais":MAILTO:boxoffice@thewelfare.co.uk
END:VEVENT
BEGIN:VEVENT
DTSTART;TZID=UTC:20250724T120000
DTEND;TZID=UTC:20250724T140000
DTSTAMP:20260423T035534
CREATED:20250609T103503Z
LAST-MODIFIED:20250609T104139Z
UID:10013674-1753358400-1753365600@storipowys.org.uk
SUMMARY:Grŵp Gwehyddu
DESCRIPTION:Ymunwch â ni i fwynhau gwau gyda sgwrs. Mae peiriannau gwnïo ar gael.
URL:https://storipowys.org.uk/event/sewing-group-2/2025-07-24/?lang=cy
LOCATION:Llyfrgell Ystradgynlais Library
ATTACH;FMTTYPE=image/png:https://storipowys.org.uk/wp-content/uploads/2024/12/sewing-photo-for-StP.png
ORGANIZER;CN="Llyfrgell Ystradgynlais Library":MAILTO:ystrad.library@powys.gov.uk
END:VEVENT
BEGIN:VEVENT
DTSTART;TZID=UTC:20250724T110000
DTEND;TZID=UTC:20250724T130000
DTSTAMP:20260423T035534
CREATED:20250609T104234Z
LAST-MODIFIED:20250609T104341Z
UID:10014195-1753354800-1753362000@storipowys.org.uk
SUMMARY:Clwb Bridge
DESCRIPTION:Ymunwch ag Andrew Gilbey yn y grŵp bywiog hwn sy’n addas ar gyfer pob lefel o allu\, o ddechreuwyr i chwaraewyr medrus.
URL:https://storipowys.org.uk/event/bridge-club-2/2025-07-24/?lang=cy
LOCATION:Llyfrgell Ystradgynlais Library
ATTACH;FMTTYPE=image/png:https://storipowys.org.uk/wp-content/uploads/2024/12/bridge-photo.png
ORGANIZER;CN="Llyfrgell Ystradgynlais Library":MAILTO:ystrad.library@powys.gov.uk
END:VEVENT
BEGIN:VEVENT
DTSTART;TZID=UTC:20250724T103000
DTEND;TZID=UTC:20250724T120000
DTSTAMP:20260423T035534
CREATED:20250609T104431Z
LAST-MODIFIED:20250609T104530Z
UID:10014716-1753353000-1753358400@storipowys.org.uk
SUMMARY:Coffi a Sgwrs
DESCRIPTION:Trefnir ein boreau coffi cymunedol poblogaidd gan Ffrindiau’r Llyfrgell ac fe’u cynhelir bob dydd Iau 10.30-12.
URL:https://storipowys.org.uk/event/coffee-and-chat-2/2025-07-24/?lang=cy
LOCATION:Llyfrgell Ystradgynlais Library
ATTACH;FMTTYPE=image/png:https://storipowys.org.uk/wp-content/uploads/2024/12/Coffee-and-chat-photo.png
ORGANIZER;CN="Llyfrgell Ystradgynlais Library":MAILTO:ystrad.library@powys.gov.uk
END:VEVENT
BEGIN:VEVENT
DTSTART;TZID=UTC:20250724T100000
DTEND;TZID=UTC:20250724T123000
DTSTAMP:20260423T035534
CREATED:20250716T092231Z
LAST-MODIFIED:20250716T092536Z
UID:10017170-1753351200-1753360200@storipowys.org.uk
SUMMARY:Gweithdy Haf: Crefftau Peillwyr (Oedran 7-11)
DESCRIPTION:Byddwch yn greadigol yr haf hwn gyda’n gweithdai â thema amgylcheddol\, pob un dan arweiniad ein tîm talentog o artistiaid cymunedol. \nCrëwch eich papur hadau eich hun sy’n llawn peillwyr a chrefftwch anifeiliaid gan ddefnyddio deunyddiau wedi’u hailgylchu. \nI blant 7-11 oed (Nid oes angen i rieni aros\, ond gallwch os yw’n well gennych.)\n10yb -12.30yp\n£3 y plentyn
URL:https://storipowys.org.uk/event/gweithdy-haf-crefftau-peillwyr-oedran-7-11/?lang=cy
LOCATION:The Welfare Ystradgynlais Y Neuadd Les\, Brecon Rd\, Ystradgynlais\, Swansea\, SA9 1JJ\, United Kingdom
ATTACH;FMTTYPE=image/jpeg:https://storipowys.org.uk/wp-content/uploads/2025/07/polinator-crafts-3.jpg
ORGANIZER;CN="The Welfare Ystradgynlais":MAILTO:boxoffice@thewelfare.co.uk
END:VEVENT
BEGIN:VEVENT
DTSTART;TZID=UTC:20250724T093000
DTEND;TZID=UTC:20250724T110000
DTSTAMP:20260423T035534
CREATED:20250226T142244Z
LAST-MODIFIED:20250226T142244Z
UID:10007216-1753349400-1753354800@storipowys.org.uk
SUMMARY:Grŵp Y Ffrindiau Digidol
DESCRIPTION:Man diogel lle gall oedolyn hŷn dod i’r arfer â thecnoleg gyda’ igilydd.
URL:https://storipowys.org.uk/event/grwp-y-ffrindiau-digidol/2025-07-24/?lang=cy
LOCATION:Newtown Library/Llyfrgell y Drenewydd\, Park Lane\, Newtown\, SY16 1EJ
ATTACH;FMTTYPE=image/png:https://storipowys.org.uk/wp-content/uploads/2025/02/Digital-Friends-1.png
ORGANIZER;CN="Newtown Library":MAILTO:newtown.library@powys.gov.uk
END:VEVENT
BEGIN:VEVENT
DTSTART;TZID=UTC:20250724T060000
DTEND;TZID=UTC:20250724T203000
DTSTAMP:20260423T035534
CREATED:20250409T151955Z
LAST-MODIFIED:20250409T151955Z
UID:10011253-1753336800-1753389000@storipowys.org.uk
SUMMARY:
DESCRIPTION:
URL:https://storipowys.org.uk/event/15685/2025-07-24/?lang=cy
LOCATION:The Youth & Community Centre (RDC)\, Llanfyllin
ATTACH;FMTTYPE=image/png:https://storipowys.org.uk/wp-content/uploads/2025/04/lyac-facebok-banner-25.png
ORGANIZER;CN="Arts Connection - Cyswllt Celf":MAILTO:sian@artsconnection.org.uk
END:VEVENT
BEGIN:VEVENT
DTSTART;TZID=UTC:20250723T163000
DTEND;TZID=UTC:20250723T180000
DTSTAMP:20260423T035534
CREATED:20250528T101144Z
LAST-MODIFIED:20250528T101144Z
UID:10011750-1753288200-1753293600@storipowys.org.uk
SUMMARY:Dawns Solar
DESCRIPTION:Mae Solar Dance\, a sefydlwyd ym 1994\, yn cynnig ystod eang o ddosbarthiadau dawns hwyliog i blant 4 oed a hŷn.\nGydag amrywiaeth o arddulliau dawns i’w harchwilio\, mae pob myfyriwr yn cael y cyfle i fod yn ‘Seren Solar!’ \nBob dydd Mercher: 4.30pm – 6pm\n4+ oed
URL:https://storipowys.org.uk/event/dawns-solar/2025-07-23/?lang=cy
LOCATION:The Welfare Ystradgynlais Y Neuadd Les\, Brecon Rd\, Ystradgynlais\, Swansea\, SA9 1JJ\, United Kingdom
ATTACH;FMTTYPE=image/jpeg:https://storipowys.org.uk/wp-content/uploads/2025/05/45271545_2005380566213227_2904708570085851136_n.jpg
ORGANIZER;CN="The Welfare Ystradgynlais":MAILTO:boxoffice@thewelfare.co.uk
END:VEVENT
BEGIN:VEVENT
DTSTART;TZID=UTC:20250723T160000
DTEND;TZID=UTC:20250723T180000
DTSTAMP:20260423T035534
CREATED:20250718T094036Z
LAST-MODIFIED:20250718T094058Z
UID:10018012-1753286400-1753293600@storipowys.org.uk
SUMMARY:Clwb Cod
DESCRIPTION:Dewch draw i glwb codio a dysgu rhaglennu o’r dechrau trwy greu eich golygfa animeiddiedig eich hun. \noeddran 8-12.
URL:https://storipowys.org.uk/event/clwb-cod/?lang=cy
LOCATION:y Gaer Brecon Library\, Museum and Art Gallery / y Gaer Aberhonddu Llyfyrgell\, Amgueddfa a Oriel Gelf\, y Gaer\, Glamorgan Street\, Brecon\, LD3 7DW
ATTACH;FMTTYPE=image/jpeg:https://storipowys.org.uk/wp-content/uploads/2025/07/pexels-ron-lach-9783823-scaled.jpg
ORGANIZER;CN="y Gaer":MAILTO:ygaer@powys.gov.uk
END:VEVENT
BEGIN:VEVENT
DTSTART;TZID=UTC:20250723T160000
DTEND;TZID=UTC:20250723T180000
DTSTAMP:20260423T035534
CREATED:20250711T132758Z
LAST-MODIFIED:20250714T101904Z
UID:10017201-1753286400-1753293600@storipowys.org.uk
SUMMARY:Clwb Gwyddbwyll
DESCRIPTION:Clwb gwyddbwyll yn llyfrgell ac amgueddfa Llanidloes \nCroeso i bob oed a phob lefel o allu.\nRhaid i blant dan 8 oed fod yng nghwmni oedolyn.
URL:https://storipowys.org.uk/event/clwb-gwyddbwyll-2/2025-07-23/?lang=cy
LOCATION:Llanidloes library and musuem\, Town Hall\, Llanidloes\, SY18 6BN
ATTACH;FMTTYPE=image/jpeg:https://storipowys.org.uk/wp-content/uploads/2025/07/girls-playing-chess-together-home_738298-151.jpg
ORGANIZER;CN="Llanidloes library and museum":MAILTO:llanidloes.library@powys.gov.uk
END:VEVENT
BEGIN:VEVENT
DTSTART;TZID=UTC:20250723T133000
DTEND;TZID=UTC:20250723T150000
DTSTAMP:20260423T035534
CREATED:20250528T101154Z
LAST-MODIFIED:20250528T101154Z
UID:10011990-1753277400-1753282800@storipowys.org.uk
SUMMARY:Nexus Arts
DESCRIPTION:Celfyddydau Perfformio a Chreadigol i Bawb\nDrama\, dawns a chelfyddydau gweledol ar gyfer grŵp integredig o oedolion ac oedolion ag anableddau dysgu. \nPob Dydd Mercher 1.30 – 3pm\n£5 y sesiwn\, Gofalwyr am ddim
URL:https://storipowys.org.uk/event/nexus-arts/2025-07-23/?lang=cy
LOCATION:The Welfare Ystradgynlais Y Neuadd Les\, Brecon Rd\, Ystradgynlais\, Swansea\, SA9 1JJ\, United Kingdom
ATTACH;FMTTYPE=image/jpeg:https://storipowys.org.uk/wp-content/uploads/2025/05/2jzeSqBw-1.jpeg
ORGANIZER;CN="The Welfare Ystradgynlais":MAILTO:boxoffice@thewelfare.co.uk
END:VEVENT
BEGIN:VEVENT
DTSTART;TZID=UTC:20250723T113000
DTEND;TZID=UTC:20250723T123000
DTSTAMP:20260423T035534
CREATED:20250711T132006Z
LAST-MODIFIED:20250711T132006Z
UID:10017161-1753270200-1753273800@storipowys.org.uk
SUMMARY:LAS Theatre: Caspian’s Storm
DESCRIPTION:Mae Caspian y cranc yn fach o ran maint ond yn FAWR o ran chwilfrydedd. Yn hapus yn ei gartref mewn pwll creigiog\, mae wrth ei fodd yn glanhau\, yn casglu straeon antur\, ac yn gwylio’r bodau dynol sy’n byw ger y lan. Ond un noson stormus\, mae hud rhyfedd yn cysylltu môr a thir gan wthio Caspian i’r chwyddwydr ac yn mynd ar antur ei hun. \nYn llawn pypedwaith\, cerddoriaeth\, a digonedd o chwerthin\, mae Storm Caspian yn sioe ryngweithiol\, gyflym i’r ifanc a’r ifanc o ran calon. Gyda hiwmor hynod nodweddiadol LAStheatre\, cerddoriaeth gyffrous\, a neges bwysig am ddiogelu ein hamgylchedd\, dyma’r sioe berffaith i’r teulu cyfan. Byddwch yn barod i chwerthin\, bloeddio\, a phlymio i fyd hudolus Crabbiton! \nSioe awyr agored.\nAwgrym Oedran: 3 oed+
URL:https://storipowys.org.uk/event/las-theatre-caspians-storm/?lang=cy
LOCATION:The Welfare Ystradgynlais Y Neuadd Les\, Brecon Rd\, Ystradgynlais\, Swansea\, SA9 1JJ\, United Kingdom
ATTACH;FMTTYPE=image/jpeg:https://storipowys.org.uk/wp-content/uploads/2025/06/Caspian-16x9-Landscape-1.jpg
ORGANIZER;CN="The Welfare Ystradgynlais":MAILTO:boxoffice@thewelfare.co.uk
END:VEVENT
BEGIN:VEVENT
DTSTART;TZID=UTC:20250723T101500
DTEND;TZID=UTC:20250723T123000
DTSTAMP:20260423T035534
CREATED:20250122T145303Z
LAST-MODIFIED:20250331T142332Z
UID:10005478-1753265700-1753273800@storipowys.org.uk
SUMMARY:Clwb Celf
DESCRIPTION:Grŵp croesawgar ar gyfer pob gallu a chariadon celf. Bob wythnos byddwch yn cael rhai syniadau a thechnegau prosiect i roi cynnig arnynt\, neu gallwch ddefnyddio’r gofod i weithio ar eich prosiectau presennol. Darperir deunyddiau ac offer\, ond mae croeso i chi ddod â’ch deunyddiau eich hun.
URL:https://storipowys.org.uk/event/14172/2025-07-23/?lang=cy
LOCATION:Llyfrgell Ystradgynlais Library\, Temperance Lane\, Swansea\, SA9 1JP
ATTACH;FMTTYPE=image/png:https://storipowys.org.uk/wp-content/uploads/2025/01/Clwb-Celf-4.png
ORGANIZER;CN="Ystradgynlais Library":MAILTO:ystrad.library@powys.gov.uk
END:VEVENT
BEGIN:VEVENT
DTSTART;TZID=UTC:20250722T180000
DTEND;TZID=UTC:20250722T193000
DTSTAMP:20260423T035534
CREATED:20250326T133731Z
LAST-MODIFIED:20250326T133828Z
UID:10008421-1753207200-1753212600@storipowys.org.uk
SUMMARY:Clwb Crochenwaith
DESCRIPTION:Cwrs Crochenwaith Amser Tymor i Oedolion sydd eisiau dysgu sut i adeiladu â llaw yn greadigol. Pob modelu creadigol a chyfleoedd i arbrofi a chreu. Offer\, Clai a Gwydredd wedi’u cynnwys. Gyda’r Meistr Tiwtor Potter Alex Allpress
URL:https://storipowys.org.uk/event/15497/2025-07-22/?lang=cy
LOCATION:The Pottery\, Church Street\, Builth Wells\, LD2 3AP
ATTACH;FMTTYPE=image/jpeg:https://storipowys.org.uk/wp-content/uploads/2025/03/pottery-builth.jpg
END:VEVENT
BEGIN:VEVENT
DTSTART;TZID=UTC:20250722T160000
DTEND;TZID=UTC:20250722T193000
DTSTAMP:20260423T035534
CREATED:20250528T112355Z
LAST-MODIFIED:20250528T112355Z
UID:10011870-1753200000-1753212600@storipowys.org.uk
SUMMARY:The Performance Factory Stage School
DESCRIPTION:Dechrau perffaith i’r celfyddydau perfformio! \nDydd Mawrth\n4.15yp – 5.15yp:  Oedrannau 3-6\n5.15yp – 7.15yp: Oedrannau 7+
URL:https://storipowys.org.uk/event/the-performance-factory-stage-school/2025-07-22/?lang=cy
LOCATION:The Welfare Ystradgynlais Y Neuadd Les\, Brecon Rd\, Ystradgynlais\, Swansea\, SA9 1JJ\, United Kingdom
ATTACH;FMTTYPE=image/jpeg:https://storipowys.org.uk/wp-content/uploads/2025/05/124027951_3857489414296447_387030462166457355_n-2.jpg
ORGANIZER;CN="The Welfare Ystradgynlais":MAILTO:boxoffice@thewelfare.co.uk
END:VEVENT
BEGIN:VEVENT
DTSTART;TZID=UTC:20250722T153000
DTEND;TZID=UTC:20250722T163000
DTSTAMP:20260423T035534
CREATED:20250711T105109Z
LAST-MODIFIED:20250711T105109Z
UID:10017617-1753198200-1753201800@storipowys.org.uk
SUMMARY:Clwb Gwyddbwyll
DESCRIPTION:Addas ar gyfer chwaraewyr sy’n ddechreuwyr a rhai profiadol o bob oed
URL:https://storipowys.org.uk/event/clwb-gwyddbwyll/2025-07-22/?lang=cy
LOCATION:Ystradgynlais Library\, Temperance Lane\, SA9 1JP
ATTACH;FMTTYPE=image/jpeg:https://storipowys.org.uk/wp-content/uploads/2025/07/2.jpg
ORGANIZER;CN="Ystradgynlais Library / LLyfrgell Ystradygnlais":MAILTO:ystrad.library@powys.gov.uk
END:VEVENT
BEGIN:VEVENT
DTSTART;TZID=UTC:20250722T103000
DTEND;TZID=UTC:20250722T123000
DTSTAMP:20260423T035534
CREATED:20250528T101159Z
LAST-MODIFIED:20250528T112130Z
UID:10012110-1753180200-1753187400@storipowys.org.uk
SUMMARY:Caffi Crefftus
DESCRIPTION:Ymunwch â’n hartistiaid cymunedol am sesiwn grefftau gyda phaned.\nGwerthfawrogir cyfraniad pawb\, nid oes angen profiad. \nPob Dydd Mawrth | 10.30yb – 12.30yp\n£4 y sesiwn | Gofalwyr Am Ddim
URL:https://storipowys.org.uk/event/caffi-crefftus/2025-07-22/?lang=cy
LOCATION:The Welfare Ystradgynlais Y Neuadd Les\, Brecon Rd\, Ystradgynlais\, Swansea\, SA9 1JJ\, United Kingdom
ATTACH;FMTTYPE=image/jpeg:https://storipowys.org.uk/wp-content/uploads/2025/05/brush-96240_1280-1-1140x500-1.jpg
ORGANIZER;CN="The Welfare Ystradgynlais":MAILTO:boxoffice@thewelfare.co.uk
END:VEVENT
BEGIN:VEVENT
DTSTART;TZID=UTC:20250722T100000
DTEND;TZID=UTC:20250722T130000
DTSTAMP:20260423T035534
CREATED:20250226T142248Z
LAST-MODIFIED:20250226T142248Z
UID:10007317-1753178400-1753189200@storipowys.org.uk
SUMMARY:Clinig Clyw
DESCRIPTION:Clinig am ddim i’r rheiny sydd â chymhorthion clyw y GIG.  Ar gael mae:\n·           Batris newydd ac ail-diwbio\n·           Cyngor ar sut i ddefnyddio a glanhau eich cymhorthion clyw\n•	Gwybodaeth am golli clyw a gwasanaethau i’ch helpu i ddefnyddio a glanhau eich cymhorthion clyw.
URL:https://storipowys.org.uk/event/clinig-clyw/2025-07-22/?lang=cy
LOCATION:Newtown Library/Llyfrgell y Drenewydd\, Park Lane\, Newtown\, SY16 1EJ
ATTACH;FMTTYPE=image/jpeg:https://storipowys.org.uk/wp-content/uploads/2025/02/Hearing-Clinic-1.jpg
END:VEVENT
BEGIN:VEVENT
DTSTART;TZID=UTC:20250722T100000
DTEND;TZID=UTC:20250722T120000
DTSTAMP:20260423T035534
CREATED:20250609T102810Z
LAST-MODIFIED:20250609T103017Z
UID:10012575-1753178400-1753185600@storipowys.org.uk
SUMMARY:Sesiwn Galw Heibio Wcreinaidd
DESCRIPTION:Fsesiynau cyfeillgar ble fydd tîm Powys ar gael i ddarparu cymorth\, gwybodaeth ac ateb unrhyw gwestiynau. \nGyda Nathan Gittins.
URL:https://storipowys.org.uk/event/ukrainian-drop-in/2025-07-22/?lang=cy
LOCATION:Llyfrgell Llandrindod Library\, Radnorshire Museum\, Temple Street\, Llandrinod Wells\, Powys\, LD1 5DL\, United Kingdom
ATTACH;FMTTYPE=image/png:https://storipowys.org.uk/wp-content/uploads/2025/06/ukraine.png
ORGANIZER;CN="Llyfrgell Llandrindod Library":MAILTO:llandrindod.library@powys.gov.uk
END:VEVENT
BEGIN:VEVENT
DTSTART;TZID=UTC:20250721T140000
DTEND;TZID=UTC:20250721T160000
DTSTAMP:20260423T035534
CREATED:20250609T141251Z
LAST-MODIFIED:20250609T141406Z
UID:10015243-1753106400-1753113600@storipowys.org.uk
SUMMARY:Gweu A Sgwrs\, Crosio A Siarad
DESCRIPTION:Grŵp cyfeillgar o bobl yn gwau a chrosio amrywiaeth o eitemau o flancedi i siwmperi \nNi chodir tâl i fynychu.
URL:https://storipowys.org.uk/event/knit-natter-crochet-chatter-2/2025-07-21/?lang=cy
LOCATION:Llyfrgell Rhaeadr / Rhayader Library\, West Street\, Rhayader\, LD6 5DS
ATTACH;FMTTYPE=image/jpeg:https://storipowys.org.uk/wp-content/uploads/2025/01/Screenshot_6-1-2025_143423_rhayader.co_.uk_.jpeg
ORGANIZER;CN="Llyfrgell Rhaeadr / Rhayader Library":MAILTO:rhayader.library@powys.gov.uk
END:VEVENT
BEGIN:VEVENT
DTSTART;TZID=UTC:20250721T140000
DTEND;TZID=UTC:20250721T160000
DTSTAMP:20260423T035534
CREATED:20250609T103814Z
LAST-MODIFIED:20250609T104104Z
UID:10013413-1753106400-1753113600@storipowys.org.uk
SUMMARY:Grŵp Ffynde
DESCRIPTION:Ymunwch â ni i fwynhau plethu gyda sgwrs. Mae peiriannau plethu ar gael.Mae te a choffi ar gael hefyd!
URL:https://storipowys.org.uk/event/patchwork-group-dec-24-3/2025-07-21/?lang=cy
LOCATION:Llyfrgell Ystradgynlais Library
ATTACH;FMTTYPE=image/jpeg:https://storipowys.org.uk/wp-content/uploads/2024/11/patchwork.jpg
ORGANIZER;CN="Llyfrgell Ystradgynlais Library":MAILTO:ystrad.library@powys.gov.uk
END:VEVENT
BEGIN:VEVENT
DTSTART;TZID=UTC:20250721T140000
DTEND;TZID=UTC:20250721T150000
DTSTAMP:20260423T035534
CREATED:20250205T155212Z
LAST-MODIFIED:20251110T115910Z
UID:10006648-1753106400-1753110000@storipowys.org.uk
SUMMARY:Sesiynau jamio gitâr
DESCRIPTION:Chwarae’r gitâr?\nEisiau jamio gyda gitarwyr eraill?\nDewch â’ch gitâr a/neu’ch llais\, bob Dydd Llun 2-3!\nCroeso i bob gallu.
URL:https://storipowys.org.uk/event/sesiynau-jamio-gitar/2025-07-21/?lang=cy
LOCATION:Llyfrgell Ystradgynlais Library
ATTACH;FMTTYPE=image/png:https://storipowys.org.uk/wp-content/uploads/2025/02/GUITAR.png
ORGANIZER;CN="Ystradgynlais Library":MAILTO:ystrad.library@powys.gov.uk
END:VEVENT
BEGIN:VEVENT
DTSTART;TZID=UTC:20250721T110000
DTEND;TZID=UTC:20250721T113000
DTSTAMP:20260423T035534
CREATED:20250613T134113Z
LAST-MODIFIED:20250613T134337Z
UID:10015894-1753095600-1753097400@storipowys.org.uk
SUMMARY:Amser Stori
DESCRIPTION:Bob Dydd Llun
URL:https://storipowys.org.uk/event/storytime-2/2025-07-21/?lang=cy
LOCATION:Hay on Wye Library\, Oxford Road\, Hay on Wye\, HR3 5BT
ATTACH;FMTTYPE=image/jpeg:https://storipowys.org.uk/wp-content/uploads/2025/06/Screenshot_13-6-2025_144057_.jpeg
ORGANIZER;CN="y Gaer":MAILTO:ygaer@powys.gov.uk
END:VEVENT
BEGIN:VEVENT
DTSTART;TZID=UTC:20250721T101500
DTEND;TZID=UTC:20250721T110000
DTSTAMP:20260423T035534
CREATED:20241206T143703Z
LAST-MODIFIED:20241216T163654Z
UID:10003543-1753092900-1753095600@storipowys.org.uk
SUMMARY:Amser stori gyda Sammi
DESCRIPTION:Caneuon\, rhigymau a straeon i blant oed cyn-ysgol (a’u rhieni/gofalwyr). \nGyda Sammi Orme.
URL:https://storipowys.org.uk/event/amser-stori-gyda-sammi-llanidloes-jan-25/2025-07-21/?lang=cy
LOCATION:Llyfrgell Llanidloes / Llanidloes Library\, Great Oak Street\, Llanidloes\, SY18 6BN
ATTACH;FMTTYPE=image/jpeg:https://storipowys.org.uk/wp-content/uploads/2024/12/Storytime_With_Sammi.jpg
ORGANIZER;CN="Llfrygell Llanidloes Library":MAILTO:llanidloes.library@powys.gov.uk
END:VEVENT
BEGIN:VEVENT
DTSTART;TZID=UTC:20250720T160000
DTEND;TZID=UTC:20250720T180000
DTSTAMP:20260423T035534
CREATED:20250715T104617Z
LAST-MODIFIED:20250715T104728Z
UID:10017885-1753027200-1753034400@storipowys.org.uk
SUMMARY:Sesiyn Blasu Cerddoriaeth a Thechnoleg - Rhaeadr
DESCRIPTION:Galw ar Gerddorion Ifanc! \nEisiau creu a pherfformio cerddoriaeth mewn sioe theatr fyw? \nMae Theatr Ieuenctid Canolbarth Powys yn chwilio am gerddorion ifanc i lunio a pherfformio’r sgôr ar gyfer ein cynhyrchiad hydref: The Curious Incident of the Dog in the Night-Time – yn fyw yng Nghanolfan Gelfyddydau Wyeside\, Tachwedd 2025. \nYmunwch â’n sesiynau blasu am ddim ac ysgol haf deuddydd gyda’r cyfansoddwr Jim Elliot. \nByddwch yn defnyddio technegau cerddoriaeth hawdd\, offerynnau byw\, lleisiau\, pedalau dolen\, a thechnoleg. \nYstafelloedd Ymgynnull Llanandras: 19 Gorffennaf: 2-4pm \nHanging Gardens\, Llanidloes: 20 Gorffennaf: 10am-12pm \nThe Lost Arc\, Rhaeadr: 20 Gorffennaf: 4-6pm
URL:https://storipowys.org.uk/event/music-tech-taster-workshop-rhayader/?lang=cy
LOCATION:The Lost Arc\, The Old Drill Hall Bridge Street\, RHAYADER\, LD6 5AG
ATTACH;FMTTYPE=image/jpeg:https://storipowys.org.uk/wp-content/uploads/2025/07/776_IMG_1692.jpg
ORGANIZER;CN="Mid Powys Youth Theatre":MAILTO:hello@mpyt.co.uk
END:VEVENT
BEGIN:VEVENT
DTSTART;TZID=UTC:20250720T100000
DTEND;TZID=UTC:20250720T120000
DTSTAMP:20260423T035534
CREATED:20250715T104027Z
LAST-MODIFIED:20250715T104359Z
UID:10017882-1753005600-1753012800@storipowys.org.uk
SUMMARY:Sesiyn Blasu Cerddoriaeth a Thechnoleg - Llanidloes
DESCRIPTION:Galw ar Gerddorion Ifanc! \nEisiau creu a pherfformio cerddoriaeth mewn sioe theatr fyw? \nMae Theatr Ieuenctid Canolbarth Powys yn chwilio am gerddorion ifanc i lunio a pherfformio’r sgôr ar gyfer ein cynhyrchiad hydref: The Curious Incident of the Dog in the Night-Time – yn fyw yng Nghanolfan Gelfyddydau Wyeside\, Tachwedd 2025. \nYmunwch â’n sesiynau blasu am ddim ac ysgol haf deuddydd gyda’r cyfansoddwr Jim Elliot. \nByddwch yn defnyddio technegau cerddoriaeth hawdd\, offerynnau byw\, lleisiau\, pedalau dolen\, a thechnoleg. \nYstafelloedd Ymgynnull Llanandras: 19 Gorffennaf: 2-4pm \nHanging Gardens\, Llanidloes: 20 Gorffennaf: 10am-12pm \nThe Lost Arc\, Rhaeadr: 20 Gorffennaf: 4-6pm
URL:https://storipowys.org.uk/event/music-tech-taster-workshop-llanidloes/?lang=cy
LOCATION:Mid Powys Youth Theatre\, The Hanging Gardens\, Bethel Street\, LLANIDLOES\, SY18 6BS
ATTACH;FMTTYPE=image/jpeg:https://storipowys.org.uk/wp-content/uploads/2025/07/776_IMG_1692.jpg
ORGANIZER;CN="Mid Powys Youth Theatre":MAILTO:hello@mpyt.co.uk
END:VEVENT
BEGIN:VEVENT
DTSTART;TZID=UTC:20250719T140000
DTEND;TZID=UTC:20250719T160000
DTSTAMP:20260423T035534
CREATED:20250715T104839Z
LAST-MODIFIED:20250715T104938Z
UID:10017887-1752933600-1752940800@storipowys.org.uk
SUMMARY:Sesiyn Blasu Cerddoriaeth a Thechnoleg - Llanandras
DESCRIPTION:Galw ar Gerddorion Ifanc! \nEisiau creu a pherfformio cerddoriaeth mewn sioe theatr fyw? \nMae Theatr Ieuenctid Canolbarth Powys yn chwilio am gerddorion ifanc i lunio a pherfformio’r sgôr ar gyfer ein cynhyrchiad hydref: The Curious Incident of the Dog in the Night-Time – yn fyw yng Nghanolfan Gelfyddydau Wyeside\, Tachwedd 2025. \nYmunwch â’n sesiynau blasu am ddim ac ysgol haf deuddydd gyda’r cyfansoddwr Jim Elliot. \nByddwch yn defnyddio technegau cerddoriaeth hawdd\, offerynnau byw\, lleisiau\, pedalau dolen\, a thechnoleg. \nYstafelloedd Ymgynnull Llanandras: 19 Gorffennaf: 2-4pm \nHanging Gardens\, Llanidloes: 20 Gorffennaf: 10am-12pm \nThe Lost Arc\, Rhaeadr: 20 Gorffennaf: 4-6pm
URL:https://storipowys.org.uk/event/music-tech-taster-workshop-presteigne/?lang=cy
LOCATION:Presteigne Assembly Rooms\, Presteigne\, United Kingdom
ATTACH;FMTTYPE=image/jpeg:https://storipowys.org.uk/wp-content/uploads/2025/07/776_IMG_1692.jpg
ORGANIZER;CN="Mid Powys Youth Theatre":MAILTO:hello@mpyt.co.uk
END:VEVENT
END:VCALENDAR