BEGIN:VCALENDAR
VERSION:2.0
PRODID:-//Powys - ECPv6.15.20//NONSGML v1.0//EN
CALSCALE:GREGORIAN
METHOD:PUBLISH
X-WR-CALNAME:Powys
X-ORIGINAL-URL:https://storipowys.org.uk/?lang=cy
X-WR-CALDESC:Events for Powys
REFRESH-INTERVAL;VALUE=DURATION:PT1H
X-Robots-Tag:noindex
X-PUBLISHED-TTL:PT1H
BEGIN:VTIMEZONE
TZID:UTC
BEGIN:STANDARD
TZOFFSETFROM:+0000
TZOFFSETTO:+0000
TZNAME:UTC
DTSTART:20240101T000000
END:STANDARD
END:VTIMEZONE
BEGIN:VEVENT
DTSTART;TZID=UTC:20250731T060000
DTEND;TZID=UTC:20250731T203000
DTSTAMP:20260423T011727
CREATED:20250409T151955Z
LAST-MODIFIED:20250409T151955Z
UID:10011254-1753941600-1753993800@storipowys.org.uk
SUMMARY:
DESCRIPTION:
URL:https://storipowys.org.uk/event/15685/2025-07-31/?lang=cy
LOCATION:The Youth & Community Centre (RDC)\, Llanfyllin
ATTACH;FMTTYPE=image/png:https://storipowys.org.uk/wp-content/uploads/2025/04/lyac-facebok-banner-25.png
ORGANIZER;CN="Arts Connection - Cyswllt Celf":MAILTO:sian@artsconnection.org.uk
END:VEVENT
BEGIN:VEVENT
DTSTART;TZID=UTC:20250730T163000
DTEND;TZID=UTC:20250730T180000
DTSTAMP:20260423T011727
CREATED:20250528T101144Z
LAST-MODIFIED:20250528T101144Z
UID:10011751-1753893000-1753898400@storipowys.org.uk
SUMMARY:Dawns Solar
DESCRIPTION:Mae Solar Dance\, a sefydlwyd ym 1994\, yn cynnig ystod eang o ddosbarthiadau dawns hwyliog i blant 4 oed a hŷn.\nGydag amrywiaeth o arddulliau dawns i’w harchwilio\, mae pob myfyriwr yn cael y cyfle i fod yn ‘Seren Solar!’ \nBob dydd Mercher: 4.30pm – 6pm\n4+ oed
URL:https://storipowys.org.uk/event/dawns-solar/2025-07-30/?lang=cy
LOCATION:The Welfare Ystradgynlais Y Neuadd Les\, Brecon Rd\, Ystradgynlais\, Swansea\, SA9 1JJ\, United Kingdom
ATTACH;FMTTYPE=image/jpeg:https://storipowys.org.uk/wp-content/uploads/2025/05/45271545_2005380566213227_2904708570085851136_n.jpg
ORGANIZER;CN="The Welfare Ystradgynlais":MAILTO:boxoffice@thewelfare.co.uk
END:VEVENT
BEGIN:VEVENT
DTSTART;TZID=UTC:20250730T160000
DTEND;TZID=UTC:20250730T180000
DTSTAMP:20260423T011727
CREATED:20250711T132758Z
LAST-MODIFIED:20250714T101904Z
UID:10017202-1753891200-1753898400@storipowys.org.uk
SUMMARY:Clwb Gwyddbwyll
DESCRIPTION:Clwb gwyddbwyll yn llyfrgell ac amgueddfa Llanidloes \nCroeso i bob oed a phob lefel o allu.\nRhaid i blant dan 8 oed fod yng nghwmni oedolyn.
URL:https://storipowys.org.uk/event/clwb-gwyddbwyll-2/2025-07-30/?lang=cy
LOCATION:Llanidloes library and musuem\, Town Hall\, Llanidloes\, SY18 6BN
ATTACH;FMTTYPE=image/jpeg:https://storipowys.org.uk/wp-content/uploads/2025/07/girls-playing-chess-together-home_738298-151.jpg
ORGANIZER;CN="Llanidloes library and museum":MAILTO:llanidloes.library@powys.gov.uk
END:VEVENT
BEGIN:VEVENT
DTSTART;TZID=UTC:20250730T133000
DTEND;TZID=UTC:20250730T150000
DTSTAMP:20260423T011727
CREATED:20250528T101154Z
LAST-MODIFIED:20250528T101154Z
UID:10011991-1753882200-1753887600@storipowys.org.uk
SUMMARY:Nexus Arts
DESCRIPTION:Celfyddydau Perfformio a Chreadigol i Bawb\nDrama\, dawns a chelfyddydau gweledol ar gyfer grŵp integredig o oedolion ac oedolion ag anableddau dysgu. \nPob Dydd Mercher 1.30 – 3pm\n£5 y sesiwn\, Gofalwyr am ddim
URL:https://storipowys.org.uk/event/nexus-arts/2025-07-30/?lang=cy
LOCATION:The Welfare Ystradgynlais Y Neuadd Les\, Brecon Rd\, Ystradgynlais\, Swansea\, SA9 1JJ\, United Kingdom
ATTACH;FMTTYPE=image/jpeg:https://storipowys.org.uk/wp-content/uploads/2025/05/2jzeSqBw-1.jpeg
ORGANIZER;CN="The Welfare Ystradgynlais":MAILTO:boxoffice@thewelfare.co.uk
END:VEVENT
BEGIN:VEVENT
DTSTART;TZID=UTC:20250730T123000
DTEND;TZID=UTC:20250730T140000
DTSTAMP:20260423T011727
CREATED:20250716T091440Z
LAST-MODIFIED:20250716T091549Z
UID:10017344-1753878600-1753884000@storipowys.org.uk
SUMMARY:The Twin Tides
DESCRIPTION:Y Doniau Tiwb \nMae Christine yn rhannu ei cherddoriaeth gyda synnwyr o antur\, yn dod yn ôl i draddodiadau fiddl Cymru\, America a Sgotland. Mae hi wedi ennill cystadleuaeth Fiddl Celtaidd Cymru ddwywaith\, ac mae ganddi gefndir yn y gerddoriaeth ddawns a storiwriaeth\, ac mae hi’n adnabyddus o fandiau fel Fernhill. Mae Tommie\, accordionist o Gernyw\, yn creu cerddoriaeth sy’n croesi traddodiadau poblogaidd Ewrop\, yn gweithio rhwng y DU a’r Gwledydd Nordig yn y cerddoriaeth\, theatr a dawns. Mae ei brosiectau eraill yn cynnwys TEYR\, Ville & Tommie a Värivarjo. Gyda’n gilydd\, mae Christine a Tommie yn gwehyddu darlun o alawon sy’n syfrdanu\, gan addo taith gerddorol anfarwol.
URL:https://storipowys.org.uk/event/the-twin-tides/?lang=cy
LOCATION:The Old School Community Hub\, School Lane\, NEW RADNOR\, LD8 2SS
ATTACH;FMTTYPE=image/jpeg:https://storipowys.org.uk/wp-content/uploads/2025/07/fiddle.jpg
END:VEVENT
BEGIN:VEVENT
DTSTART;TZID=UTC:20250730T101500
DTEND;TZID=UTC:20250730T123000
DTSTAMP:20260423T011727
CREATED:20250122T145303Z
LAST-MODIFIED:20250331T142332Z
UID:10005479-1753870500-1753878600@storipowys.org.uk
SUMMARY:Clwb Celf
DESCRIPTION:Grŵp croesawgar ar gyfer pob gallu a chariadon celf. Bob wythnos byddwch yn cael rhai syniadau a thechnegau prosiect i roi cynnig arnynt\, neu gallwch ddefnyddio’r gofod i weithio ar eich prosiectau presennol. Darperir deunyddiau ac offer\, ond mae croeso i chi ddod â’ch deunyddiau eich hun.
URL:https://storipowys.org.uk/event/14172/2025-07-30/?lang=cy
LOCATION:Llyfrgell Ystradgynlais Library\, Temperance Lane\, Swansea\, SA9 1JP
ATTACH;FMTTYPE=image/png:https://storipowys.org.uk/wp-content/uploads/2025/01/Clwb-Celf-4.png
ORGANIZER;CN="Ystradgynlais Library":MAILTO:ystrad.library@powys.gov.uk
END:VEVENT
BEGIN:VEVENT
DTSTART;TZID=UTC:20250730T100000
DTEND;TZID=UTC:20250730T123000
DTSTAMP:20260423T011727
CREATED:20250716T093336Z
LAST-MODIFIED:20250716T093336Z
UID:10017174-1753869600-1753878600@storipowys.org.uk
SUMMARY:Gweithdy Comig (Oedran 7-11)
DESCRIPTION:Byddwch yn greadigol yr haf hwn gyda’n gweithdai â thema amgylcheddol\, pob un dan arweiniad ein tîm talentog o artistiaid cymunedol. \nDyluniwch eich arwr newid hinsawdd eich hun a dod â’u stori yn fyw. Dysgwch sut i ddarlunio eich comic eich hun\, ffrâm wrth ffrâm. \nAr gyfer plant 7-11 oed (Nid oes angen i rieni aros\, ond gallwch os yw’n well gennych.)\n10am -12.30pm\n£3 y plentyn
URL:https://storipowys.org.uk/event/gweithdy-comig-oedran-7-11/?lang=cy
LOCATION:The Welfare Ystradgynlais Y Neuadd Les\, Brecon Rd\, Ystradgynlais\, Swansea\, SA9 1JJ\, United Kingdom
ATTACH;FMTTYPE=image/jpeg:https://storipowys.org.uk/wp-content/uploads/2025/06/comic-wshp-1.jpg
ORGANIZER;CN="The Welfare Ystradgynlais":MAILTO:boxoffice@thewelfare.co.uk
END:VEVENT
BEGIN:VEVENT
DTSTART;TZID=UTC:20250729T183000
DTEND;TZID=UTC:20250729T203000
DTSTAMP:20260423T011727
CREATED:20250409T151816Z
LAST-MODIFIED:20250409T151816Z
UID:10011231-1753813800-1753821000@storipowys.org.uk
SUMMARY:Masquerade
DESCRIPTION:Our classes aimed at people with learning disabilities feature drama\, art\, movement & music | Mae ein dosbarthiadau ar gyfer pobl ag anableddau dysgu yn cynnwys drama\, celf\, symud a cherddoriaeth\nBi-weekly classes on Tuesday evenings | Dosbarthiadau bob yn ail wythnos ar nos Fawrth\n🕐 6:30-8:30pm\n📍 The Institute\, Llanfyllin\n💰 £4 per session | £4 y sesiwn\nDates: The group will be meeting on the following TUESDAYS of each month:\nApril | Ebrill 15 & 22\nMay | Mai 6 & 20\nJune | Mehefin 3 & 17\nJuly | Gorffennaf 1 & 15\nBreak for summer\nSep | Medi 9 & 23\nOct | Hydref 7 & 21st\nNov | Tachwedd 4\, 18 & 25\nEnd of year show: Saturday 29 November | Dydd Sad 29 Tach
URL:https://storipowys.org.uk/event/masquerade/2025-07-29/?lang=cy
LOCATION:The Institute\, Llanfyllin\, SY22 5AA
ATTACH;FMTTYPE=image/png:https://storipowys.org.uk/wp-content/uploads/2025/04/Masquerade-24-Facebook-Cover-5.png
ORGANIZER;CN="Arts Connection - Cyswllt Celf":MAILTO:sian@artsconnection.org.uk
END:VEVENT
BEGIN:VEVENT
DTSTART;TZID=UTC:20250729T180000
DTEND;TZID=UTC:20250729T193000
DTSTAMP:20260423T011727
CREATED:20250326T133731Z
LAST-MODIFIED:20250326T133828Z
UID:10008422-1753812000-1753817400@storipowys.org.uk
SUMMARY:Clwb Crochenwaith
DESCRIPTION:Cwrs Crochenwaith Amser Tymor i Oedolion sydd eisiau dysgu sut i adeiladu â llaw yn greadigol. Pob modelu creadigol a chyfleoedd i arbrofi a chreu. Offer\, Clai a Gwydredd wedi’u cynnwys. Gyda’r Meistr Tiwtor Potter Alex Allpress
URL:https://storipowys.org.uk/event/15497/2025-07-29/?lang=cy
LOCATION:The Pottery\, Church Street\, Builth Wells\, LD2 3AP
ATTACH;FMTTYPE=image/jpeg:https://storipowys.org.uk/wp-content/uploads/2025/03/pottery-builth.jpg
END:VEVENT
BEGIN:VEVENT
DTSTART;TZID=UTC:20250729T160000
DTEND;TZID=UTC:20250729T193000
DTSTAMP:20260423T011727
CREATED:20250528T112355Z
LAST-MODIFIED:20250528T112355Z
UID:10011871-1753804800-1753817400@storipowys.org.uk
SUMMARY:The Performance Factory Stage School
DESCRIPTION:Dechrau perffaith i’r celfyddydau perfformio! \nDydd Mawrth\n4.15yp – 5.15yp:  Oedrannau 3-6\n5.15yp – 7.15yp: Oedrannau 7+
URL:https://storipowys.org.uk/event/the-performance-factory-stage-school/2025-07-29/?lang=cy
LOCATION:The Welfare Ystradgynlais Y Neuadd Les\, Brecon Rd\, Ystradgynlais\, Swansea\, SA9 1JJ\, United Kingdom
ATTACH;FMTTYPE=image/jpeg:https://storipowys.org.uk/wp-content/uploads/2025/05/124027951_3857489414296447_387030462166457355_n-2.jpg
ORGANIZER;CN="The Welfare Ystradgynlais":MAILTO:boxoffice@thewelfare.co.uk
END:VEVENT
BEGIN:VEVENT
DTSTART;TZID=UTC:20250729T153000
DTEND;TZID=UTC:20250729T163000
DTSTAMP:20260423T011727
CREATED:20250711T105109Z
LAST-MODIFIED:20250711T105109Z
UID:10017618-1753803000-1753806600@storipowys.org.uk
SUMMARY:Clwb Gwyddbwyll
DESCRIPTION:Addas ar gyfer chwaraewyr sy’n ddechreuwyr a rhai profiadol o bob oed
URL:https://storipowys.org.uk/event/clwb-gwyddbwyll/2025-07-29/?lang=cy
LOCATION:Ystradgynlais Library\, Temperance Lane\, SA9 1JP
ATTACH;FMTTYPE=image/jpeg:https://storipowys.org.uk/wp-content/uploads/2025/07/2.jpg
ORGANIZER;CN="Ystradgynlais Library / LLyfrgell Ystradygnlais":MAILTO:ystrad.library@powys.gov.uk
END:VEVENT
BEGIN:VEVENT
DTSTART;TZID=UTC:20250729T103000
DTEND;TZID=UTC:20250729T123000
DTSTAMP:20260423T011727
CREATED:20250528T101159Z
LAST-MODIFIED:20250528T112130Z
UID:10012111-1753785000-1753792200@storipowys.org.uk
SUMMARY:Caffi Crefftus
DESCRIPTION:Ymunwch â’n hartistiaid cymunedol am sesiwn grefftau gyda phaned.\nGwerthfawrogir cyfraniad pawb\, nid oes angen profiad. \nPob Dydd Mawrth | 10.30yb – 12.30yp\n£4 y sesiwn | Gofalwyr Am Ddim
URL:https://storipowys.org.uk/event/caffi-crefftus/2025-07-29/?lang=cy
LOCATION:The Welfare Ystradgynlais Y Neuadd Les\, Brecon Rd\, Ystradgynlais\, Swansea\, SA9 1JJ\, United Kingdom
ATTACH;FMTTYPE=image/jpeg:https://storipowys.org.uk/wp-content/uploads/2025/05/brush-96240_1280-1-1140x500-1.jpg
ORGANIZER;CN="The Welfare Ystradgynlais":MAILTO:boxoffice@thewelfare.co.uk
END:VEVENT
BEGIN:VEVENT
DTSTART;TZID=UTC:20250729T100000
DTEND;TZID=UTC:20250729T120000
DTSTAMP:20260423T011727
CREATED:20250728T082448Z
LAST-MODIFIED:20250728T082448Z
UID:10018020-1753783200-1753790400@storipowys.org.uk
SUMMARY:Chwarae Anniben – Llanfair Caereinion
DESCRIPTION:Chwarae anniben a synhwyraidd a hwyl – croeso i chi aros neu dim ond galw heibio! \n Yn y sesiwn chwarae llanast yma\, byddwn ni’n cael sbri yn archwilio: \n🌈 Fforest rawnfwyd enfys \n🌊  Môr sbageti a thraeth reis crensian \n🐸  Pwll llysnafedd efo hadau chia \nBydd gweithgareddau llai llanastus yn cynnwys: : \n👐 Bagiau synhwyraidd \n💧  Mat dŵ \nA mwy eto! \nPlîs dewch wedi gwisgo i fod yn flêr! \n Rhaid archebu! Efallai y cewch eich gwrthod os yw’r digwyddiad yn llawn. \nEi ariannu gan Prosiect Gwyliau Gwaith Chwarae \n👶  Babanod a phlant bach \n📅 Dydd Mawrth 29 Gorffennaf \n⏰ 10am – 12pm \n📍 The Institute\, Llanfair Caereinion \n💷 Am ddim \nPobl – Bryony Wesson
URL:https://storipowys.org.uk/event/chwarae-anniben-llanfair-caereinion/?lang=cy
LOCATION:The Institute\, Llanfyllin\, SY22 5AA
ATTACH;FMTTYPE=image/png:https://storipowys.org.uk/wp-content/uploads/2025/07/MP-Summer-25-LC-Fbk-1.png
ORGANIZER;CN="Arts Connection - Cyswllt Celf":MAILTO:sian@artsconnection.org.uk
END:VEVENT
BEGIN:VEVENT
DTSTART;TZID=UTC:20250729T100000
DTEND;TZID=UTC:20250729T120000
DTSTAMP:20260423T011727
CREATED:20250609T102810Z
LAST-MODIFIED:20250609T103017Z
UID:10012576-1753783200-1753790400@storipowys.org.uk
SUMMARY:Sesiwn Galw Heibio Wcreinaidd
DESCRIPTION:Fsesiynau cyfeillgar ble fydd tîm Powys ar gael i ddarparu cymorth\, gwybodaeth ac ateb unrhyw gwestiynau. \nGyda Nathan Gittins.
URL:https://storipowys.org.uk/event/ukrainian-drop-in/2025-07-29/?lang=cy
LOCATION:Llyfrgell Llandrindod Library\, Radnorshire Museum\, Temple Street\, Llandrinod Wells\, Powys\, LD1 5DL\, United Kingdom
ATTACH;FMTTYPE=image/png:https://storipowys.org.uk/wp-content/uploads/2025/06/ukraine.png
ORGANIZER;CN="Llyfrgell Llandrindod Library":MAILTO:llandrindod.library@powys.gov.uk
END:VEVENT
BEGIN:VEVENT
DTSTART;TZID=UTC:20250728T140000
DTEND;TZID=UTC:20250728T160000
DTSTAMP:20260423T011727
CREATED:20250609T141251Z
LAST-MODIFIED:20250609T141406Z
UID:10015244-1753711200-1753718400@storipowys.org.uk
SUMMARY:Gweu A Sgwrs\, Crosio A Siarad
DESCRIPTION:Grŵp cyfeillgar o bobl yn gwau a chrosio amrywiaeth o eitemau o flancedi i siwmperi \nNi chodir tâl i fynychu.
URL:https://storipowys.org.uk/event/knit-natter-crochet-chatter-2/2025-07-28/?lang=cy
LOCATION:Llyfrgell Rhaeadr / Rhayader Library\, West Street\, Rhayader\, LD6 5DS
ATTACH;FMTTYPE=image/jpeg:https://storipowys.org.uk/wp-content/uploads/2025/01/Screenshot_6-1-2025_143423_rhayader.co_.uk_.jpeg
ORGANIZER;CN="Llyfrgell Rhaeadr / Rhayader Library":MAILTO:rhayader.library@powys.gov.uk
END:VEVENT
BEGIN:VEVENT
DTSTART;TZID=UTC:20250728T140000
DTEND;TZID=UTC:20250728T160000
DTSTAMP:20260423T011727
CREATED:20250609T103814Z
LAST-MODIFIED:20250609T104104Z
UID:10013414-1753711200-1753718400@storipowys.org.uk
SUMMARY:Grŵp Ffynde
DESCRIPTION:Ymunwch â ni i fwynhau plethu gyda sgwrs. Mae peiriannau plethu ar gael.Mae te a choffi ar gael hefyd!
URL:https://storipowys.org.uk/event/patchwork-group-dec-24-3/2025-07-28/?lang=cy
LOCATION:Llyfrgell Ystradgynlais Library
ATTACH;FMTTYPE=image/jpeg:https://storipowys.org.uk/wp-content/uploads/2024/11/patchwork.jpg
ORGANIZER;CN="Llyfrgell Ystradgynlais Library":MAILTO:ystrad.library@powys.gov.uk
END:VEVENT
BEGIN:VEVENT
DTSTART;TZID=UTC:20250728T140000
DTEND;TZID=UTC:20250728T150000
DTSTAMP:20260423T011727
CREATED:20250205T155212Z
LAST-MODIFIED:20251110T115910Z
UID:10006649-1753711200-1753714800@storipowys.org.uk
SUMMARY:Sesiynau jamio gitâr
DESCRIPTION:Chwarae’r gitâr?\nEisiau jamio gyda gitarwyr eraill?\nDewch â’ch gitâr a/neu’ch llais\, bob Dydd Llun 2-3!\nCroeso i bob gallu.
URL:https://storipowys.org.uk/event/sesiynau-jamio-gitar/2025-07-28/?lang=cy
LOCATION:Llyfrgell Ystradgynlais Library
ATTACH;FMTTYPE=image/png:https://storipowys.org.uk/wp-content/uploads/2025/02/GUITAR.png
ORGANIZER;CN="Ystradgynlais Library":MAILTO:ystrad.library@powys.gov.uk
END:VEVENT
BEGIN:VEVENT
DTSTART;TZID=UTC:20250728T110000
DTEND;TZID=UTC:20250728T113000
DTSTAMP:20260423T011727
CREATED:20250613T134113Z
LAST-MODIFIED:20250613T134337Z
UID:10015895-1753700400-1753702200@storipowys.org.uk
SUMMARY:Amser Stori
DESCRIPTION:Bob Dydd Llun
URL:https://storipowys.org.uk/event/storytime-2/2025-07-28/?lang=cy
LOCATION:Hay on Wye Library\, Oxford Road\, Hay on Wye\, HR3 5BT
ATTACH;FMTTYPE=image/jpeg:https://storipowys.org.uk/wp-content/uploads/2025/06/Screenshot_13-6-2025_144057_.jpeg
ORGANIZER;CN="y Gaer":MAILTO:ygaer@powys.gov.uk
END:VEVENT
BEGIN:VEVENT
DTSTART;TZID=UTC:20250728T101500
DTEND;TZID=UTC:20250728T110000
DTSTAMP:20260423T011727
CREATED:20241206T143703Z
LAST-MODIFIED:20241216T163654Z
UID:10003544-1753697700-1753700400@storipowys.org.uk
SUMMARY:Amser stori gyda Sammi
DESCRIPTION:Caneuon\, rhigymau a straeon i blant oed cyn-ysgol (a’u rhieni/gofalwyr). \nGyda Sammi Orme.
URL:https://storipowys.org.uk/event/amser-stori-gyda-sammi-llanidloes-jan-25/2025-07-28/?lang=cy
LOCATION:Llyfrgell Llanidloes / Llanidloes Library\, Great Oak Street\, Llanidloes\, SY18 6BN
ATTACH;FMTTYPE=image/jpeg:https://storipowys.org.uk/wp-content/uploads/2024/12/Storytime_With_Sammi.jpg
ORGANIZER;CN="Llfrygell Llanidloes Library":MAILTO:llanidloes.library@powys.gov.uk
END:VEVENT
BEGIN:VEVENT
DTSTART;TZID=UTC:20250727T133000
DTEND;TZID=UTC:20250727T150000
DTSTAMP:20260423T011727
CREATED:20250716T091841Z
LAST-MODIFIED:20250716T094429Z
UID:10017341-1753623000-1753628400@storipowys.org.uk
SUMMARY:A Midsummer Night's Dream
DESCRIPTION:Daw drama ryfeddol Shakespeare yn fyw gan Theatr Ieuenctid Everyman\, sy’n dychwelyd i’r Glôb Helyg gyda dehongliad disglair wedi’i ysbrydoli gan y 1970au o Breuddwyd Noswaith o Haf. Disgwyliwch anhrefn\, comedi a swyn wrth i tylwyth teg\, cariadon a seiri gyfarfod yn nhrigfa hudolus Shakespeare. Mae cast ifanc llawn bywyd yn dod ag egni ffres i’r stori ddi-ddiwedd hon am gariad a drygioni.
URL:https://storipowys.org.uk/event/a-midsummer-nights-dream-2/?lang=cy
LOCATION:Willow Globe\, Penanole LLanwrthyl\, LLANDRINDOD WELLS\, LD1 6NN
ATTACH;FMTTYPE=image/jpeg:https://storipowys.org.uk/wp-content/uploads/2025/07/everyman-with-logo-1-1.jpg
ORGANIZER;CN="Shakespeare Link":MAILTO:info@shakespearelink.org.uk
END:VEVENT
BEGIN:VEVENT
DTSTART;TZID=UTC:20250726T193000
DTEND;TZID=UTC:20250726T213000
DTSTAMP:20260423T011727
CREATED:20250716T093231Z
LAST-MODIFIED:20250716T093231Z
UID:10017178-1753558200-1753565400@storipowys.org.uk
SUMMARY:kizzy crawford
DESCRIPTION:Perfformiad unigol awr o hyd o rai o ganeuon Kizzy\, gyda phedal dolen\, gitâr ac offerynnau eraill. Perfformiad ar gael yn Gymraeg neu fel set ddwyieithog \nMae Kizzy Crawford yn ganwr\, cyfansoddwraig a chynhyrchydd cerddorol yn adnabyddus am ei chymysgedd unigryw o jazz\, gwerin a fynk. Rhyddhaodd ei albwm cyntaf gyda Freestyle Records yn 2019\, gyda chefnogaeth o’r gronfa ‘PRS Women in Music’. Yn 2021\, lansiodd ei albwm Gymraeg gyntaf\, ‘Rhydd\,’ trwy Recordiau Sain.
URL:https://storipowys.org.uk/event/kizzy-crawford/?lang=cy
LOCATION:Llanwrtyd & District Heritage and Arts Centre\, Ffos Road\, LLANWRTYD WELLS\, LD5 4RG
ATTACH;FMTTYPE=image/jpeg:https://storipowys.org.uk/wp-content/uploads/2025/07/Kizzy-Crawford.jpg
ORGANIZER;CN="Llanwrtyd Heritage and Arts Centre":MAILTO:ldhac2016@gmail.com
END:VEVENT
BEGIN:VEVENT
DTSTART;TZID=UTC:20250726T140000
DTEND;TZID=UTC:20250726T170000
DTSTAMP:20260423T011727
CREATED:20250716T091142Z
LAST-MODIFIED:20250716T091256Z
UID:10017337-1753538400-1753549200@storipowys.org.uk
SUMMARY:Shakespeare’s ‘Richard II’
DESCRIPTION:Mae’r Morwyr Wlyb yn dychwelyd gyda’u perfformiad HANES cyntaf erioed! HANES o fyd ar y ffin rhwng tyranny\, HANES sy’n gofyn pwy sydd ddigon cyfrifol i lywio\, HANES o gyfnod nad yw o gwbl fel ein un ni! Dianc o heddiw a mynd i HANES Richard II* \nPwy sy’n gwybod sut y bydd y Morwyr yn llwyddo i gael canôn confeti a phêl-wydraid i mewn i hwn ond gelli di fod yn sicr na fyddi di’n gadael yn siomedig. \n*ni fydd angen i’r gynulleidfa fod wedi gweld Richard I
URL:https://storipowys.org.uk/event/17064/?lang=cy
LOCATION:Willow Globe\, Penanole LLanwrthyl\, LLANDRINDOD WELLS\, LD1 6NN
ATTACH;FMTTYPE=image/jpeg:https://storipowys.org.uk/wp-content/uploads/2025/07/wet-mariners.jpg
ORGANIZER;CN="Shakespeare Link":MAILTO:info@shakespearelink.org.uk
END:VEVENT
BEGIN:VEVENT
DTSTART;TZID=UTC:20250726T103000
DTEND;TZID=UTC:20250726T163000
DTSTAMP:20260423T011727
CREATED:20250716T090652Z
LAST-MODIFIED:20250716T090750Z
UID:10017880-1753525800-1753547400@storipowys.org.uk
SUMMARY:Gyda Thread a Needl
DESCRIPTION:Mae Canolfan Arts Minerva ym Llanidloes yn cynnal eu harddangoedd Haf\, ‘Gyda Thread a Needl’\, dathliad o dorri yn llaw\, gyda chelf tecstilau a chiltiau gan Lynn Kinsey. \n26eg Gorffennaf – 30ain Awst. Dydd Mercher i Dydd Sadwrn 10.30am – 4.30pm
URL:https://storipowys.org.uk/event/17165/?lang=cy
LOCATION:Minerva Arts Centre\, Llanidloes\, Llanidloes\, SY18 6BY
ATTACH;FMTTYPE=image/jpeg:https://storipowys.org.uk/wp-content/uploads/2025/07/Quilt-poster-v1.jpg
END:VEVENT
BEGIN:VEVENT
DTSTART;TZID=UTC:20250725T140000
DTEND;TZID=UTC:20250725T160000
DTSTAMP:20260423T011727
CREATED:20250414T121022Z
LAST-MODIFIED:20250428T092240Z
UID:10011614-1753452000-1753459200@storipowys.org.uk
SUMMARY:GWYLIAD BYWYD GWYLLT
DESCRIPTION:Mae clwb gwylio yn fan lle gall plant gwrdd a mwynhau dysgu trwy archwilio eu hamgylchedd. \nMae’r grŵp hwn yn rhoi cyfleoedd i’r plant ddarganfod bywyd gwyllt lleol a mynd yn sownd â gweithgareddau ymarferol a all gynnwys unrhyw beth o waith celf amgylcheddol\, adeiladu tŷ trychfilod\, gwylio’r dylluan wen i drochi mewn pwll! \nAddas ar gyfer plant 7-12 oed\, rhaid i blant o dan 8 oed fod yng nghwmni oedolyn.
URL:https://storipowys.org.uk/event/gwyliad-bywyd-gwyllt/2025-07-25/?lang=cy
LOCATION:y Gaer Brecon Library\, Museum and Art Gallery / y Gaer Aberhonddu Llyfyrgell\, Amgueddfa a Oriel Gelf\, y Gaer\, Glamorgan Street\, Brecon\, LD3 7DW
ATTACH;FMTTYPE=image/png:https://storipowys.org.uk/wp-content/uploads/2025/04/yG-Brecon-Watch-Club-2024-2025-BI.png
END:VEVENT
BEGIN:VEVENT
DTSTART;TZID=UTC:20250725T110000
DTEND;TZID=UTC:20250725T120000
DTSTAMP:20260423T011727
CREATED:20250305T122312Z
LAST-MODIFIED:20251124T120334Z
UID:10009981-1753441200-1753444800@storipowys.org.uk
SUMMARY:Grŵp Canu Rootlets
DESCRIPTION:Rootlets yn grŵp canu “dewch â’ch babi eich hun” sy’n cwrdd bob wythnos yn\nystod y tymor yn ystafell John Edwards yn Y Plas\, Machynlleth ar fore Gwener o 11-12.\nMae croeso i bob gofalwr a phob oedran o blant.\nArchebu yn hanfodol.\nRhaid i bob oedolyn fod yng nghwmni plentyn.\nBwriedir i archebion fod ar gyfer teuluoedd: gallwch archebu bloc a newid yr oedolyn\nsy’n dod gyda’r plentyn bob tro (hefyd yn iawn i’r ddau riant/gofalwr fynychu gydag un\nplentyn).\nGallwch hefyd ddod â brodyr a chwiorydd yn rhad ac am ddim.\nOs ydych chi’n rhannu gofal plant gyda ffrindiau ac eisiau dod â phlant o fwy nag un\nteulu\, mae hynny’n iawn hefyd\, cyn belled â’ch bod chi’n gallu gofalu am yr holl blant\nrydych chi’n dod â nhw gyda chi’n gyfrifol ac yn ddibynadwy.\nDylai pob plentyn o deulu ar wahân gael archebu ar wahân.\nRwy’n argymell cymhareb o 1 oedolyn i 2 blentyn os yw’r ddau o dan 4 oed. I ddod draw\,\narchebwch floc hanner tymor.
URL:https://storipowys.org.uk/event/grwp-canu-rootlets/2025-07-25/?lang=cy
LOCATION:Y Plas\, Pentrerhedyn St\, Machynlleth\, SY20 8ER
ATTACH;FMTTYPE=image/png:https://storipowys.org.uk/wp-content/uploads/2025/02/Square-website-images.zip-6.png
ORGANIZER;CN="Ruth Gordon":MAILTO:Rootedvoiceschoir@gmail.com
END:VEVENT
BEGIN:VEVENT
DTSTART;TZID=UTC:20250724T190000
DTEND;TZID=UTC:20250724T210000
DTSTAMP:20260423T011727
CREATED:20250403T113710Z
LAST-MODIFIED:20251124T120407Z
UID:10009200-1753383600-1753390800@storipowys.org.uk
SUMMARY:Côr Cymunedol Rooted Voices
DESCRIPTION:Ydych chi wrth eich bodd yn canu? Heb ganu ers ysgol ond hoffech roi cynnig arni? \nMae croeso cynnes i chi ddod draw i’n côr cymunedol ar nos Iau (7–9pm) yn y Tabernacl\, MOMA ym Machynlleth. Dan ni yn canolbwyntio ar iechyd y llais\, teimlo’n dda yn ein cyrff ein hunain\, a chanu harmoni. Does dim angen profiad blaenorol o ganu ac mae croeso mawr i gantorion swil! \n£5-15 y sesiwn\, neu £25-75 am floc o 6. Os oes angen i chi dalu llai i allu dod\, cysylltwch â ni.
URL:https://storipowys.org.uk/event/15621/2025-07-24/?lang=cy
LOCATION:St Peter’s church\, St Peter Penrallt Street\, MACHYNLLETH\, SY20 8HE
ATTACH;FMTTYPE=image/jpeg:https://storipowys.org.uk/wp-content/uploads/2025/04/4.jpg
ORGANIZER;CN="Ruth Gordon":MAILTO:Rootedvoiceschoir@gmail.com
END:VEVENT
BEGIN:VEVENT
DTSTART;TZID=UTC:20250724T180000
DTEND;TZID=UTC:20250724T203000
DTSTAMP:20260423T011727
CREATED:20250113T102342Z
LAST-MODIFIED:20250205T161043Z
UID:10004821-1753380000-1753389000@storipowys.org.uk
SUMMARY:Grŵp cymdeithasol celf
DESCRIPTION:Mae Art Social Group ar gyfer artistiaid a phobl greadigol. Ein nod yw lleddfu unigedd drwy ddarparu lle i artistiaid ac unigolion creadigol ddod at ei gilydd\, creu celf\, cymdeithasu a chreu cysylltiadau newydd. Mae’r grŵp o allu cymysg\, a darperir yr holl adnoddau. Mae’r grŵp yn rhedeg o Ganolfan Integredig Teuluoedd y Trallwng bob pythefnos\, ar nos Iau\, rhwng 6-8:30pm. £15 y sesiwn i dalu am logi ystafell a deunyddiau.
URL:https://storipowys.org.uk/event/13761/2025-07-24/?lang=cy
LOCATION:Welshpool Integrated Family Centre\, Oldford Close\, Welshpool\, SY21 7SX
ATTACH;FMTTYPE=image/png:https://storipowys.org.uk/wp-content/uploads/2025/01/welshppol-art-group.png
ORGANIZER;CN="Jain Downing":MAILTO:welshpoolcreativearts@gmail.com
END:VEVENT
BEGIN:VEVENT
DTSTART;TZID=UTC:20250724T133000
DTEND;TZID=UTC:20250724T160000
DTSTAMP:20260423T011727
CREATED:20250716T092619Z
LAST-MODIFIED:20250716T092939Z
UID:10017172-1753363800-1753372800@storipowys.org.uk
SUMMARY:Gweithdy Haf: Addurn Gardd Pren Drifft (Oedran 12+)
DESCRIPTION:Byddwch yn greadigol yr haf hwn gyda’n gweithdai â thema amgylcheddol\, pob un dan arweiniad ein tîm talentog o artistiaid cymunedol. \nCrëwch gerfluniau o froc môr\, blychau adar neu glychau gwynt o falurion traeth. \nI blant 12+ oed\n1.30yp – 4yp\n£3 y plentyn
URL:https://storipowys.org.uk/event/gweithdy-haf-addurn-gardd-pren-drifft-oedran-12/?lang=cy
LOCATION:The Welfare Ystradgynlais Y Neuadd Les\, Brecon Rd\, Ystradgynlais\, Swansea\, SA9 1JJ\, United Kingdom
ATTACH;FMTTYPE=image/jpeg:https://storipowys.org.uk/wp-content/uploads/2025/07/driftwood-craftsjpg.jpg
ORGANIZER;CN="The Welfare Ystradgynlais":MAILTO:boxoffice@thewelfare.co.uk
END:VEVENT
BEGIN:VEVENT
DTSTART;TZID=UTC:20250724T120000
DTEND;TZID=UTC:20250724T140000
DTSTAMP:20260423T011727
CREATED:20250609T103503Z
LAST-MODIFIED:20250609T104139Z
UID:10013674-1753358400-1753365600@storipowys.org.uk
SUMMARY:Grŵp Gwehyddu
DESCRIPTION:Ymunwch â ni i fwynhau gwau gyda sgwrs. Mae peiriannau gwnïo ar gael.
URL:https://storipowys.org.uk/event/sewing-group-2/2025-07-24/?lang=cy
LOCATION:Llyfrgell Ystradgynlais Library
ATTACH;FMTTYPE=image/png:https://storipowys.org.uk/wp-content/uploads/2024/12/sewing-photo-for-StP.png
ORGANIZER;CN="Llyfrgell Ystradgynlais Library":MAILTO:ystrad.library@powys.gov.uk
END:VEVENT
BEGIN:VEVENT
DTSTART;TZID=UTC:20250724T110000
DTEND;TZID=UTC:20250724T130000
DTSTAMP:20260423T011727
CREATED:20250609T104234Z
LAST-MODIFIED:20250609T104341Z
UID:10014195-1753354800-1753362000@storipowys.org.uk
SUMMARY:Clwb Bridge
DESCRIPTION:Ymunwch ag Andrew Gilbey yn y grŵp bywiog hwn sy’n addas ar gyfer pob lefel o allu\, o ddechreuwyr i chwaraewyr medrus.
URL:https://storipowys.org.uk/event/bridge-club-2/2025-07-24/?lang=cy
LOCATION:Llyfrgell Ystradgynlais Library
ATTACH;FMTTYPE=image/png:https://storipowys.org.uk/wp-content/uploads/2024/12/bridge-photo.png
ORGANIZER;CN="Llyfrgell Ystradgynlais Library":MAILTO:ystrad.library@powys.gov.uk
END:VEVENT
END:VCALENDAR