BEGIN:VCALENDAR
VERSION:2.0
PRODID:-//Powys - ECPv6.15.20//NONSGML v1.0//EN
CALSCALE:GREGORIAN
METHOD:PUBLISH
X-WR-CALNAME:Powys
X-ORIGINAL-URL:https://storipowys.org.uk/?lang=cy
X-WR-CALDESC:Events for Powys
REFRESH-INTERVAL;VALUE=DURATION:PT1H
X-Robots-Tag:noindex
X-PUBLISHED-TTL:PT1H
BEGIN:VTIMEZONE
TZID:UTC
BEGIN:STANDARD
TZOFFSETFROM:+0000
TZOFFSETTO:+0000
TZNAME:UTC
DTSTART:20240101T000000
END:STANDARD
END:VTIMEZONE
BEGIN:VEVENT
DTSTART;TZID=UTC:20250805T153000
DTEND;TZID=UTC:20250805T163000
DTSTAMP:20260422T223308
CREATED:20250711T105109Z
LAST-MODIFIED:20250711T105109Z
UID:10017619-1754407800-1754411400@storipowys.org.uk
SUMMARY:Clwb Gwyddbwyll
DESCRIPTION:Addas ar gyfer chwaraewyr sy’n ddechreuwyr a rhai profiadol o bob oed
URL:https://storipowys.org.uk/event/clwb-gwyddbwyll/2025-08-05/?lang=cy
LOCATION:Ystradgynlais Library\, Temperance Lane\, SA9 1JP
ATTACH;FMTTYPE=image/jpeg:https://storipowys.org.uk/wp-content/uploads/2025/07/2.jpg
ORGANIZER;CN="Ystradgynlais Library / LLyfrgell Ystradygnlais":MAILTO:ystrad.library@powys.gov.uk
END:VEVENT
BEGIN:VEVENT
DTSTART;TZID=UTC:20250805T103000
DTEND;TZID=UTC:20250805T123000
DTSTAMP:20260422T223308
CREATED:20250730T115438Z
LAST-MODIFIED:20250730T115438Z
UID:10018022-1754389800-1754397000@storipowys.org.uk
SUMMARY:Wrth y Môr– Celfyddydau Teulu
DESCRIPTION:🏖️ Byddwn ni’n dod â’r traeth atoch chi’r haf hwn gyda’n gweithdy celf i’r teulu ar thema’r môr! 🌊 \nCyflwynir pob gweithdy yn ddwyieithog \n Mae’r prosiect hwn wedi’i ariannu gan Fforwm Gwerth Cymdeithasol\, Bwrdd Partneriaeth Rhanbarthol\, Llywodraeth Cymru a PAVO. \n🧵  Tecstilau \n🎨  Celfyddydau a Chrefftau \n🤲 Chwarae gyda’r synhwyrau \nPeople | Pobl: Leanne Griffiths a Hannah Kate Smith \nAge | Oed: Mwyaf addas 2+ ond croeso i bob oed  \n💷£𝟰 𝘆 𝘁𝗲𝘂𝗹𝘂 \n⏰  Amser: 10:30 am – 12:30 pm \n📅  Dydd Mawrth 5 Awst \n📍 𝗡𝗲𝘂𝗮𝗱𝗱 𝗗𝗿𝗲𝗳 𝗧𝗿𝗲𝗳𝗮𝗹𝗱𝘄𝘆𝗻 \n📅 Dydd Mawrth 12 Awst \n📍 The Institute\, Llanfair Caereinion \n📅 Dydd Mawrth 19 Awst \n📍 Neuadd Goffa | Llangynog
URL:https://storipowys.org.uk/event/wrth-y-mor-celfyddydau-teulu/?lang=cy
LOCATION:MONTGOMERY TOWN HALL\, Montgomery Town Hall\, Welshpool\, SY15 6PH
ATTACH;FMTTYPE=image/png:https://storipowys.org.uk/wp-content/uploads/2025/07/Seaside-a4-poster-family-Arts-Instagram-Post-45-1.png
ORGANIZER;CN="Arts Connection - Cyswllt Celf":MAILTO:sian@artsconnection.org.uk
END:VEVENT
BEGIN:VEVENT
DTSTART;TZID=UTC:20250805T103000
DTEND;TZID=UTC:20250805T123000
DTSTAMP:20260422T223308
CREATED:20250528T101159Z
LAST-MODIFIED:20250528T112130Z
UID:10012112-1754389800-1754397000@storipowys.org.uk
SUMMARY:Caffi Crefftus
DESCRIPTION:Ymunwch â’n hartistiaid cymunedol am sesiwn grefftau gyda phaned.\nGwerthfawrogir cyfraniad pawb\, nid oes angen profiad. \nPob Dydd Mawrth | 10.30yb – 12.30yp\n£4 y sesiwn | Gofalwyr Am Ddim
URL:https://storipowys.org.uk/event/caffi-crefftus/2025-08-05/?lang=cy
LOCATION:The Welfare Ystradgynlais Y Neuadd Les\, Brecon Rd\, Ystradgynlais\, Swansea\, SA9 1JJ\, United Kingdom
ATTACH;FMTTYPE=image/jpeg:https://storipowys.org.uk/wp-content/uploads/2025/05/brush-96240_1280-1-1140x500-1.jpg
ORGANIZER;CN="The Welfare Ystradgynlais":MAILTO:boxoffice@thewelfare.co.uk
END:VEVENT
BEGIN:VEVENT
DTSTART;TZID=UTC:20250805T100000
DTEND;TZID=UTC:20250805T120000
DTSTAMP:20260422T223308
CREATED:20250609T102810Z
LAST-MODIFIED:20250609T103017Z
UID:10012577-1754388000-1754395200@storipowys.org.uk
SUMMARY:Sesiwn Galw Heibio Wcreinaidd
DESCRIPTION:Fsesiynau cyfeillgar ble fydd tîm Powys ar gael i ddarparu cymorth\, gwybodaeth ac ateb unrhyw gwestiynau. \nGyda Nathan Gittins.
URL:https://storipowys.org.uk/event/ukrainian-drop-in/2025-08-05/?lang=cy
LOCATION:Llyfrgell Llandrindod Library\, Radnorshire Museum\, Temple Street\, Llandrinod Wells\, Powys\, LD1 5DL\, United Kingdom
ATTACH;FMTTYPE=image/png:https://storipowys.org.uk/wp-content/uploads/2025/06/ukraine.png
ORGANIZER;CN="Llyfrgell Llandrindod Library":MAILTO:llandrindod.library@powys.gov.uk
END:VEVENT
BEGIN:VEVENT
DTSTART;TZID=UTC:20250804T140000
DTEND;TZID=UTC:20250804T160000
DTSTAMP:20260422T223308
CREATED:20250609T141251Z
LAST-MODIFIED:20250609T141406Z
UID:10015245-1754316000-1754323200@storipowys.org.uk
SUMMARY:Gweu A Sgwrs\, Crosio A Siarad
DESCRIPTION:Grŵp cyfeillgar o bobl yn gwau a chrosio amrywiaeth o eitemau o flancedi i siwmperi \nNi chodir tâl i fynychu.
URL:https://storipowys.org.uk/event/knit-natter-crochet-chatter-2/2025-08-04/?lang=cy
LOCATION:Llyfrgell Rhaeadr / Rhayader Library\, West Street\, Rhayader\, LD6 5DS
ATTACH;FMTTYPE=image/jpeg:https://storipowys.org.uk/wp-content/uploads/2025/01/Screenshot_6-1-2025_143423_rhayader.co_.uk_.jpeg
ORGANIZER;CN="Llyfrgell Rhaeadr / Rhayader Library":MAILTO:rhayader.library@powys.gov.uk
END:VEVENT
BEGIN:VEVENT
DTSTART;TZID=UTC:20250804T140000
DTEND;TZID=UTC:20250804T160000
DTSTAMP:20260422T223308
CREATED:20250609T103814Z
LAST-MODIFIED:20250609T104104Z
UID:10013415-1754316000-1754323200@storipowys.org.uk
SUMMARY:Grŵp Ffynde
DESCRIPTION:Ymunwch â ni i fwynhau plethu gyda sgwrs. Mae peiriannau plethu ar gael.Mae te a choffi ar gael hefyd!
URL:https://storipowys.org.uk/event/patchwork-group-dec-24-3/2025-08-04/?lang=cy
LOCATION:Llyfrgell Ystradgynlais Library
ATTACH;FMTTYPE=image/jpeg:https://storipowys.org.uk/wp-content/uploads/2024/11/patchwork.jpg
ORGANIZER;CN="Llyfrgell Ystradgynlais Library":MAILTO:ystrad.library@powys.gov.uk
END:VEVENT
BEGIN:VEVENT
DTSTART;TZID=UTC:20250804T140000
DTEND;TZID=UTC:20250804T150000
DTSTAMP:20260422T223308
CREATED:20250205T155212Z
LAST-MODIFIED:20251110T115910Z
UID:10006650-1754316000-1754319600@storipowys.org.uk
SUMMARY:Sesiynau jamio gitâr
DESCRIPTION:Chwarae’r gitâr?\nEisiau jamio gyda gitarwyr eraill?\nDewch â’ch gitâr a/neu’ch llais\, bob Dydd Llun 2-3!\nCroeso i bob gallu.
URL:https://storipowys.org.uk/event/sesiynau-jamio-gitar/2025-08-04/?lang=cy
LOCATION:Llyfrgell Ystradgynlais Library
ATTACH;FMTTYPE=image/png:https://storipowys.org.uk/wp-content/uploads/2025/02/GUITAR.png
ORGANIZER;CN="Ystradgynlais Library":MAILTO:ystrad.library@powys.gov.uk
END:VEVENT
BEGIN:VEVENT
DTSTART;TZID=UTC:20250804T110000
DTEND;TZID=UTC:20250804T113000
DTSTAMP:20260422T223308
CREATED:20250613T134113Z
LAST-MODIFIED:20250613T134337Z
UID:10015896-1754305200-1754307000@storipowys.org.uk
SUMMARY:Amser Stori
DESCRIPTION:Bob Dydd Llun
URL:https://storipowys.org.uk/event/storytime-2/2025-08-04/?lang=cy
LOCATION:Hay on Wye Library\, Oxford Road\, Hay on Wye\, HR3 5BT
ATTACH;FMTTYPE=image/jpeg:https://storipowys.org.uk/wp-content/uploads/2025/06/Screenshot_13-6-2025_144057_.jpeg
ORGANIZER;CN="y Gaer":MAILTO:ygaer@powys.gov.uk
END:VEVENT
BEGIN:VEVENT
DTSTART;TZID=UTC:20250804T101500
DTEND;TZID=UTC:20250804T110000
DTSTAMP:20260422T223308
CREATED:20241206T143703Z
LAST-MODIFIED:20241216T163654Z
UID:10003545-1754302500-1754305200@storipowys.org.uk
SUMMARY:Amser stori gyda Sammi
DESCRIPTION:Caneuon\, rhigymau a straeon i blant oed cyn-ysgol (a’u rhieni/gofalwyr). \nGyda Sammi Orme.
URL:https://storipowys.org.uk/event/amser-stori-gyda-sammi-llanidloes-jan-25/2025-08-04/?lang=cy
LOCATION:Llyfrgell Llanidloes / Llanidloes Library\, Great Oak Street\, Llanidloes\, SY18 6BN
ATTACH;FMTTYPE=image/jpeg:https://storipowys.org.uk/wp-content/uploads/2024/12/Storytime_With_Sammi.jpg
ORGANIZER;CN="Llfrygell Llanidloes Library":MAILTO:llanidloes.library@powys.gov.uk
END:VEVENT
BEGIN:VEVENT
DTSTART;TZID=UTC:20250804T100000
DTEND;TZID=UTC:20250808T160000
DTSTAMP:20260422T223308
CREATED:20250715T105729Z
LAST-MODIFIED:20250715T105813Z
UID:10017892-1754301600-1754668800@storipowys.org.uk
SUMMARY:Ysgol Haf Theatr - Llandrindod
DESCRIPTION:Ysgol Haf Theatr:\nMae hwn yn gyfle am wythnos i’n HACTORION talentog! \nOs ydych chi am fod ar y llwyfan yn y sioe\, mae’n bwysig i chi ddod draw (aelodau presennol a newydd fel ei gilydd). Bydd yn gyfle i ddod i adnabod eich cyfoedion\, dysgu sgiliau gwerthfawr\, gwella eich hyder a dechrau trafod syniadau hwyliog. \n\n4-8 Awst: 10am-4pm – Celf O Gwmpas\, Llandrindod\n\n\nAddas i bob gallu\, oed 14-24
URL:https://storipowys.org.uk/event/theatre-summer-school-llandrindod/?lang=cy
LOCATION:Celf O Gwmpas\, Tremont Road\, Llandrindod Wells\, LD1 5EB
ATTACH;FMTTYPE=image/jpeg:https://storipowys.org.uk/wp-content/uploads/2025/07/016_MGRL3575.jpg
ORGANIZER;CN="Mid Powys Youth Theatre":MAILTO:hello@mpyt.co.uk
END:VEVENT
BEGIN:VEVENT
DTSTART;TZID=UTC:20250803T150000
DTEND;TZID=UTC:20250803T170000
DTSTAMP:20260422T223308
CREATED:20250716T094045Z
LAST-MODIFIED:20250716T094731Z
UID:10017350-1754233200-1754240400@storipowys.org.uk
SUMMARY:Romeo and Juliet Retold
DESCRIPTION:Romeo a Juliet: Adrodd Eto\nGyda’i gafael angerddol ar waith Shakespeare a’i gorfforoldeb grymus sy’n syfrdanu\, bydd adrodd straeon Debs Newbold yn eich taflu i strydoedd poeth Verona yn y dychmygiad pwerus\, emosiynol ac yn aml yn chwerthinllyd hwn o stori’r cariadon trawsserennog. \nWedi’i chomisiynu’n wreiddiol gan Shakespeare’s Globe\, mae’r ail-gread ryfeddol hwn yn eich suddo ym myd cerdd Shakespeare heb ei ail ac yn y naratif barddonol\, direidus sydd yn hollol unigryw i Debs ei hun. \nAr ôl gwerthu allan dro ar ôl tro yng Ngŵyl Lenyddiaeth y Gelli a theithio’r byd\, bydd y stori agos hon yn eich helpu i weld y drasiedi enwog hon mewn goleuni cwbl newydd.
URL:https://storipowys.org.uk/event/romeo-and-juliet-retold/?lang=cy
LOCATION:Willow Globe\, Penanole LLanwrthyl\, LLANDRINDOD WELLS\, LD1 6NN
ATTACH;FMTTYPE=image/jpeg:https://storipowys.org.uk/wp-content/uploads/2025/07/debs-r-and-j-1-1920x2693-1.jpg
ORGANIZER;CN="Shakespeare Link":MAILTO:info@shakespearelink.org.uk
END:VEVENT
BEGIN:VEVENT
DTSTART;TZID=UTC:20250802T190000
DTEND;TZID=UTC:20250802T210000
DTSTAMP:20260422T223308
CREATED:20250716T094004Z
LAST-MODIFIED:20250716T094004Z
UID:10017346-1754161200-1754168400@storipowys.org.uk
SUMMARY:The Tempest Retold
DESCRIPTION:Y Storm: Adrodd Eto \nA yw pob teyrnas yn seiliedig ar weithredoedd o drais?\nBeth am yr hen chwedlau sy’n sôn am faddeuant?\nBeth sydd gennym i’w golli? \n“Na ofna; mae’r ynys yn llawn synau…” \nMae Debs Newbold yn cyflwyno’r bedwaredd o’i pherfformiadau adrodd straeon sydd wedi derbyn canmoliaeth ryngwladol o ddramâu Shakespeare i’r Glôb Helyg ar gyfer ei dangosiad cyntaf erioed. Dewch i ymuno â hi am ‘Olwg Gyntaf’ ar y stori sy’n parhau i esblygu – stori o alltudiaeth\, brad a maddeuant.
URL:https://storipowys.org.uk/event/the-tempest-retold-2/?lang=cy
LOCATION:Willow Globe\, Penanole LLanwrthyl\, LLANDRINDOD WELLS\, LD1 6NN
ATTACH;FMTTYPE=image/jpeg:https://storipowys.org.uk/wp-content/uploads/2025/07/tempest-with-text-v2-1-scaled.jpg
ORGANIZER;CN="Shakespeare Link":MAILTO:info@shakespearelink.org.uk
END:VEVENT
BEGIN:VEVENT
DTSTART;TZID=UTC:20250802T190000
DTEND;TZID=UTC:20250802T210000
DTSTAMP:20260422T223308
CREATED:20250716T093822Z
LAST-MODIFIED:20250716T093840Z
UID:10017332-1754161200-1754168400@storipowys.org.uk
SUMMARY:The Tempest Retold
DESCRIPTION:A yw pob teyrnas wedi ei seilio ar weithredoedd o drais?\nBeth am yr hen chwedlau sy’n sôn am faddeuant?\nBeth sydd gennym i’w golli? \nPeidiwch ag ofni; mae’r ynys yn llawn synau… \nDebs Newbold sy’n dod â’r pedwerydd yn ei chyfres o berfformiadau adrodd straeon o ddramâu Shakespeare sydd wedi ennill clod rhyngwladol i’r Willow Globe ar gyfer ei pherfformiad cyntaf yn y byd. Dewch i ymuno â hi am ‘Golwg Cyntaf’ ar y stori fythol ddatblygol hon am alltudiaeth\, brad ac adbrynu.
URL:https://storipowys.org.uk/event/the-tempest-retold/?lang=cy
ATTACH;FMTTYPE=image/jpeg:https://storipowys.org.uk/wp-content/uploads/2025/07/WillowTheatre_1.jpg
ORGANIZER;CN="Shakespeare Link":MAILTO:info@shakespearelink.org.uk
END:VEVENT
BEGIN:VEVENT
DTSTART;TZID=UTC:20250801T200000
DTEND;TZID=UTC:20250801T220000
DTSTAMP:20260422T223308
CREATED:20250129T141851Z
LAST-MODIFIED:20250409T152016Z
UID:10011504-1754078400-1754085600@storipowys.org.uk
SUMMARY:Open Mic Night | Noson Meic Agored
DESCRIPTION:Come along and share music / spoken word or just come and enjoy the sounds! \nDewch i rannu’r gerddoriaeth / y geiriau llafar\, neu’n syml iawn i fwynhau’r synau!
URL:https://storipowys.org.uk/event/open-mic-night-noson-meic-agored/2025-08-01/?lang=cy
LOCATION:The Cross Keys\, Llanfyllin
ATTACH;FMTTYPE=image/jpeg:https://storipowys.org.uk/wp-content/uploads/2025/01/facebook-banner.jpg
ORGANIZER;CN="Arts Connection - Cyswllt Celf":MAILTO:sian@artsconnection.org.uk
END:VEVENT
BEGIN:VEVENT
DTSTART;TZID=UTC:20250801T140000
DTEND;TZID=UTC:20250801T160000
DTSTAMP:20260422T223308
CREATED:20250609T141456Z
LAST-MODIFIED:20250609T141625Z
UID:10015558-1754056800-1754064000@storipowys.org.uk
SUMMARY:Clwb Llyfrau
DESCRIPTION:Man lle gall pobl sydd wrth eu bodd â llyfrau gyfarfod a thrafod llyfrau o’u dewis
URL:https://storipowys.org.uk/event/rhayader-book-club-2/2025-08-01/?lang=cy
LOCATION:Llyfrgell Rhaeadr / Rhayader Library\, West Street\, Rhayader\, LD6 5DS
ATTACH;FMTTYPE=image/jpeg:https://storipowys.org.uk/wp-content/uploads/2025/01/Screenshot_6-1-2025_144641_rhayader.co_.uk_.jpeg
ORGANIZER;CN="Llyfrgell Rhaeadr / Rhayader Library":MAILTO:rhayader.library@powys.gov.uk
END:VEVENT
BEGIN:VEVENT
DTSTART;TZID=UTC:20250801T135538
DTEND;TZID=UTC:20250801T135538
DTSTAMP:20260422T223308
CREATED:20250808T135538Z
LAST-MODIFIED:20250808T135538Z
UID:10018560-1754056538-1754056538@storipowys.org.uk
SUMMARY:
DESCRIPTION:
URL:https://storipowys.org.uk/event/17660/?lang=cy
LOCATION:The Hafren\, Llanidloes Road\, Newtown\, SY164HU
ATTACH;FMTTYPE=image/jpeg:https://storipowys.org.uk/wp-content/uploads/2025/08/artclass_TS.jpg
END:VEVENT
BEGIN:VEVENT
DTSTART;TZID=UTC:20250801T110000
DTEND;TZID=UTC:20250801T120000
DTSTAMP:20260422T223308
CREATED:20250305T122312Z
LAST-MODIFIED:20251124T120334Z
UID:10009982-1754046000-1754049600@storipowys.org.uk
SUMMARY:Grŵp Canu Rootlets
DESCRIPTION:Rootlets yn grŵp canu “dewch â’ch babi eich hun” sy’n cwrdd bob wythnos yn\nystod y tymor yn ystafell John Edwards yn Y Plas\, Machynlleth ar fore Gwener o 11-12.\nMae croeso i bob gofalwr a phob oedran o blant.\nArchebu yn hanfodol.\nRhaid i bob oedolyn fod yng nghwmni plentyn.\nBwriedir i archebion fod ar gyfer teuluoedd: gallwch archebu bloc a newid yr oedolyn\nsy’n dod gyda’r plentyn bob tro (hefyd yn iawn i’r ddau riant/gofalwr fynychu gydag un\nplentyn).\nGallwch hefyd ddod â brodyr a chwiorydd yn rhad ac am ddim.\nOs ydych chi’n rhannu gofal plant gyda ffrindiau ac eisiau dod â phlant o fwy nag un\nteulu\, mae hynny’n iawn hefyd\, cyn belled â’ch bod chi’n gallu gofalu am yr holl blant\nrydych chi’n dod â nhw gyda chi’n gyfrifol ac yn ddibynadwy.\nDylai pob plentyn o deulu ar wahân gael archebu ar wahân.\nRwy’n argymell cymhareb o 1 oedolyn i 2 blentyn os yw’r ddau o dan 4 oed. I ddod draw\,\narchebwch floc hanner tymor.
URL:https://storipowys.org.uk/event/grwp-canu-rootlets/2025-08-01/?lang=cy
LOCATION:Y Plas\, Pentrerhedyn St\, Machynlleth\, SY20 8ER
ATTACH;FMTTYPE=image/png:https://storipowys.org.uk/wp-content/uploads/2025/02/Square-website-images.zip-6.png
ORGANIZER;CN="Ruth Gordon":MAILTO:Rootedvoiceschoir@gmail.com
END:VEVENT
BEGIN:VEVENT
DTSTART;TZID=UTC:20250731T190000
DTEND;TZID=UTC:20250731T210000
DTSTAMP:20260422T223308
CREATED:20250403T113710Z
LAST-MODIFIED:20251124T120407Z
UID:10009201-1753988400-1753995600@storipowys.org.uk
SUMMARY:Côr Cymunedol Rooted Voices
DESCRIPTION:Ydych chi wrth eich bodd yn canu? Heb ganu ers ysgol ond hoffech roi cynnig arni? \nMae croeso cynnes i chi ddod draw i’n côr cymunedol ar nos Iau (7–9pm) yn y Tabernacl\, MOMA ym Machynlleth. Dan ni yn canolbwyntio ar iechyd y llais\, teimlo’n dda yn ein cyrff ein hunain\, a chanu harmoni. Does dim angen profiad blaenorol o ganu ac mae croeso mawr i gantorion swil! \n£5-15 y sesiwn\, neu £25-75 am floc o 6. Os oes angen i chi dalu llai i allu dod\, cysylltwch â ni.
URL:https://storipowys.org.uk/event/15621/2025-07-31/?lang=cy
LOCATION:St Peter’s church\, St Peter Penrallt Street\, MACHYNLLETH\, SY20 8HE
ATTACH;FMTTYPE=image/jpeg:https://storipowys.org.uk/wp-content/uploads/2025/04/4.jpg
ORGANIZER;CN="Ruth Gordon":MAILTO:Rootedvoiceschoir@gmail.com
END:VEVENT
BEGIN:VEVENT
DTSTART;TZID=UTC:20250731T120000
DTEND;TZID=UTC:20250731T140000
DTSTAMP:20260422T223308
CREATED:20250609T103503Z
LAST-MODIFIED:20250609T104139Z
UID:10013675-1753963200-1753970400@storipowys.org.uk
SUMMARY:Grŵp Gwehyddu
DESCRIPTION:Ymunwch â ni i fwynhau gwau gyda sgwrs. Mae peiriannau gwnïo ar gael.
URL:https://storipowys.org.uk/event/sewing-group-2/2025-07-31/?lang=cy
LOCATION:Llyfrgell Ystradgynlais Library
ATTACH;FMTTYPE=image/png:https://storipowys.org.uk/wp-content/uploads/2024/12/sewing-photo-for-StP.png
ORGANIZER;CN="Llyfrgell Ystradgynlais Library":MAILTO:ystrad.library@powys.gov.uk
END:VEVENT
BEGIN:VEVENT
DTSTART;TZID=UTC:20250731T110000
DTEND;TZID=UTC:20250731T130000
DTSTAMP:20260422T223308
CREATED:20250609T104234Z
LAST-MODIFIED:20250609T104341Z
UID:10014196-1753959600-1753966800@storipowys.org.uk
SUMMARY:Clwb Bridge
DESCRIPTION:Ymunwch ag Andrew Gilbey yn y grŵp bywiog hwn sy’n addas ar gyfer pob lefel o allu\, o ddechreuwyr i chwaraewyr medrus.
URL:https://storipowys.org.uk/event/bridge-club-2/2025-07-31/?lang=cy
LOCATION:Llyfrgell Ystradgynlais Library
ATTACH;FMTTYPE=image/png:https://storipowys.org.uk/wp-content/uploads/2024/12/bridge-photo.png
ORGANIZER;CN="Llyfrgell Ystradgynlais Library":MAILTO:ystrad.library@powys.gov.uk
END:VEVENT
BEGIN:VEVENT
DTSTART;TZID=UTC:20250731T103000
DTEND;TZID=UTC:20250913T170000
DTSTAMP:20260422T223308
CREATED:20250801T103701Z
LAST-MODIFIED:20250801T103757Z
UID:10018270-1753957800-1757782800@storipowys.org.uk
SUMMARY:Sioe Grŵp yr Haf
DESCRIPTION:Dau ddeg o artistiaid sy’n gweithio yng Nghymru yn arddangos degau o baentiadau yn gyfan gwbl.
URL:https://storipowys.org.uk/event/17490/?lang=cy
LOCATION:The Lion Street Gallery\, 6 Lion Street\, Hay on Wye\, HR3 5AA\, United Kingdom
ATTACH;FMTTYPE=image/jpeg:https://storipowys.org.uk/wp-content/uploads/2025/07/Screenshot_1-8-2025_113628_www.lionstreetgallery.co_.uk_.jpeg
ORGANIZER;CN="Brent Blair":MAILTO:thelionstreetgallery@gmail.com
END:VEVENT
BEGIN:VEVENT
DTSTART;TZID=UTC:20250731T103000
DTEND;TZID=UTC:20250731T120000
DTSTAMP:20260422T223308
CREATED:20250609T104431Z
LAST-MODIFIED:20250609T104530Z
UID:10014717-1753957800-1753963200@storipowys.org.uk
SUMMARY:Coffi a Sgwrs
DESCRIPTION:Trefnir ein boreau coffi cymunedol poblogaidd gan Ffrindiau’r Llyfrgell ac fe’u cynhelir bob dydd Iau 10.30-12.
URL:https://storipowys.org.uk/event/coffee-and-chat-2/2025-07-31/?lang=cy
LOCATION:Llyfrgell Ystradgynlais Library
ATTACH;FMTTYPE=image/png:https://storipowys.org.uk/wp-content/uploads/2024/12/Coffee-and-chat-photo.png
ORGANIZER;CN="Llyfrgell Ystradgynlais Library":MAILTO:ystrad.library@powys.gov.uk
END:VEVENT
BEGIN:VEVENT
DTSTART;TZID=UTC:20250731T100000
DTEND;TZID=UTC:20250731T120000
DTSTAMP:20260422T223308
CREATED:20250730T115139Z
LAST-MODIFIED:20250730T115139Z
UID:10018038-1753956000-1753963200@storipowys.org.uk
SUMMARY:Gweithdy Gardd Awyr Agored Fach
DESCRIPTION:Creu gardd awyr agored fach a gwneud llyfrau bach i ymwelwyr bach eu darllen!
URL:https://storipowys.org.uk/event/gweithdy-gardd-awyr-agored-fach/?lang=cy
LOCATION:Newtown Library/Llyfrgell y Drenewydd\, Park Lane\, Newtown\, SY16 1EJ
ATTACH;FMTTYPE=image/png:https://storipowys.org.uk/wp-content/uploads/2025/07/Cymraeg-Gardening-Workshops-Newtown-Facebook-Post.png
ORGANIZER;CN="Newtown Library":MAILTO:newtown.library@powys.gov.uk
END:VEVENT
BEGIN:VEVENT
DTSTART;TZID=UTC:20250731T093000
DTEND;TZID=UTC:20250731T110000
DTSTAMP:20260422T223309
CREATED:20250226T142244Z
LAST-MODIFIED:20250226T142244Z
UID:10007217-1753954200-1753959600@storipowys.org.uk
SUMMARY:Grŵp Y Ffrindiau Digidol
DESCRIPTION:Man diogel lle gall oedolyn hŷn dod i’r arfer â thecnoleg gyda’ igilydd.
URL:https://storipowys.org.uk/event/grwp-y-ffrindiau-digidol/2025-07-31/?lang=cy
LOCATION:Newtown Library/Llyfrgell y Drenewydd\, Park Lane\, Newtown\, SY16 1EJ
ATTACH;FMTTYPE=image/png:https://storipowys.org.uk/wp-content/uploads/2025/02/Digital-Friends-1.png
ORGANIZER;CN="Newtown Library":MAILTO:newtown.library@powys.gov.uk
END:VEVENT
BEGIN:VEVENT
DTSTART;TZID=UTC:20250731T060000
DTEND;TZID=UTC:20250731T203000
DTSTAMP:20260422T223309
CREATED:20250409T151955Z
LAST-MODIFIED:20250409T151955Z
UID:10011254-1753941600-1753993800@storipowys.org.uk
SUMMARY:
DESCRIPTION:
URL:https://storipowys.org.uk/event/15685/2025-07-31/?lang=cy
LOCATION:The Youth & Community Centre (RDC)\, Llanfyllin
ATTACH;FMTTYPE=image/png:https://storipowys.org.uk/wp-content/uploads/2025/04/lyac-facebok-banner-25.png
ORGANIZER;CN="Arts Connection - Cyswllt Celf":MAILTO:sian@artsconnection.org.uk
END:VEVENT
BEGIN:VEVENT
DTSTART;TZID=UTC:20250730T163000
DTEND;TZID=UTC:20250730T180000
DTSTAMP:20260422T223309
CREATED:20250528T101144Z
LAST-MODIFIED:20250528T101144Z
UID:10011751-1753893000-1753898400@storipowys.org.uk
SUMMARY:Dawns Solar
DESCRIPTION:Mae Solar Dance\, a sefydlwyd ym 1994\, yn cynnig ystod eang o ddosbarthiadau dawns hwyliog i blant 4 oed a hŷn.\nGydag amrywiaeth o arddulliau dawns i’w harchwilio\, mae pob myfyriwr yn cael y cyfle i fod yn ‘Seren Solar!’ \nBob dydd Mercher: 4.30pm – 6pm\n4+ oed
URL:https://storipowys.org.uk/event/dawns-solar/2025-07-30/?lang=cy
LOCATION:The Welfare Ystradgynlais Y Neuadd Les\, Brecon Rd\, Ystradgynlais\, Swansea\, SA9 1JJ\, United Kingdom
ATTACH;FMTTYPE=image/jpeg:https://storipowys.org.uk/wp-content/uploads/2025/05/45271545_2005380566213227_2904708570085851136_n.jpg
ORGANIZER;CN="The Welfare Ystradgynlais":MAILTO:boxoffice@thewelfare.co.uk
END:VEVENT
BEGIN:VEVENT
DTSTART;TZID=UTC:20250730T160000
DTEND;TZID=UTC:20250730T180000
DTSTAMP:20260422T223309
CREATED:20250711T132758Z
LAST-MODIFIED:20250714T101904Z
UID:10017202-1753891200-1753898400@storipowys.org.uk
SUMMARY:Clwb Gwyddbwyll
DESCRIPTION:Clwb gwyddbwyll yn llyfrgell ac amgueddfa Llanidloes \nCroeso i bob oed a phob lefel o allu.\nRhaid i blant dan 8 oed fod yng nghwmni oedolyn.
URL:https://storipowys.org.uk/event/clwb-gwyddbwyll-2/2025-07-30/?lang=cy
LOCATION:Llanidloes library and musuem\, Town Hall\, Llanidloes\, SY18 6BN
ATTACH;FMTTYPE=image/jpeg:https://storipowys.org.uk/wp-content/uploads/2025/07/girls-playing-chess-together-home_738298-151.jpg
ORGANIZER;CN="Llanidloes library and museum":MAILTO:llanidloes.library@powys.gov.uk
END:VEVENT
BEGIN:VEVENT
DTSTART;TZID=UTC:20250730T133000
DTEND;TZID=UTC:20250730T150000
DTSTAMP:20260422T223309
CREATED:20250528T101154Z
LAST-MODIFIED:20250528T101154Z
UID:10011991-1753882200-1753887600@storipowys.org.uk
SUMMARY:Nexus Arts
DESCRIPTION:Celfyddydau Perfformio a Chreadigol i Bawb\nDrama\, dawns a chelfyddydau gweledol ar gyfer grŵp integredig o oedolion ac oedolion ag anableddau dysgu. \nPob Dydd Mercher 1.30 – 3pm\n£5 y sesiwn\, Gofalwyr am ddim
URL:https://storipowys.org.uk/event/nexus-arts/2025-07-30/?lang=cy
LOCATION:The Welfare Ystradgynlais Y Neuadd Les\, Brecon Rd\, Ystradgynlais\, Swansea\, SA9 1JJ\, United Kingdom
ATTACH;FMTTYPE=image/jpeg:https://storipowys.org.uk/wp-content/uploads/2025/05/2jzeSqBw-1.jpeg
ORGANIZER;CN="The Welfare Ystradgynlais":MAILTO:boxoffice@thewelfare.co.uk
END:VEVENT
BEGIN:VEVENT
DTSTART;TZID=UTC:20250730T123000
DTEND;TZID=UTC:20250730T140000
DTSTAMP:20260422T223309
CREATED:20250716T091440Z
LAST-MODIFIED:20250716T091549Z
UID:10017344-1753878600-1753884000@storipowys.org.uk
SUMMARY:The Twin Tides
DESCRIPTION:Y Doniau Tiwb \nMae Christine yn rhannu ei cherddoriaeth gyda synnwyr o antur\, yn dod yn ôl i draddodiadau fiddl Cymru\, America a Sgotland. Mae hi wedi ennill cystadleuaeth Fiddl Celtaidd Cymru ddwywaith\, ac mae ganddi gefndir yn y gerddoriaeth ddawns a storiwriaeth\, ac mae hi’n adnabyddus o fandiau fel Fernhill. Mae Tommie\, accordionist o Gernyw\, yn creu cerddoriaeth sy’n croesi traddodiadau poblogaidd Ewrop\, yn gweithio rhwng y DU a’r Gwledydd Nordig yn y cerddoriaeth\, theatr a dawns. Mae ei brosiectau eraill yn cynnwys TEYR\, Ville & Tommie a Värivarjo. Gyda’n gilydd\, mae Christine a Tommie yn gwehyddu darlun o alawon sy’n syfrdanu\, gan addo taith gerddorol anfarwol.
URL:https://storipowys.org.uk/event/the-twin-tides/?lang=cy
LOCATION:The Old School Community Hub\, School Lane\, NEW RADNOR\, LD8 2SS
ATTACH;FMTTYPE=image/jpeg:https://storipowys.org.uk/wp-content/uploads/2025/07/fiddle.jpg
END:VEVENT
BEGIN:VEVENT
DTSTART;TZID=UTC:20250730T101500
DTEND;TZID=UTC:20250730T123000
DTSTAMP:20260422T223309
CREATED:20250122T145303Z
LAST-MODIFIED:20250331T142332Z
UID:10005479-1753870500-1753878600@storipowys.org.uk
SUMMARY:Clwb Celf
DESCRIPTION:Grŵp croesawgar ar gyfer pob gallu a chariadon celf. Bob wythnos byddwch yn cael rhai syniadau a thechnegau prosiect i roi cynnig arnynt\, neu gallwch ddefnyddio’r gofod i weithio ar eich prosiectau presennol. Darperir deunyddiau ac offer\, ond mae croeso i chi ddod â’ch deunyddiau eich hun.
URL:https://storipowys.org.uk/event/14172/2025-07-30/?lang=cy
LOCATION:Llyfrgell Ystradgynlais Library\, Temperance Lane\, Swansea\, SA9 1JP
ATTACH;FMTTYPE=image/png:https://storipowys.org.uk/wp-content/uploads/2025/01/Clwb-Celf-4.png
ORGANIZER;CN="Ystradgynlais Library":MAILTO:ystrad.library@powys.gov.uk
END:VEVENT
END:VCALENDAR