BEGIN:VCALENDAR
VERSION:2.0
PRODID:-//Powys - ECPv6.15.20//NONSGML v1.0//EN
CALSCALE:GREGORIAN
METHOD:PUBLISH
X-WR-CALNAME:Powys
X-ORIGINAL-URL:https://storipowys.org.uk/?lang=cy
X-WR-CALDESC:Events for Powys
REFRESH-INTERVAL;VALUE=DURATION:PT1H
X-Robots-Tag:noindex
X-PUBLISHED-TTL:PT1H
BEGIN:VTIMEZONE
TZID:UTC
BEGIN:STANDARD
TZOFFSETFROM:+0000
TZOFFSETTO:+0000
TZNAME:UTC
DTSTART:20240101T000000
END:STANDARD
END:VTIMEZONE
BEGIN:VEVENT
DTSTART;TZID=UTC:20250811T110000
DTEND;TZID=UTC:20250811T113000
DTSTAMP:20260422T194314
CREATED:20250613T134113Z
LAST-MODIFIED:20250613T134337Z
UID:10015897-1754910000-1754911800@storipowys.org.uk
SUMMARY:Amser Stori
DESCRIPTION:Bob Dydd Llun
URL:https://storipowys.org.uk/event/storytime-2/2025-08-11/?lang=cy
LOCATION:Hay on Wye Library\, Oxford Road\, Hay on Wye\, HR3 5BT
ATTACH;FMTTYPE=image/jpeg:https://storipowys.org.uk/wp-content/uploads/2025/06/Screenshot_13-6-2025_144057_.jpeg
ORGANIZER;CN="y Gaer":MAILTO:ygaer@powys.gov.uk
END:VEVENT
BEGIN:VEVENT
DTSTART;TZID=UTC:20250810T150000
DTEND;TZID=UTC:20250810T173000
DTSTAMP:20260422T194314
CREATED:20250711T105138Z
LAST-MODIFIED:20250711T105138Z
UID:10017354-1754838000-1754847000@storipowys.org.uk
SUMMARY:As You Like It
DESCRIPTION:Fel y Mynnwch –\nO fewn cyfyngiadau byd corfforaethol\, technolegol-obsesedig y Llys\, mae’r presennol yn flinedig\, mae bywyd yn mynd heibio\, ac mae’r dyfodol yn ymddangos yn ddigalon. Ond pan gaiff Rosalind ei diswyddo’n sydyn gan ei hewyrth\, yn hytrach na digalonni\, mae hi a’i chyfnither Celia yn manteisio ar y cyfle i ddechrau o’r newydd – gan gymryd hunaniaethau newydd ac ymgofleidio rhyddid a llawenydd Coedwig Arden. \nMae’r rhai sy’n mentro i’r Goedwig yn cael adfywiad yn y byd bohemaidd hwn\, yn rhydd o drafferthion eu bywydau blaenorol. Maen nhw’n profi cariad\, trawsnewid a hyfrydwch grymuso – yn diffodd\, ac yn ‘wastraffu’ amser. Gyda cherddoriaeth fyw\, deallusrwydd miniog ac euforia cariad newydd\, mae’r cynhyrchiad llawen hwn o Fel y Mynnwch gan Sun & Moon Theatre yn ein hatgoffa i wneud yr hyn rydyn ni’n ei garu – ac i gofio sut i fyw! \nYn addas i bob oed – dewch atom yr haf hwn i fwynhau comedi fwyaf codi calon Shakespeare\, wedi’i pherfformio’n greadigol ac yn llawen gan griw agos o bum actor.
URL:https://storipowys.org.uk/event/as-you-like-it/2025-08-10/?lang=cy
LOCATION:Willow Globe\, Penanole LLanwrthyl\, LLANDRINDOD WELLS\, LD1 6NN
ATTACH;FMTTYPE=image/jpeg:https://storipowys.org.uk/wp-content/uploads/2025/07/sun-and-moon-1.jpg
ORGANIZER;CN="Shakespeare Link":MAILTO:info@shakespearelink.org.uk
END:VEVENT
BEGIN:VEVENT
DTSTART;TZID=UTC:20250809T193000
DTEND;TZID=UTC:20250809T230000
DTSTAMP:20260422T194314
CREATED:20250730T115655Z
LAST-MODIFIED:20250730T115936Z
UID:10018028-1754767800-1754780400@storipowys.org.uk
SUMMARY:Adolygiad Americanaidd yr Holl Star
DESCRIPTION:Rydym yn falch o gyhoeddi geni sioe Americana newydd gyda dwy act sy’n cynnwys talentau di-argyhoeddi HOME OF THE FREE a CHUCK MICALLEF. Mae’r sioe hon yn cael ei chefnogi gan NolsonAllan/Scheme Teithio NightOut. Mae HOME OF THE FREE yn gydweithrediad rhwng Dave Luke a Alex Valentine\, dwy Londonwr a aeth yn ôl i Presteigne (a elwir yn ‘cartref yr rhydd’) yng Nghanolbarth Cymru. Mae harmonïau trawiadol a chwarae gitâr rhagorol yn cyfuno i greu cyfuniad unigryw o Wlad\, Ffolk Gyfoes a Americana. Bu Dave Luke yn gwasanaethu ei hyfforddiant cerddorol yn y band Roc Gwlad The Coyotes\, a enillodd wobrau\, sydd wedi ei leoli yn Llundain. Ers iddo symud i Ganolbarth Cymru yn y 1990au\, mae wedi teithio ar draws Ewrop yn helaeth mewn amrywiaeth o fandiau ac wedi chwarae mewn sefydliadau chwedlonol yn yr UD fel Grand Ole Opry\, The Ryman Auditorium a Kerrville Folk Festival. Ganwyd Alex a dyfu i fyny yn Camden\, yn awr yn byw heb rwydd yn nhŷ bach pren sydd o amgylch coedwigoedd derw hynafol. Hyd yn hyn\, mae wedi gwneud wyth albwm ar label Struck Dumb Records.
URL:https://storipowys.org.uk/event/17372/?lang=cy
LOCATION:The Hub\, School Lane\, New Radnor\, LD8 2SS
ATTACH;FMTTYPE=image/jpeg:https://storipowys.org.uk/wp-content/uploads/2025/07/IMG_1312.jpeg
ORGANIZER;CN="Ruth Watson":MAILTO:ruthwatsonreeds@gmail.com
END:VEVENT
BEGIN:VEVENT
DTSTART;TZID=UTC:20250809T193000
DTEND;TZID=UTC:20250809T213000
DTSTAMP:20260422T194314
CREATED:20250716T095252Z
LAST-MODIFIED:20250716T095253Z
UID:10017180-1754767800-1754775000@storipowys.org.uk
SUMMARY:The All Star Americano Review
DESCRIPTION:Home of the Free
URL:https://storipowys.org.uk/event/the-all-star-americano-review/?lang=cy
LOCATION:The Old School Community Hub\, School Lane\, NEW RADNOR\, LD8 2SS
ATTACH;FMTTYPE=image/jpeg:https://storipowys.org.uk/wp-content/uploads/2025/07/5585.jpg
END:VEVENT
BEGIN:VEVENT
DTSTART;TZID=UTC:20250809T190000
DTEND;TZID=UTC:20250809T220000
DTSTAMP:20260422T194314
CREATED:20250711T105138Z
LAST-MODIFIED:20250711T105138Z
UID:10017353-1754766000-1754776800@storipowys.org.uk
SUMMARY:As You Like It
DESCRIPTION:Fel y Mynnwch –\nO fewn cyfyngiadau byd corfforaethol\, technolegol-obsesedig y Llys\, mae’r presennol yn flinedig\, mae bywyd yn mynd heibio\, ac mae’r dyfodol yn ymddangos yn ddigalon. Ond pan gaiff Rosalind ei diswyddo’n sydyn gan ei hewyrth\, yn hytrach na digalonni\, mae hi a’i chyfnither Celia yn manteisio ar y cyfle i ddechrau o’r newydd – gan gymryd hunaniaethau newydd ac ymgofleidio rhyddid a llawenydd Coedwig Arden. \nMae’r rhai sy’n mentro i’r Goedwig yn cael adfywiad yn y byd bohemaidd hwn\, yn rhydd o drafferthion eu bywydau blaenorol. Maen nhw’n profi cariad\, trawsnewid a hyfrydwch grymuso – yn diffodd\, ac yn ‘wastraffu’ amser. Gyda cherddoriaeth fyw\, deallusrwydd miniog ac euforia cariad newydd\, mae’r cynhyrchiad llawen hwn o Fel y Mynnwch gan Sun & Moon Theatre yn ein hatgoffa i wneud yr hyn rydyn ni’n ei garu – ac i gofio sut i fyw! \nYn addas i bob oed – dewch atom yr haf hwn i fwynhau comedi fwyaf codi calon Shakespeare\, wedi’i pherfformio’n greadigol ac yn llawen gan griw agos o bum actor.
URL:https://storipowys.org.uk/event/as-you-like-it/2025-08-09/?lang=cy
LOCATION:Willow Globe\, Penanole LLanwrthyl\, LLANDRINDOD WELLS\, LD1 6NN
ATTACH;FMTTYPE=image/jpeg:https://storipowys.org.uk/wp-content/uploads/2025/07/sun-and-moon-1.jpg
ORGANIZER;CN="Shakespeare Link":MAILTO:info@shakespearelink.org.uk
END:VEVENT
BEGIN:VEVENT
DTSTART;TZID=UTC:20250809T183000
DTEND;TZID=UTC:20250809T230000
DTSTAMP:20260422T194314
CREATED:20250804T140715Z
LAST-MODIFIED:20250804T140944Z
UID:10018274-1754764200-1754780400@storipowys.org.uk
SUMMARY:Dawns Gwlad
DESCRIPTION:Cerddoriaeth Gwlad fyw gyda cerddorion lleol Marcus a Cerys a bwyd gan Small Farms Gourmet Grill. Dewch i ymuno â’r hwyl. Gwisgooga cowboy yn ddewisol. Mae’r drysau a’r bar ar agor am 6.30yp. Bwyd rhwng 6.30-8.30yp. Hoedown rhwng 8yp-11yp gyda throsiad. (£5 cyfraniad tuag at Neuadd y Pentref)
URL:https://storipowys.org.uk/event/17522/?lang=cy
LOCATION:Clyro Village Hall\, The Village\, Clyro\, HR3 5SA\, United Kingdom
ATTACH;FMTTYPE=image/jpeg:https://storipowys.org.uk/wp-content/uploads/2025/08/LiveMusic-1.jpg
ORGANIZER;CN="Clyro Hall Committee":MAILTO:clyrohallcommittee@gmail.com
END:VEVENT
BEGIN:VEVENT
DTSTART;TZID=UTC:20250808T140000
DTEND;TZID=UTC:20250808T150000
DTSTAMP:20260422T194314
CREATED:20250725T075621Z
LAST-MODIFIED:20250725T075621Z
UID:10018014-1754661600-1754665200@storipowys.org.uk
SUMMARY:Awr Hudolus yn Llyfrgell Y Gelli: Yma\, ceir Dreigiau
DESCRIPTION:Gweision y Neidr\, Mursennod\, glöynnod byw a phryfed eraill yn yr ardal leol \nAwr Hudolus yn Llyfrgell Y Gelli: Yma\, ceir Dreigiau\ngan Stu Roberts\nDydd Gwener 8 Awst 2025 am 2pm \nGweision y Neidr\, Mursennod\, glöynnod byw a phryfed eraill yn yr ardal leol – byddaf yn siarad am eu hamrywiol enwau\, gwahaniaethau\, ffyrdd o’u hadnabod\, cynefinoedd a chylchoedd bywyd. \nAm ddim i fynychu ond croesewir rhoddion – nid oes angen archebu\, dewch heibio ar y dydd
URL:https://storipowys.org.uk/event/awr-hudolus-yn-llyfrgell-y-gelli-yma-ceir-dreigiau/?lang=cy
LOCATION:Hay on Wye Library\, Oxford Road\, Hay on Wye\, HR3 5BT
ATTACH;FMTTYPE=image/png:https://storipowys.org.uk/wp-content/uploads/2025/07/HAY-Website-images-1.png
ORGANIZER;CN="Hay on Wye Library":MAILTO:hay.library@powys.gov.uk
END:VEVENT
BEGIN:VEVENT
DTSTART;TZID=UTC:20250808T120000
DTEND;TZID=UTC:20250808T133000
DTSTAMP:20260422T194314
CREATED:20250811T103042Z
LAST-MODIFIED:20250811T103541Z
UID:10019604-1754654400-1754659800@storipowys.org.uk
SUMMARY:Canu a chwerthin ar gyfer iechyd
DESCRIPTION:Mae canu a chwerthin yn wych ar gyfer eich ymlacio\, yn cryfhau’r system imiwn a gwella eich iechyd.Mae’r dosbarth hwyl a chyfeillgar hwn ar agor i bawb\, waeth p’un a allwch ganu ai peidio. Byddwn yn sgwrsio\, yn chwerthin\, a’n dysgu llawer o gân hardd yn gydamserol. Beth bynnag yw eich oedran\, symudedd\, hyder neu brofiad canu\, bydd y dosbarth hwn yn gwneud i chi deimlo’n wych. Dewch a gwneud ffrindiau\, a gwella eich wythnos gyfan.Cynhelir y dosbarth o 12 tan 1:30pm bob Gwener.
URL:https://storipowys.org.uk/event/17676/2025-08-08/?lang=cy
LOCATION:The Hafren\, Llanidloes Road\, Newtown\, SY164HU
ATTACH;FMTTYPE=image/jpeg:https://storipowys.org.uk/wp-content/uploads/2025/08/lungclass_TS.jpg
END:VEVENT
BEGIN:VEVENT
DTSTART;TZID=UTC:20250808T110000
DTEND;TZID=UTC:20250808T120000
DTSTAMP:20260422T194314
CREATED:20250305T122312Z
LAST-MODIFIED:20251124T120334Z
UID:10009983-1754650800-1754654400@storipowys.org.uk
SUMMARY:Grŵp Canu Rootlets
DESCRIPTION:Rootlets yn grŵp canu “dewch â’ch babi eich hun” sy’n cwrdd bob wythnos yn\nystod y tymor yn ystafell John Edwards yn Y Plas\, Machynlleth ar fore Gwener o 11-12.\nMae croeso i bob gofalwr a phob oedran o blant.\nArchebu yn hanfodol.\nRhaid i bob oedolyn fod yng nghwmni plentyn.\nBwriedir i archebion fod ar gyfer teuluoedd: gallwch archebu bloc a newid yr oedolyn\nsy’n dod gyda’r plentyn bob tro (hefyd yn iawn i’r ddau riant/gofalwr fynychu gydag un\nplentyn).\nGallwch hefyd ddod â brodyr a chwiorydd yn rhad ac am ddim.\nOs ydych chi’n rhannu gofal plant gyda ffrindiau ac eisiau dod â phlant o fwy nag un\nteulu\, mae hynny’n iawn hefyd\, cyn belled â’ch bod chi’n gallu gofalu am yr holl blant\nrydych chi’n dod â nhw gyda chi’n gyfrifol ac yn ddibynadwy.\nDylai pob plentyn o deulu ar wahân gael archebu ar wahân.\nRwy’n argymell cymhareb o 1 oedolyn i 2 blentyn os yw’r ddau o dan 4 oed. I ddod draw\,\narchebwch floc hanner tymor.
URL:https://storipowys.org.uk/event/grwp-canu-rootlets/2025-08-08/?lang=cy
LOCATION:Y Plas\, Pentrerhedyn St\, Machynlleth\, SY20 8ER
ATTACH;FMTTYPE=image/png:https://storipowys.org.uk/wp-content/uploads/2025/02/Square-website-images.zip-6.png
ORGANIZER;CN="Ruth Gordon":MAILTO:Rootedvoiceschoir@gmail.com
END:VEVENT
BEGIN:VEVENT
DTSTART;TZID=UTC:20250808T093000
DTEND;TZID=UTC:20250808T110000
DTSTAMP:20260422T194314
CREATED:20250811T103137Z
LAST-MODIFIED:20250811T103624Z
UID:10019082-1754645400-1754650800@storipowys.org.uk
SUMMARY:Canwch gyda'ch bachyn yn unig
DESCRIPTION:Dosbarth llawen ar gyfer plant bach a’u person mawr. 30 munud o ganu\, symudiad a phercusiwn ar gyfer plant cyn ysgol\, 30 munud o ddiod\, sgyrsiau\, bisgedi cartref\, 45 munud i’r plant aros a chwarae tra bydd oedolion yn sgwrsio neu’n mwynhau canu eu hunain!Dewch o hyd i’ch lleisiau\, gwnewch ffrindiau\, dadorchuddiwch glyw eich plentyn gyda harmonïau syml ac acapella. Croeso i ddechreuwyr llwyr/’doniadau’ . Beth bynnag yw eich pwynt dechreuol\, fe’ch cynhelir i fynd mewn cyfeiriad da\, datblygu eich lleisiau a chael llawer o hwyl yn y broses.Pob Gwener yn The Hafren 9:30-11:15yb.
URL:https://storipowys.org.uk/event/17668/2025-08-08/?lang=cy
LOCATION:The Hafren\, Llanidloes Road\, Newtown\, SY164HU
ATTACH;FMTTYPE=image/jpeg:https://storipowys.org.uk/wp-content/uploads/2025/08/babyclass_TS02.jpg
END:VEVENT
BEGIN:VEVENT
DTSTART;TZID=UTC:20250807T180000
DTEND;TZID=UTC:20250807T203000
DTSTAMP:20260422T194314
CREATED:20250113T102342Z
LAST-MODIFIED:20250205T161043Z
UID:10004822-1754589600-1754598600@storipowys.org.uk
SUMMARY:Grŵp cymdeithasol celf
DESCRIPTION:Mae Art Social Group ar gyfer artistiaid a phobl greadigol. Ein nod yw lleddfu unigedd drwy ddarparu lle i artistiaid ac unigolion creadigol ddod at ei gilydd\, creu celf\, cymdeithasu a chreu cysylltiadau newydd. Mae’r grŵp o allu cymysg\, a darperir yr holl adnoddau. Mae’r grŵp yn rhedeg o Ganolfan Integredig Teuluoedd y Trallwng bob pythefnos\, ar nos Iau\, rhwng 6-8:30pm. £15 y sesiwn i dalu am logi ystafell a deunyddiau.
URL:https://storipowys.org.uk/event/13761/2025-08-07/?lang=cy
LOCATION:Welshpool Integrated Family Centre\, Oldford Close\, Welshpool\, SY21 7SX
ATTACH;FMTTYPE=image/png:https://storipowys.org.uk/wp-content/uploads/2025/01/welshppol-art-group.png
ORGANIZER;CN="Jain Downing":MAILTO:welshpoolcreativearts@gmail.com
END:VEVENT
BEGIN:VEVENT
DTSTART;TZID=UTC:20250807T130000
DTEND;TZID=UTC:20250807T160000
DTSTAMP:20260422T194314
CREATED:20250804T140652Z
LAST-MODIFIED:20250804T140652Z
UID:10018278-1754571600-1754582400@storipowys.org.uk
SUMMARY:Diwrnod Archwilio Gardd Natur
DESCRIPTION:Ymunwch ag Ymddiriedolaeth Bywyd Gwyllt Sir Faesyfed a Llyfrgell Llandrindod am brynhawn llawn hwyl a natur i’r teulu.\nDewch o hyd i ni y tu allan i Amgueddfa Sir Faesyfed\nStryd y Deml\, Llandrindod\, LD1 5DL\nGalwch heibio\, darganfyddwch pa natur sydd i’w chael mewn mannau trefol gyda rhwydi ysgubo\, gemau\, helfeydd bywyd gwyllt a mwy.
URL:https://storipowys.org.uk/event/diwrnod-archwilio-gardd-natur/?lang=cy
LOCATION:Llandrindod Library / Llyfrgell Llandrindod\, Radnorshire Museum\, Temple Street\, Llandrindod Wells\, LD1 5DL\, LLandrindod Wells\, LD1 5DL
ATTACH;FMTTYPE=image/jpeg:https://storipowys.org.uk/wp-content/uploads/2025/08/RWT-Event-Cym.jpg
ORGANIZER;CN="Radnorshire Wildlife Trust":MAILTO:Grace@rwtwales.org
END:VEVENT
BEGIN:VEVENT
DTSTART;TZID=UTC:20250807T130000
DTEND;TZID=UTC:20250807T153000
DTSTAMP:20260422T194314
CREATED:20250730T115712Z
LAST-MODIFIED:20250730T115733Z
UID:10018030-1754571600-1754580600@storipowys.org.uk
SUMMARY:Gweithdy Creu Effaith Marmor drwy ddefnyddio Hylif
DESCRIPTION:Ymunwch â’r artist gweledol Erin Hughes am weithdy arbrofol sy’n archwilio creu effaith marmor drwy ddefnyddio hylif\, techneg chwareus ac ymarferol sy’n ymateb i gerddoriaeth mewn amser real. Wedi’i hanelu at bobl ifanc\, bydd y sesiwn hon yn dechrau gydag arddangosiad byw\, ac yna’r cyfle i gyfranogwyr roi cynnig ar y dechneg eu hunain. Gyda’n gilydd byddwn yn creu rhestr chwarae gymunedol o’n hoff draciau ac yn cymryd rhan mewn rhai ymarferion gwneud marciau dan arweiniad cerddoriaeth. Byddwch yn barod am brynhawn hwyliog\, greddfol\, a throchol yn weledol lle mae sain a delwedd yn cwrdd.
URL:https://storipowys.org.uk/event/gweithdy-creu-effaith-marmor-drwy-ddefnyddio-hylif/?lang=cy
LOCATION:Builth Wells Scout & Guide Hut\, Smithfield Road\, Builth Wells\, LD2 3AN
ATTACH;FMTTYPE=image/jpeg:https://storipowys.org.uk/wp-content/uploads/2025/07/IMG_8576-3-scaled.jpeg
ORGANIZER;CN="The Friends of Builth Wells Library":MAILTO:builth.library@powys.gov.uk
END:VEVENT
BEGIN:VEVENT
DTSTART;TZID=UTC:20250807T120000
DTEND;TZID=UTC:20250807T140000
DTSTAMP:20260422T194314
CREATED:20250609T103503Z
LAST-MODIFIED:20250609T104139Z
UID:10013676-1754568000-1754575200@storipowys.org.uk
SUMMARY:Grŵp Gwehyddu
DESCRIPTION:Ymunwch â ni i fwynhau gwau gyda sgwrs. Mae peiriannau gwnïo ar gael.
URL:https://storipowys.org.uk/event/sewing-group-2/2025-08-07/?lang=cy
LOCATION:Llyfrgell Ystradgynlais Library
ATTACH;FMTTYPE=image/png:https://storipowys.org.uk/wp-content/uploads/2024/12/sewing-photo-for-StP.png
ORGANIZER;CN="Llyfrgell Ystradgynlais Library":MAILTO:ystrad.library@powys.gov.uk
END:VEVENT
BEGIN:VEVENT
DTSTART;TZID=UTC:20250807T110000
DTEND;TZID=UTC:20250807T130000
DTSTAMP:20260422T194314
CREATED:20250609T104234Z
LAST-MODIFIED:20250609T104341Z
UID:10014197-1754564400-1754571600@storipowys.org.uk
SUMMARY:Clwb Bridge
DESCRIPTION:Ymunwch ag Andrew Gilbey yn y grŵp bywiog hwn sy’n addas ar gyfer pob lefel o allu\, o ddechreuwyr i chwaraewyr medrus.
URL:https://storipowys.org.uk/event/bridge-club-2/2025-08-07/?lang=cy
LOCATION:Llyfrgell Ystradgynlais Library
ATTACH;FMTTYPE=image/png:https://storipowys.org.uk/wp-content/uploads/2024/12/bridge-photo.png
ORGANIZER;CN="Llyfrgell Ystradgynlais Library":MAILTO:ystrad.library@powys.gov.uk
END:VEVENT
BEGIN:VEVENT
DTSTART;TZID=UTC:20250807T103000
DTEND;TZID=UTC:20250807T120000
DTSTAMP:20260422T194314
CREATED:20250609T104431Z
LAST-MODIFIED:20250609T104530Z
UID:10014718-1754562600-1754568000@storipowys.org.uk
SUMMARY:Coffi a Sgwrs
DESCRIPTION:Trefnir ein boreau coffi cymunedol poblogaidd gan Ffrindiau’r Llyfrgell ac fe’u cynhelir bob dydd Iau 10.30-12.
URL:https://storipowys.org.uk/event/coffee-and-chat-2/2025-08-07/?lang=cy
LOCATION:Llyfrgell Ystradgynlais Library
ATTACH;FMTTYPE=image/png:https://storipowys.org.uk/wp-content/uploads/2024/12/Coffee-and-chat-photo.png
ORGANIZER;CN="Llyfrgell Ystradgynlais Library":MAILTO:ystrad.library@powys.gov.uk
END:VEVENT
BEGIN:VEVENT
DTSTART;TZID=UTC:20250807T093000
DTEND;TZID=UTC:20250807T110000
DTSTAMP:20260422T194314
CREATED:20250226T142244Z
LAST-MODIFIED:20250226T142244Z
UID:10007218-1754559000-1754564400@storipowys.org.uk
SUMMARY:Grŵp Y Ffrindiau Digidol
DESCRIPTION:Man diogel lle gall oedolyn hŷn dod i’r arfer â thecnoleg gyda’ igilydd.
URL:https://storipowys.org.uk/event/grwp-y-ffrindiau-digidol/2025-08-07/?lang=cy
LOCATION:Newtown Library/Llyfrgell y Drenewydd\, Park Lane\, Newtown\, SY16 1EJ
ATTACH;FMTTYPE=image/png:https://storipowys.org.uk/wp-content/uploads/2025/02/Digital-Friends-1.png
ORGANIZER;CN="Newtown Library":MAILTO:newtown.library@powys.gov.uk
END:VEVENT
BEGIN:VEVENT
DTSTART;TZID=UTC:20250806T163000
DTEND;TZID=UTC:20250806T180000
DTSTAMP:20260422T194314
CREATED:20250528T101144Z
LAST-MODIFIED:20250528T101144Z
UID:10011752-1754497800-1754503200@storipowys.org.uk
SUMMARY:Dawns Solar
DESCRIPTION:Mae Solar Dance\, a sefydlwyd ym 1994\, yn cynnig ystod eang o ddosbarthiadau dawns hwyliog i blant 4 oed a hŷn.\nGydag amrywiaeth o arddulliau dawns i’w harchwilio\, mae pob myfyriwr yn cael y cyfle i fod yn ‘Seren Solar!’ \nBob dydd Mercher: 4.30pm – 6pm\n4+ oed
URL:https://storipowys.org.uk/event/dawns-solar/2025-08-06/?lang=cy
LOCATION:The Welfare Ystradgynlais Y Neuadd Les\, Brecon Rd\, Ystradgynlais\, Swansea\, SA9 1JJ\, United Kingdom
ATTACH;FMTTYPE=image/jpeg:https://storipowys.org.uk/wp-content/uploads/2025/05/45271545_2005380566213227_2904708570085851136_n.jpg
ORGANIZER;CN="The Welfare Ystradgynlais":MAILTO:boxoffice@thewelfare.co.uk
END:VEVENT
BEGIN:VEVENT
DTSTART;TZID=UTC:20250806T160000
DTEND;TZID=UTC:20250806T180000
DTSTAMP:20260422T194314
CREATED:20250711T132758Z
LAST-MODIFIED:20250714T101904Z
UID:10017203-1754496000-1754503200@storipowys.org.uk
SUMMARY:Clwb Gwyddbwyll
DESCRIPTION:Clwb gwyddbwyll yn llyfrgell ac amgueddfa Llanidloes \nCroeso i bob oed a phob lefel o allu.\nRhaid i blant dan 8 oed fod yng nghwmni oedolyn.
URL:https://storipowys.org.uk/event/clwb-gwyddbwyll-2/2025-08-06/?lang=cy
LOCATION:Llanidloes library and musuem\, Town Hall\, Llanidloes\, SY18 6BN
ATTACH;FMTTYPE=image/jpeg:https://storipowys.org.uk/wp-content/uploads/2025/07/girls-playing-chess-together-home_738298-151.jpg
ORGANIZER;CN="Llanidloes library and museum":MAILTO:llanidloes.library@powys.gov.uk
END:VEVENT
BEGIN:VEVENT
DTSTART;TZID=UTC:20250806T153000
DTEND;TZID=UTC:20250806T173000
DTSTAMP:20260422T194314
CREATED:20250205T155136Z
LAST-MODIFIED:20250205T155136Z
UID:10006953-1754494200-1754501400@storipowys.org.uk
SUMMARY:Clwb Lego
DESCRIPTION:Y Cyntaf ddydd Mercher o’r Mis \nDoes dim angen archebu lle \nRhais i blant dan o 8 oed fod yng nghwmni oedolyn/gofalwr
URL:https://storipowys.org.uk/event/clwb-lego/2025-08-06/?lang=cy
ATTACH;FMTTYPE=image/jpeg:https://storipowys.org.uk/wp-content/uploads/2025/02/lego-club-1.jpg
END:VEVENT
BEGIN:VEVENT
DTSTART;TZID=UTC:20250806T133000
DTEND;TZID=UTC:20250806T150000
DTSTAMP:20260422T194314
CREATED:20250528T101154Z
LAST-MODIFIED:20250528T101154Z
UID:10011992-1754487000-1754492400@storipowys.org.uk
SUMMARY:Nexus Arts
DESCRIPTION:Celfyddydau Perfformio a Chreadigol i Bawb\nDrama\, dawns a chelfyddydau gweledol ar gyfer grŵp integredig o oedolion ac oedolion ag anableddau dysgu. \nPob Dydd Mercher 1.30 – 3pm\n£5 y sesiwn\, Gofalwyr am ddim
URL:https://storipowys.org.uk/event/nexus-arts/2025-08-06/?lang=cy
LOCATION:The Welfare Ystradgynlais Y Neuadd Les\, Brecon Rd\, Ystradgynlais\, Swansea\, SA9 1JJ\, United Kingdom
ATTACH;FMTTYPE=image/jpeg:https://storipowys.org.uk/wp-content/uploads/2025/05/2jzeSqBw-1.jpeg
ORGANIZER;CN="The Welfare Ystradgynlais":MAILTO:boxoffice@thewelfare.co.uk
END:VEVENT
BEGIN:VEVENT
DTSTART;TZID=UTC:20250806T101500
DTEND;TZID=UTC:20250806T123000
DTSTAMP:20260422T194314
CREATED:20250122T145303Z
LAST-MODIFIED:20250331T142332Z
UID:10005480-1754475300-1754483400@storipowys.org.uk
SUMMARY:Clwb Celf
DESCRIPTION:Grŵp croesawgar ar gyfer pob gallu a chariadon celf. Bob wythnos byddwch yn cael rhai syniadau a thechnegau prosiect i roi cynnig arnynt\, neu gallwch ddefnyddio’r gofod i weithio ar eich prosiectau presennol. Darperir deunyddiau ac offer\, ond mae croeso i chi ddod â’ch deunyddiau eich hun.
URL:https://storipowys.org.uk/event/14172/2025-08-06/?lang=cy
LOCATION:Llyfrgell Ystradgynlais Library\, Temperance Lane\, Swansea\, SA9 1JP
ATTACH;FMTTYPE=image/png:https://storipowys.org.uk/wp-content/uploads/2025/01/Clwb-Celf-4.png
ORGANIZER;CN="Ystradgynlais Library":MAILTO:ystrad.library@powys.gov.uk
END:VEVENT
BEGIN:VEVENT
DTSTART;TZID=UTC:20250805T180000
DTEND;TZID=UTC:20250805T193000
DTSTAMP:20260422T194314
CREATED:20250326T133731Z
LAST-MODIFIED:20250326T133828Z
UID:10008423-1754416800-1754422200@storipowys.org.uk
SUMMARY:Clwb Crochenwaith
DESCRIPTION:Cwrs Crochenwaith Amser Tymor i Oedolion sydd eisiau dysgu sut i adeiladu â llaw yn greadigol. Pob modelu creadigol a chyfleoedd i arbrofi a chreu. Offer\, Clai a Gwydredd wedi’u cynnwys. Gyda’r Meistr Tiwtor Potter Alex Allpress
URL:https://storipowys.org.uk/event/15497/2025-08-05/?lang=cy
LOCATION:The Pottery\, Church Street\, Builth Wells\, LD2 3AP
ATTACH;FMTTYPE=image/jpeg:https://storipowys.org.uk/wp-content/uploads/2025/03/pottery-builth.jpg
END:VEVENT
BEGIN:VEVENT
DTSTART;TZID=UTC:20250805T160000
DTEND;TZID=UTC:20250805T193000
DTSTAMP:20260422T194314
CREATED:20250528T112355Z
LAST-MODIFIED:20250528T112355Z
UID:10011872-1754409600-1754422200@storipowys.org.uk
SUMMARY:The Performance Factory Stage School
DESCRIPTION:Dechrau perffaith i’r celfyddydau perfformio! \nDydd Mawrth\n4.15yp – 5.15yp:  Oedrannau 3-6\n5.15yp – 7.15yp: Oedrannau 7+
URL:https://storipowys.org.uk/event/the-performance-factory-stage-school/2025-08-05/?lang=cy
LOCATION:The Welfare Ystradgynlais Y Neuadd Les\, Brecon Rd\, Ystradgynlais\, Swansea\, SA9 1JJ\, United Kingdom
ATTACH;FMTTYPE=image/jpeg:https://storipowys.org.uk/wp-content/uploads/2025/05/124027951_3857489414296447_387030462166457355_n-2.jpg
ORGANIZER;CN="The Welfare Ystradgynlais":MAILTO:boxoffice@thewelfare.co.uk
END:VEVENT
BEGIN:VEVENT
DTSTART;TZID=UTC:20250805T153000
DTEND;TZID=UTC:20250805T163000
DTSTAMP:20260422T194314
CREATED:20250711T105109Z
LAST-MODIFIED:20250711T105109Z
UID:10017619-1754407800-1754411400@storipowys.org.uk
SUMMARY:Clwb Gwyddbwyll
DESCRIPTION:Addas ar gyfer chwaraewyr sy’n ddechreuwyr a rhai profiadol o bob oed
URL:https://storipowys.org.uk/event/clwb-gwyddbwyll/2025-08-05/?lang=cy
LOCATION:Ystradgynlais Library\, Temperance Lane\, SA9 1JP
ATTACH;FMTTYPE=image/jpeg:https://storipowys.org.uk/wp-content/uploads/2025/07/2.jpg
ORGANIZER;CN="Ystradgynlais Library / LLyfrgell Ystradygnlais":MAILTO:ystrad.library@powys.gov.uk
END:VEVENT
BEGIN:VEVENT
DTSTART;TZID=UTC:20250805T103000
DTEND;TZID=UTC:20250805T123000
DTSTAMP:20260422T194314
CREATED:20250730T115438Z
LAST-MODIFIED:20250730T115438Z
UID:10018022-1754389800-1754397000@storipowys.org.uk
SUMMARY:Wrth y Môr– Celfyddydau Teulu
DESCRIPTION:🏖️ Byddwn ni’n dod â’r traeth atoch chi’r haf hwn gyda’n gweithdy celf i’r teulu ar thema’r môr! 🌊 \nCyflwynir pob gweithdy yn ddwyieithog \n Mae’r prosiect hwn wedi’i ariannu gan Fforwm Gwerth Cymdeithasol\, Bwrdd Partneriaeth Rhanbarthol\, Llywodraeth Cymru a PAVO. \n🧵  Tecstilau \n🎨  Celfyddydau a Chrefftau \n🤲 Chwarae gyda’r synhwyrau \nPeople | Pobl: Leanne Griffiths a Hannah Kate Smith \nAge | Oed: Mwyaf addas 2+ ond croeso i bob oed  \n💷£𝟰 𝘆 𝘁𝗲𝘂𝗹𝘂 \n⏰  Amser: 10:30 am – 12:30 pm \n📅  Dydd Mawrth 5 Awst \n📍 𝗡𝗲𝘂𝗮𝗱𝗱 𝗗𝗿𝗲𝗳 𝗧𝗿𝗲𝗳𝗮𝗹𝗱𝘄𝘆𝗻 \n📅 Dydd Mawrth 12 Awst \n📍 The Institute\, Llanfair Caereinion \n📅 Dydd Mawrth 19 Awst \n📍 Neuadd Goffa | Llangynog
URL:https://storipowys.org.uk/event/wrth-y-mor-celfyddydau-teulu/?lang=cy
LOCATION:MONTGOMERY TOWN HALL\, Montgomery Town Hall\, Welshpool\, SY15 6PH
ATTACH;FMTTYPE=image/png:https://storipowys.org.uk/wp-content/uploads/2025/07/Seaside-a4-poster-family-Arts-Instagram-Post-45-1.png
ORGANIZER;CN="Arts Connection - Cyswllt Celf":MAILTO:sian@artsconnection.org.uk
END:VEVENT
BEGIN:VEVENT
DTSTART;TZID=UTC:20250805T103000
DTEND;TZID=UTC:20250805T123000
DTSTAMP:20260422T194314
CREATED:20250528T101159Z
LAST-MODIFIED:20250528T112130Z
UID:10012112-1754389800-1754397000@storipowys.org.uk
SUMMARY:Caffi Crefftus
DESCRIPTION:Ymunwch â’n hartistiaid cymunedol am sesiwn grefftau gyda phaned.\nGwerthfawrogir cyfraniad pawb\, nid oes angen profiad. \nPob Dydd Mawrth | 10.30yb – 12.30yp\n£4 y sesiwn | Gofalwyr Am Ddim
URL:https://storipowys.org.uk/event/caffi-crefftus/2025-08-05/?lang=cy
LOCATION:The Welfare Ystradgynlais Y Neuadd Les\, Brecon Rd\, Ystradgynlais\, Swansea\, SA9 1JJ\, United Kingdom
ATTACH;FMTTYPE=image/jpeg:https://storipowys.org.uk/wp-content/uploads/2025/05/brush-96240_1280-1-1140x500-1.jpg
ORGANIZER;CN="The Welfare Ystradgynlais":MAILTO:boxoffice@thewelfare.co.uk
END:VEVENT
BEGIN:VEVENT
DTSTART;TZID=UTC:20250805T100000
DTEND;TZID=UTC:20250805T120000
DTSTAMP:20260422T194314
CREATED:20250609T102810Z
LAST-MODIFIED:20250609T103017Z
UID:10012577-1754388000-1754395200@storipowys.org.uk
SUMMARY:Sesiwn Galw Heibio Wcreinaidd
DESCRIPTION:Fsesiynau cyfeillgar ble fydd tîm Powys ar gael i ddarparu cymorth\, gwybodaeth ac ateb unrhyw gwestiynau. \nGyda Nathan Gittins.
URL:https://storipowys.org.uk/event/ukrainian-drop-in/2025-08-05/?lang=cy
LOCATION:Llyfrgell Llandrindod Library\, Radnorshire Museum\, Temple Street\, Llandrinod Wells\, Powys\, LD1 5DL\, United Kingdom
ATTACH;FMTTYPE=image/png:https://storipowys.org.uk/wp-content/uploads/2025/06/ukraine.png
ORGANIZER;CN="Llyfrgell Llandrindod Library":MAILTO:llandrindod.library@powys.gov.uk
END:VEVENT
BEGIN:VEVENT
DTSTART;TZID=UTC:20250804T140000
DTEND;TZID=UTC:20250804T160000
DTSTAMP:20260422T194314
CREATED:20250609T141251Z
LAST-MODIFIED:20250609T141406Z
UID:10015245-1754316000-1754323200@storipowys.org.uk
SUMMARY:Gweu A Sgwrs\, Crosio A Siarad
DESCRIPTION:Grŵp cyfeillgar o bobl yn gwau a chrosio amrywiaeth o eitemau o flancedi i siwmperi \nNi chodir tâl i fynychu.
URL:https://storipowys.org.uk/event/knit-natter-crochet-chatter-2/2025-08-04/?lang=cy
LOCATION:Llyfrgell Rhaeadr / Rhayader Library\, West Street\, Rhayader\, LD6 5DS
ATTACH;FMTTYPE=image/jpeg:https://storipowys.org.uk/wp-content/uploads/2025/01/Screenshot_6-1-2025_143423_rhayader.co_.uk_.jpeg
ORGANIZER;CN="Llyfrgell Rhaeadr / Rhayader Library":MAILTO:rhayader.library@powys.gov.uk
END:VEVENT
BEGIN:VEVENT
DTSTART;TZID=UTC:20250804T140000
DTEND;TZID=UTC:20250804T160000
DTSTAMP:20260422T194314
CREATED:20250609T103814Z
LAST-MODIFIED:20250609T104104Z
UID:10013415-1754316000-1754323200@storipowys.org.uk
SUMMARY:Grŵp Ffynde
DESCRIPTION:Ymunwch â ni i fwynhau plethu gyda sgwrs. Mae peiriannau plethu ar gael.Mae te a choffi ar gael hefyd!
URL:https://storipowys.org.uk/event/patchwork-group-dec-24-3/2025-08-04/?lang=cy
LOCATION:Llyfrgell Ystradgynlais Library
ATTACH;FMTTYPE=image/jpeg:https://storipowys.org.uk/wp-content/uploads/2024/11/patchwork.jpg
ORGANIZER;CN="Llyfrgell Ystradgynlais Library":MAILTO:ystrad.library@powys.gov.uk
END:VEVENT
END:VCALENDAR