BEGIN:VCALENDAR
VERSION:2.0
PRODID:-//Powys - ECPv6.15.20//NONSGML v1.0//EN
CALSCALE:GREGORIAN
METHOD:PUBLISH
X-WR-CALNAME:Powys
X-ORIGINAL-URL:https://storipowys.org.uk/?lang=cy
X-WR-CALDESC:Events for Powys
REFRESH-INTERVAL;VALUE=DURATION:PT1H
X-Robots-Tag:noindex
X-PUBLISHED-TTL:PT1H
BEGIN:VTIMEZONE
TZID:UTC
BEGIN:STANDARD
TZOFFSETFROM:+0000
TZOFFSETTO:+0000
TZNAME:UTC
DTSTART:20240101T000000
END:STANDARD
END:VTIMEZONE
BEGIN:VEVENT
DTSTART;TZID=UTC:20250818T140000
DTEND;TZID=UTC:20250818T160000
DTSTAMP:20260422T155040
CREATED:20250609T141251Z
LAST-MODIFIED:20250609T141406Z
UID:10015247-1755525600-1755532800@storipowys.org.uk
SUMMARY:Gweu A Sgwrs\, Crosio A Siarad
DESCRIPTION:Grŵp cyfeillgar o bobl yn gwau a chrosio amrywiaeth o eitemau o flancedi i siwmperi \nNi chodir tâl i fynychu.
URL:https://storipowys.org.uk/event/knit-natter-crochet-chatter-2/2025-08-18/?lang=cy
LOCATION:Llyfrgell Rhaeadr / Rhayader Library\, West Street\, Rhayader\, LD6 5DS
ATTACH;FMTTYPE=image/jpeg:https://storipowys.org.uk/wp-content/uploads/2025/01/Screenshot_6-1-2025_143423_rhayader.co_.uk_.jpeg
ORGANIZER;CN="Llyfrgell Rhaeadr / Rhayader Library":MAILTO:rhayader.library@powys.gov.uk
END:VEVENT
BEGIN:VEVENT
DTSTART;TZID=UTC:20250818T140000
DTEND;TZID=UTC:20250818T160000
DTSTAMP:20260422T155040
CREATED:20250609T103814Z
LAST-MODIFIED:20250609T104104Z
UID:10013417-1755525600-1755532800@storipowys.org.uk
SUMMARY:Grŵp Ffynde
DESCRIPTION:Ymunwch â ni i fwynhau plethu gyda sgwrs. Mae peiriannau plethu ar gael.Mae te a choffi ar gael hefyd!
URL:https://storipowys.org.uk/event/patchwork-group-dec-24-3/2025-08-18/?lang=cy
LOCATION:Llyfrgell Ystradgynlais Library
ATTACH;FMTTYPE=image/jpeg:https://storipowys.org.uk/wp-content/uploads/2024/11/patchwork.jpg
ORGANIZER;CN="Llyfrgell Ystradgynlais Library":MAILTO:ystrad.library@powys.gov.uk
END:VEVENT
BEGIN:VEVENT
DTSTART;TZID=UTC:20250818T140000
DTEND;TZID=UTC:20250818T150000
DTSTAMP:20260422T155040
CREATED:20250205T155212Z
LAST-MODIFIED:20251110T115910Z
UID:10006652-1755525600-1755529200@storipowys.org.uk
SUMMARY:Sesiynau jamio gitâr
DESCRIPTION:Chwarae’r gitâr?\nEisiau jamio gyda gitarwyr eraill?\nDewch â’ch gitâr a/neu’ch llais\, bob Dydd Llun 2-3!\nCroeso i bob gallu.
URL:https://storipowys.org.uk/event/sesiynau-jamio-gitar/2025-08-18/?lang=cy
LOCATION:Llyfrgell Ystradgynlais Library
ATTACH;FMTTYPE=image/png:https://storipowys.org.uk/wp-content/uploads/2025/02/GUITAR.png
ORGANIZER;CN="Ystradgynlais Library":MAILTO:ystrad.library@powys.gov.uk
END:VEVENT
BEGIN:VEVENT
DTSTART;TZID=UTC:20250818T110000
DTEND;TZID=UTC:20250818T113000
DTSTAMP:20260422T155040
CREATED:20250613T134113Z
LAST-MODIFIED:20250613T134337Z
UID:10015898-1755514800-1755516600@storipowys.org.uk
SUMMARY:Amser Stori
DESCRIPTION:Bob Dydd Llun
URL:https://storipowys.org.uk/event/storytime-2/2025-08-18/?lang=cy
LOCATION:Hay on Wye Library\, Oxford Road\, Hay on Wye\, HR3 5BT
ATTACH;FMTTYPE=image/jpeg:https://storipowys.org.uk/wp-content/uploads/2025/06/Screenshot_13-6-2025_144057_.jpeg
ORGANIZER;CN="y Gaer":MAILTO:ygaer@powys.gov.uk
END:VEVENT
BEGIN:VEVENT
DTSTART;TZID=UTC:20250818T101500
DTEND;TZID=UTC:20250818T110000
DTSTAMP:20260422T155040
CREATED:20241206T143703Z
LAST-MODIFIED:20241216T163654Z
UID:10003547-1755512100-1755514800@storipowys.org.uk
SUMMARY:Amser stori gyda Sammi
DESCRIPTION:Caneuon\, rhigymau a straeon i blant oed cyn-ysgol (a’u rhieni/gofalwyr). \nGyda Sammi Orme.
URL:https://storipowys.org.uk/event/amser-stori-gyda-sammi-llanidloes-jan-25/2025-08-18/?lang=cy
LOCATION:Llyfrgell Llanidloes / Llanidloes Library\, Great Oak Street\, Llanidloes\, SY18 6BN
ATTACH;FMTTYPE=image/jpeg:https://storipowys.org.uk/wp-content/uploads/2024/12/Storytime_With_Sammi.jpg
ORGANIZER;CN="Llfrygell Llanidloes Library":MAILTO:llanidloes.library@powys.gov.uk
END:VEVENT
BEGIN:VEVENT
DTSTART;TZID=UTC:20250818T100000
DTEND;TZID=UTC:20250819T160000
DTSTAMP:20260422T155040
CREATED:20250715T105157Z
LAST-MODIFIED:20250715T105337Z
UID:10017889-1755511200-1755619200@storipowys.org.uk
SUMMARY:Ysgol Haf Cerddoriaeth a Thechnoleg - Llandrindod
DESCRIPTION:Am greu a pherfformio cerddoriaeth fyw? Mae arnom angen cerddorion ifanc i helpu i siapio a pherfformio sgôr y Sioe Hydref. \nBydd y cerddorion a ddewisir yn mynd ymlaen i berfformio’n fyw ochr yn ochr â thîm proffesiynol. \nYn y gweithdai hyn\, byddwch yn dysgu sut i greu cerddoriaeth gan ddefnyddio offerynnau\, lleisiau\, pedalau lŵp a thechnoleg yn fyw. Dim graddau yn angenrheidiol (er bod croeso i rai gradd 8 hefyd!). Yn cael eu rhedeg gan y cyfansoddwr cymunedol Jim Elliot. \nBydd yr ysgol haf 2 ddiwrnod yma yn dilyn y sesiynau blasu i feithrin dy sgiliau a phennu dy swyddogaeth yn y sioe: \n18-19 Awst: 10am-4pm – Celf O Gwmpas\, Llandrindod \nAddas i bob gallu\, oed 14-24.
URL:https://storipowys.org.uk/event/music-tech-summer-school-llandrindod/?lang=cy
LOCATION:Celf O Gwmpas\, Tremont Road\, Llandrindod Wells\, LD1 5EB
ATTACH;FMTTYPE=image/jpeg:https://storipowys.org.uk/wp-content/uploads/2025/07/226_MGRL4400.jpg
ORGANIZER;CN="Mid Powys Youth Theatre":MAILTO:hello@mpyt.co.uk
END:VEVENT
BEGIN:VEVENT
DTSTART;TZID=UTC:20250816T140000
DTEND;TZID=UTC:20250816T160000
DTSTAMP:20260422T155040
CREATED:20250414T121022Z
LAST-MODIFIED:20250428T092240Z
UID:10011615-1755352800-1755360000@storipowys.org.uk
SUMMARY:GWYLIAD BYWYD GWYLLT
DESCRIPTION:Mae clwb gwylio yn fan lle gall plant gwrdd a mwynhau dysgu trwy archwilio eu hamgylchedd. \nMae’r grŵp hwn yn rhoi cyfleoedd i’r plant ddarganfod bywyd gwyllt lleol a mynd yn sownd â gweithgareddau ymarferol a all gynnwys unrhyw beth o waith celf amgylcheddol\, adeiladu tŷ trychfilod\, gwylio’r dylluan wen i drochi mewn pwll! \nAddas ar gyfer plant 7-12 oed\, rhaid i blant o dan 8 oed fod yng nghwmni oedolyn.
URL:https://storipowys.org.uk/event/gwyliad-bywyd-gwyllt/2025-08-16/?lang=cy
LOCATION:y Gaer Brecon Library\, Museum and Art Gallery / y Gaer Aberhonddu Llyfyrgell\, Amgueddfa a Oriel Gelf\, y Gaer\, Glamorgan Street\, Brecon\, LD3 7DW
ATTACH;FMTTYPE=image/png:https://storipowys.org.uk/wp-content/uploads/2025/04/yG-Brecon-Watch-Club-2024-2025-BI.png
END:VEVENT
BEGIN:VEVENT
DTSTART;TZID=UTC:20250815T140000
DTEND;TZID=UTC:20250815T150000
DTSTAMP:20260422T155040
CREATED:20250811T103247Z
LAST-MODIFIED:20250811T103247Z
UID:10018290-1755266400-1755270000@storipowys.org.uk
SUMMARY:Amser Stori yn Llyfrgell Rhaeadr Gwy
DESCRIPTION:Bydd Sammi yn dod i Lyfrgell Rhaeadr Gwy ddydd Gwener 15 Awst a dydd Gwener 29 Awst am 2pm\nDewch â’ch plant am straeon\, rhigymau a chaneuon.\nEdrychwn ymlaen at eich gweld chi.
URL:https://storipowys.org.uk/event/amser-stori-yn-llyfrgell-rhaeadr-gwy-2/?lang=cy
ATTACH;FMTTYPE=image/png:https://storipowys.org.uk/wp-content/uploads/2025/08/RHA-Storytime-Poster-CYM.png
END:VEVENT
BEGIN:VEVENT
DTSTART;TZID=UTC:20250815T120000
DTEND;TZID=UTC:20250815T133000
DTSTAMP:20260422T155040
CREATED:20250811T103042Z
LAST-MODIFIED:20250811T103541Z
UID:10019605-1755259200-1755264600@storipowys.org.uk
SUMMARY:Canu a chwerthin ar gyfer iechyd
DESCRIPTION:Mae canu a chwerthin yn wych ar gyfer eich ymlacio\, yn cryfhau’r system imiwn a gwella eich iechyd.Mae’r dosbarth hwyl a chyfeillgar hwn ar agor i bawb\, waeth p’un a allwch ganu ai peidio. Byddwn yn sgwrsio\, yn chwerthin\, a’n dysgu llawer o gân hardd yn gydamserol. Beth bynnag yw eich oedran\, symudedd\, hyder neu brofiad canu\, bydd y dosbarth hwn yn gwneud i chi deimlo’n wych. Dewch a gwneud ffrindiau\, a gwella eich wythnos gyfan.Cynhelir y dosbarth o 12 tan 1:30pm bob Gwener.
URL:https://storipowys.org.uk/event/17676/2025-08-15/?lang=cy
LOCATION:The Hafren\, Llanidloes Road\, Newtown\, SY164HU
ATTACH;FMTTYPE=image/jpeg:https://storipowys.org.uk/wp-content/uploads/2025/08/lungclass_TS.jpg
END:VEVENT
BEGIN:VEVENT
DTSTART;TZID=UTC:20250815T110000
DTEND;TZID=UTC:20250815T120000
DTSTAMP:20260422T155040
CREATED:20250305T122312Z
LAST-MODIFIED:20251124T120334Z
UID:10009984-1755255600-1755259200@storipowys.org.uk
SUMMARY:Grŵp Canu Rootlets
DESCRIPTION:Rootlets yn grŵp canu “dewch â’ch babi eich hun” sy’n cwrdd bob wythnos yn\nystod y tymor yn ystafell John Edwards yn Y Plas\, Machynlleth ar fore Gwener o 11-12.\nMae croeso i bob gofalwr a phob oedran o blant.\nArchebu yn hanfodol.\nRhaid i bob oedolyn fod yng nghwmni plentyn.\nBwriedir i archebion fod ar gyfer teuluoedd: gallwch archebu bloc a newid yr oedolyn\nsy’n dod gyda’r plentyn bob tro (hefyd yn iawn i’r ddau riant/gofalwr fynychu gydag un\nplentyn).\nGallwch hefyd ddod â brodyr a chwiorydd yn rhad ac am ddim.\nOs ydych chi’n rhannu gofal plant gyda ffrindiau ac eisiau dod â phlant o fwy nag un\nteulu\, mae hynny’n iawn hefyd\, cyn belled â’ch bod chi’n gallu gofalu am yr holl blant\nrydych chi’n dod â nhw gyda chi’n gyfrifol ac yn ddibynadwy.\nDylai pob plentyn o deulu ar wahân gael archebu ar wahân.\nRwy’n argymell cymhareb o 1 oedolyn i 2 blentyn os yw’r ddau o dan 4 oed. I ddod draw\,\narchebwch floc hanner tymor.
URL:https://storipowys.org.uk/event/grwp-canu-rootlets/2025-08-15/?lang=cy
LOCATION:Y Plas\, Pentrerhedyn St\, Machynlleth\, SY20 8ER
ATTACH;FMTTYPE=image/png:https://storipowys.org.uk/wp-content/uploads/2025/02/Square-website-images.zip-6.png
ORGANIZER;CN="Ruth Gordon":MAILTO:Rootedvoiceschoir@gmail.com
END:VEVENT
BEGIN:VEVENT
DTSTART;TZID=UTC:20250815T093000
DTEND;TZID=UTC:20250815T110000
DTSTAMP:20260422T155040
CREATED:20250811T103137Z
LAST-MODIFIED:20250811T103624Z
UID:10019083-1755250200-1755255600@storipowys.org.uk
SUMMARY:Canwch gyda'ch bachyn yn unig
DESCRIPTION:Dosbarth llawen ar gyfer plant bach a’u person mawr. 30 munud o ganu\, symudiad a phercusiwn ar gyfer plant cyn ysgol\, 30 munud o ddiod\, sgyrsiau\, bisgedi cartref\, 45 munud i’r plant aros a chwarae tra bydd oedolion yn sgwrsio neu’n mwynhau canu eu hunain!Dewch o hyd i’ch lleisiau\, gwnewch ffrindiau\, dadorchuddiwch glyw eich plentyn gyda harmonïau syml ac acapella. Croeso i ddechreuwyr llwyr/’doniadau’ . Beth bynnag yw eich pwynt dechreuol\, fe’ch cynhelir i fynd mewn cyfeiriad da\, datblygu eich lleisiau a chael llawer o hwyl yn y broses.Pob Gwener yn The Hafren 9:30-11:15yb.
URL:https://storipowys.org.uk/event/17668/2025-08-15/?lang=cy
LOCATION:The Hafren\, Llanidloes Road\, Newtown\, SY164HU
ATTACH;FMTTYPE=image/jpeg:https://storipowys.org.uk/wp-content/uploads/2025/08/babyclass_TS02.jpg
END:VEVENT
BEGIN:VEVENT
DTSTART;TZID=UTC:20250814T120000
DTEND;TZID=UTC:20250814T140000
DTSTAMP:20260422T155040
CREATED:20250609T103503Z
LAST-MODIFIED:20250609T104139Z
UID:10013677-1755172800-1755180000@storipowys.org.uk
SUMMARY:Grŵp Gwehyddu
DESCRIPTION:Ymunwch â ni i fwynhau gwau gyda sgwrs. Mae peiriannau gwnïo ar gael.
URL:https://storipowys.org.uk/event/sewing-group-2/2025-08-14/?lang=cy
LOCATION:Llyfrgell Ystradgynlais Library
ATTACH;FMTTYPE=image/png:https://storipowys.org.uk/wp-content/uploads/2024/12/sewing-photo-for-StP.png
ORGANIZER;CN="Llyfrgell Ystradgynlais Library":MAILTO:ystrad.library@powys.gov.uk
END:VEVENT
BEGIN:VEVENT
DTSTART;TZID=UTC:20250814T110000
DTEND;TZID=UTC:20250814T130000
DTSTAMP:20260422T155040
CREATED:20250609T104234Z
LAST-MODIFIED:20250609T104341Z
UID:10014198-1755169200-1755176400@storipowys.org.uk
SUMMARY:Clwb Bridge
DESCRIPTION:Ymunwch ag Andrew Gilbey yn y grŵp bywiog hwn sy’n addas ar gyfer pob lefel o allu\, o ddechreuwyr i chwaraewyr medrus.
URL:https://storipowys.org.uk/event/bridge-club-2/2025-08-14/?lang=cy
LOCATION:Llyfrgell Ystradgynlais Library
ATTACH;FMTTYPE=image/png:https://storipowys.org.uk/wp-content/uploads/2024/12/bridge-photo.png
ORGANIZER;CN="Llyfrgell Ystradgynlais Library":MAILTO:ystrad.library@powys.gov.uk
END:VEVENT
BEGIN:VEVENT
DTSTART;TZID=UTC:20250814T103000
DTEND;TZID=UTC:20250814T120000
DTSTAMP:20260422T155040
CREATED:20250609T104431Z
LAST-MODIFIED:20250609T104530Z
UID:10014719-1755167400-1755172800@storipowys.org.uk
SUMMARY:Coffi a Sgwrs
DESCRIPTION:Trefnir ein boreau coffi cymunedol poblogaidd gan Ffrindiau’r Llyfrgell ac fe’u cynhelir bob dydd Iau 10.30-12.
URL:https://storipowys.org.uk/event/coffee-and-chat-2/2025-08-14/?lang=cy
LOCATION:Llyfrgell Ystradgynlais Library
ATTACH;FMTTYPE=image/png:https://storipowys.org.uk/wp-content/uploads/2024/12/Coffee-and-chat-photo.png
ORGANIZER;CN="Llyfrgell Ystradgynlais Library":MAILTO:ystrad.library@powys.gov.uk
END:VEVENT
BEGIN:VEVENT
DTSTART;TZID=UTC:20250814T093000
DTEND;TZID=UTC:20250814T110000
DTSTAMP:20260422T155040
CREATED:20250226T142244Z
LAST-MODIFIED:20250226T142244Z
UID:10007219-1755163800-1755169200@storipowys.org.uk
SUMMARY:Grŵp Y Ffrindiau Digidol
DESCRIPTION:Man diogel lle gall oedolyn hŷn dod i’r arfer â thecnoleg gyda’ igilydd.
URL:https://storipowys.org.uk/event/grwp-y-ffrindiau-digidol/2025-08-14/?lang=cy
LOCATION:Newtown Library/Llyfrgell y Drenewydd\, Park Lane\, Newtown\, SY16 1EJ
ATTACH;FMTTYPE=image/png:https://storipowys.org.uk/wp-content/uploads/2025/02/Digital-Friends-1.png
ORGANIZER;CN="Newtown Library":MAILTO:newtown.library@powys.gov.uk
END:VEVENT
BEGIN:VEVENT
DTSTART;TZID=UTC:20250814T060000
DTEND;TZID=UTC:20250814T203000
DTSTAMP:20260422T155040
CREATED:20250409T151955Z
LAST-MODIFIED:20250409T151955Z
UID:10011255-1755151200-1755203400@storipowys.org.uk
SUMMARY:
DESCRIPTION:
URL:https://storipowys.org.uk/event/15685/2025-08-14/?lang=cy
LOCATION:The Youth & Community Centre (RDC)\, Llanfyllin
ATTACH;FMTTYPE=image/png:https://storipowys.org.uk/wp-content/uploads/2025/04/lyac-facebok-banner-25.png
ORGANIZER;CN="Arts Connection - Cyswllt Celf":MAILTO:sian@artsconnection.org.uk
END:VEVENT
BEGIN:VEVENT
DTSTART;TZID=UTC:20250813T163000
DTEND;TZID=UTC:20250813T180000
DTSTAMP:20260422T155040
CREATED:20250528T101144Z
LAST-MODIFIED:20250528T101144Z
UID:10011753-1755102600-1755108000@storipowys.org.uk
SUMMARY:Dawns Solar
DESCRIPTION:Mae Solar Dance\, a sefydlwyd ym 1994\, yn cynnig ystod eang o ddosbarthiadau dawns hwyliog i blant 4 oed a hŷn.\nGydag amrywiaeth o arddulliau dawns i’w harchwilio\, mae pob myfyriwr yn cael y cyfle i fod yn ‘Seren Solar!’ \nBob dydd Mercher: 4.30pm – 6pm\n4+ oed
URL:https://storipowys.org.uk/event/dawns-solar/2025-08-13/?lang=cy
LOCATION:The Welfare Ystradgynlais Y Neuadd Les\, Brecon Rd\, Ystradgynlais\, Swansea\, SA9 1JJ\, United Kingdom
ATTACH;FMTTYPE=image/jpeg:https://storipowys.org.uk/wp-content/uploads/2025/05/45271545_2005380566213227_2904708570085851136_n.jpg
ORGANIZER;CN="The Welfare Ystradgynlais":MAILTO:boxoffice@thewelfare.co.uk
END:VEVENT
BEGIN:VEVENT
DTSTART;TZID=UTC:20250813T160000
DTEND;TZID=UTC:20250813T180000
DTSTAMP:20260422T155040
CREATED:20250711T132758Z
LAST-MODIFIED:20250714T101904Z
UID:10017204-1755100800-1755108000@storipowys.org.uk
SUMMARY:Clwb Gwyddbwyll
DESCRIPTION:Clwb gwyddbwyll yn llyfrgell ac amgueddfa Llanidloes \nCroeso i bob oed a phob lefel o allu.\nRhaid i blant dan 8 oed fod yng nghwmni oedolyn.
URL:https://storipowys.org.uk/event/clwb-gwyddbwyll-2/2025-08-13/?lang=cy
LOCATION:Llanidloes library and musuem\, Town Hall\, Llanidloes\, SY18 6BN
ATTACH;FMTTYPE=image/jpeg:https://storipowys.org.uk/wp-content/uploads/2025/07/girls-playing-chess-together-home_738298-151.jpg
ORGANIZER;CN="Llanidloes library and museum":MAILTO:llanidloes.library@powys.gov.uk
END:VEVENT
BEGIN:VEVENT
DTSTART;TZID=UTC:20250813T150000
DTEND;TZID=UTC:20250813T163000
DTSTAMP:20260422T155040
CREATED:20250528T112806Z
LAST-MODIFIED:20250609T100031Z
UID:10011666-1755097200-1755102600@storipowys.org.uk
SUMMARY:Tynnu lluniau yn y Gaer
DESCRIPTION:Ymunwch â grŵp tynnu lluniau newydd y Gaer\, yn cychwyn ar 4 Mehefin\, i rannu syniadau\, sgiliau\, sgwrs ac anogaeth tra’n cael eich ysbrydoli gan eitemau o gasgliadau gwych y Gaer. Gan gwrdd yn yr Atriwm\, byddwn yn mynd i’r Amgueddfa a’r Orielau Celf am awr o dynnu lluniau cyn mynd i fyny i’r Ystafell Dysgu Creadigol i rannu ein gwaith a thrafod y sesiwn. Mae croeso i bob gallu; Y peth pwysicaf yw bod gennych chi angerdd tuag at dynnu lluniau! \nNoder\, mae Tynnu Lluniau yn y Gaer yn grŵp tynnu lluniau ar y cyd ac nid yw’r sesiwn yn cynnwys tiwtora. Mae cadeiriau/stolion i’w defnyddio yn yr amgueddfa ar gael yn ôl yr angen. \nRhestr Deunyddiau (na ddarperir) \nLlyfr Braslunio / Papur \nPensil \nHygyrchedd \nRydym am i’n holl ymwelwyr deimlo bod croeso yn y Gaer\, felly rhowch wybod i ni wrth archebu os oes gennych unrhyw anghenion hygyrchedd y dylai ein gwirfoddolwyr neu’n staff fod yn ymwybodol ohonynt.
URL:https://storipowys.org.uk/event/tynnu-lluniau-yn-y-gaer/2025-08-13/?lang=cy
LOCATION:y Gaer Brecon Library\, Museum and Art Gallery / y Gaer Aberhonddu Llyfyrgell\, Amgueddfa a Oriel Gelf\, y Gaer\, Glamorgan Street\, Brecon\, LD3 7DW
ATTACH;FMTTYPE=image/jpeg:https://storipowys.org.uk/wp-content/uploads/2025/05/website-version.jpg
ORGANIZER;CN="y Gaer":MAILTO:ygaer@powys.gov.uk
END:VEVENT
BEGIN:VEVENT
DTSTART;TZID=UTC:20250813T140000
DTEND;TZID=UTC:20250813T170000
DTSTAMP:20260422T155040
CREATED:20250127T103315Z
LAST-MODIFIED:20250129T142305Z
UID:10004995-1755093600-1755104400@storipowys.org.uk
SUMMARY:Clwb Gwyddbwyll
DESCRIPTION:
URL:https://storipowys.org.uk/event/14032/2025-08-13/?lang=cy
LOCATION:Llyfrgell Machynlleth / Machynlleth Library\, Maengwyn Street\, Machynlleth\, S20 8DY
ATTACH;FMTTYPE=image/png:https://storipowys.org.uk/wp-content/uploads/2025/01/Orange-and-Black-Chess-Club-Instagram-Post-2.png
END:VEVENT
BEGIN:VEVENT
DTSTART;TZID=UTC:20250813T133000
DTEND;TZID=UTC:20250813T150000
DTSTAMP:20260422T155040
CREATED:20250528T101154Z
LAST-MODIFIED:20250528T101154Z
UID:10011993-1755091800-1755097200@storipowys.org.uk
SUMMARY:Nexus Arts
DESCRIPTION:Celfyddydau Perfformio a Chreadigol i Bawb\nDrama\, dawns a chelfyddydau gweledol ar gyfer grŵp integredig o oedolion ac oedolion ag anableddau dysgu. \nPob Dydd Mercher 1.30 – 3pm\n£5 y sesiwn\, Gofalwyr am ddim
URL:https://storipowys.org.uk/event/nexus-arts/2025-08-13/?lang=cy
LOCATION:The Welfare Ystradgynlais Y Neuadd Les\, Brecon Rd\, Ystradgynlais\, Swansea\, SA9 1JJ\, United Kingdom
ATTACH;FMTTYPE=image/jpeg:https://storipowys.org.uk/wp-content/uploads/2025/05/2jzeSqBw-1.jpeg
ORGANIZER;CN="The Welfare Ystradgynlais":MAILTO:boxoffice@thewelfare.co.uk
END:VEVENT
BEGIN:VEVENT
DTSTART;TZID=UTC:20250813T101500
DTEND;TZID=UTC:20250813T123000
DTSTAMP:20260422T155040
CREATED:20250122T145303Z
LAST-MODIFIED:20250331T142332Z
UID:10005481-1755080100-1755088200@storipowys.org.uk
SUMMARY:Clwb Celf
DESCRIPTION:Grŵp croesawgar ar gyfer pob gallu a chariadon celf. Bob wythnos byddwch yn cael rhai syniadau a thechnegau prosiect i roi cynnig arnynt\, neu gallwch ddefnyddio’r gofod i weithio ar eich prosiectau presennol. Darperir deunyddiau ac offer\, ond mae croeso i chi ddod â’ch deunyddiau eich hun.
URL:https://storipowys.org.uk/event/14172/2025-08-13/?lang=cy
LOCATION:Llyfrgell Ystradgynlais Library\, Temperance Lane\, Swansea\, SA9 1JP
ATTACH;FMTTYPE=image/png:https://storipowys.org.uk/wp-content/uploads/2025/01/Clwb-Celf-4.png
ORGANIZER;CN="Ystradgynlais Library":MAILTO:ystrad.library@powys.gov.uk
END:VEVENT
BEGIN:VEVENT
DTSTART;TZID=UTC:20250812T183000
DTEND;TZID=UTC:20250812T203000
DTSTAMP:20260422T155040
CREATED:20250409T151816Z
LAST-MODIFIED:20250409T151816Z
UID:10011232-1755023400-1755030600@storipowys.org.uk
SUMMARY:Masquerade
DESCRIPTION:Our classes aimed at people with learning disabilities feature drama\, art\, movement & music | Mae ein dosbarthiadau ar gyfer pobl ag anableddau dysgu yn cynnwys drama\, celf\, symud a cherddoriaeth\nBi-weekly classes on Tuesday evenings | Dosbarthiadau bob yn ail wythnos ar nos Fawrth\n🕐 6:30-8:30pm\n📍 The Institute\, Llanfyllin\n💰 £4 per session | £4 y sesiwn\nDates: The group will be meeting on the following TUESDAYS of each month:\nApril | Ebrill 15 & 22\nMay | Mai 6 & 20\nJune | Mehefin 3 & 17\nJuly | Gorffennaf 1 & 15\nBreak for summer\nSep | Medi 9 & 23\nOct | Hydref 7 & 21st\nNov | Tachwedd 4\, 18 & 25\nEnd of year show: Saturday 29 November | Dydd Sad 29 Tach
URL:https://storipowys.org.uk/event/masquerade/2025-08-12/?lang=cy
LOCATION:The Institute\, Llanfyllin\, SY22 5AA
ATTACH;FMTTYPE=image/png:https://storipowys.org.uk/wp-content/uploads/2025/04/Masquerade-24-Facebook-Cover-5.png
ORGANIZER;CN="Arts Connection - Cyswllt Celf":MAILTO:sian@artsconnection.org.uk
END:VEVENT
BEGIN:VEVENT
DTSTART;TZID=UTC:20250812T180000
DTEND;TZID=UTC:20250812T193000
DTSTAMP:20260422T155040
CREATED:20250326T133731Z
LAST-MODIFIED:20250326T133828Z
UID:10008424-1755021600-1755027000@storipowys.org.uk
SUMMARY:Clwb Crochenwaith
DESCRIPTION:Cwrs Crochenwaith Amser Tymor i Oedolion sydd eisiau dysgu sut i adeiladu â llaw yn greadigol. Pob modelu creadigol a chyfleoedd i arbrofi a chreu. Offer\, Clai a Gwydredd wedi’u cynnwys. Gyda’r Meistr Tiwtor Potter Alex Allpress
URL:https://storipowys.org.uk/event/15497/2025-08-12/?lang=cy
LOCATION:The Pottery\, Church Street\, Builth Wells\, LD2 3AP
ATTACH;FMTTYPE=image/jpeg:https://storipowys.org.uk/wp-content/uploads/2025/03/pottery-builth.jpg
END:VEVENT
BEGIN:VEVENT
DTSTART;TZID=UTC:20250812T160000
DTEND;TZID=UTC:20250812T193000
DTSTAMP:20260422T155040
CREATED:20250528T112355Z
LAST-MODIFIED:20250528T112355Z
UID:10011873-1755014400-1755027000@storipowys.org.uk
SUMMARY:The Performance Factory Stage School
DESCRIPTION:Dechrau perffaith i’r celfyddydau perfformio! \nDydd Mawrth\n4.15yp – 5.15yp:  Oedrannau 3-6\n5.15yp – 7.15yp: Oedrannau 7+
URL:https://storipowys.org.uk/event/the-performance-factory-stage-school/2025-08-12/?lang=cy
LOCATION:The Welfare Ystradgynlais Y Neuadd Les\, Brecon Rd\, Ystradgynlais\, Swansea\, SA9 1JJ\, United Kingdom
ATTACH;FMTTYPE=image/jpeg:https://storipowys.org.uk/wp-content/uploads/2025/05/124027951_3857489414296447_387030462166457355_n-2.jpg
ORGANIZER;CN="The Welfare Ystradgynlais":MAILTO:boxoffice@thewelfare.co.uk
END:VEVENT
BEGIN:VEVENT
DTSTART;TZID=UTC:20250812T153000
DTEND;TZID=UTC:20250812T163000
DTSTAMP:20260422T155040
CREATED:20250711T105109Z
LAST-MODIFIED:20250711T105109Z
UID:10017620-1755012600-1755016200@storipowys.org.uk
SUMMARY:Clwb Gwyddbwyll
DESCRIPTION:Addas ar gyfer chwaraewyr sy’n ddechreuwyr a rhai profiadol o bob oed
URL:https://storipowys.org.uk/event/clwb-gwyddbwyll/2025-08-12/?lang=cy
LOCATION:Ystradgynlais Library\, Temperance Lane\, SA9 1JP
ATTACH;FMTTYPE=image/jpeg:https://storipowys.org.uk/wp-content/uploads/2025/07/2.jpg
ORGANIZER;CN="Ystradgynlais Library / LLyfrgell Ystradygnlais":MAILTO:ystrad.library@powys.gov.uk
END:VEVENT
BEGIN:VEVENT
DTSTART;TZID=UTC:20250812T103000
DTEND;TZID=UTC:20250812T123000
DTSTAMP:20260422T155040
CREATED:20250804T140623Z
LAST-MODIFIED:20250804T140623Z
UID:10018280-1754994600-1755001800@storipowys.org.uk
SUMMARY:Gweithdy Gardd Awyr Agored Bach
DESCRIPTION:Creu gardd awyr agored fach a gwneud llyfrau bach i ymwelwyr bach eu darllen!
URL:https://storipowys.org.uk/event/gweithdy-gardd-awyr-agored-bach/?lang=cy
LOCATION:Llandrindod Library / Llyfrgell Llandrindod\, Radnorshire Museum\, Temple Street\, Llandrindod Wells\, LD1 5DL\, LLandrindod Wells\, LD1 5DL
ATTACH;FMTTYPE=image/png:https://storipowys.org.uk/wp-content/uploads/2025/08/Tiny-Garden-Cym.png
ORGANIZER;CN="Llandrindod Library":MAILTO:llandrindod.library@powys.gov.uk
END:VEVENT
BEGIN:VEVENT
DTSTART;TZID=UTC:20250812T103000
DTEND;TZID=UTC:20250812T123000
DTSTAMP:20260422T155040
CREATED:20250801T104000Z
LAST-MODIFIED:20250801T104000Z
UID:10018024-1754994600-1755001800@storipowys.org.uk
SUMMARY:Wrth y Môr– Celfyddydau Teulu
DESCRIPTION:🏖️ Byddwn ni’n dod â’r traeth atoch chi’r haf hwn gyda’n gweithdy celf i’r teulu ar thema’r môr! 🌊 \nCyflwynir pob gweithdy yn ddwyieithog \nMae’r prosiect hwn wedi’i ariannu gan Fforwm Gwerth Cymdeithasol\, Bwrdd Partneriaeth Rhanbarthol\, Llywodraeth Cymru a PAVO. \n🧵 Textiles | Tecstilau \n🎨  Arts & Crafts | Celfyddydau a Chrefftau \n🤲 Sensory play | Chwarae gyda’r synhwyrau \nPeople | Pobl: Leanne Griffiths a Hannah Kate Smith \nAge | Oed: Most suitable 2+ but all ages welcome | Mwyaf addas 2+ ond croeso i bob oed  \n💷 £4 per family | £𝟰 𝘆 𝘁𝗲𝘂𝗹𝘂 \n⏰ Time | Amser: 10:30 am – 12:30 pm \n📅 Tues 5 August | Dydd Mawrth 5 Awst \n📍 𝗡𝗲𝘂𝗮𝗱𝗱 𝗗𝗿𝗲𝗳 𝗧𝗿𝗲𝗳𝗮𝗹𝗱𝘄𝘆𝗻 | Montgomery | Town Hall \n📅 Tues 12 August | Dydd Mawrth 12 Awst \n📍 The Institute\, Llanfair Caereinion \n📅 Tues 19 August | Dydd Mawrth 19 Awst \n📍 Neuadd Goffa | Llangynog | Memorial Hall
URL:https://storipowys.org.uk/event/wrth-y-mor-celfyddydau-teulu-2/?lang=cy
LOCATION:The Institute\, Llanfyllin\, SY22 5AA
ATTACH;FMTTYPE=image/png:https://storipowys.org.uk/wp-content/uploads/2025/07/Seaside-family-Arts-Facebook-Cover-2-2.png
ORGANIZER;CN="Arts Connection - Cyswllt Celf":MAILTO:sian@artsconnection.org.uk
END:VEVENT
BEGIN:VEVENT
DTSTART;TZID=UTC:20250812T103000
DTEND;TZID=UTC:20250812T123000
DTSTAMP:20260422T155041
CREATED:20250528T101159Z
LAST-MODIFIED:20250528T112130Z
UID:10012113-1754994600-1755001800@storipowys.org.uk
SUMMARY:Caffi Crefftus
DESCRIPTION:Ymunwch â’n hartistiaid cymunedol am sesiwn grefftau gyda phaned.\nGwerthfawrogir cyfraniad pawb\, nid oes angen profiad. \nPob Dydd Mawrth | 10.30yb – 12.30yp\n£4 y sesiwn | Gofalwyr Am Ddim
URL:https://storipowys.org.uk/event/caffi-crefftus/2025-08-12/?lang=cy
LOCATION:The Welfare Ystradgynlais Y Neuadd Les\, Brecon Rd\, Ystradgynlais\, Swansea\, SA9 1JJ\, United Kingdom
ATTACH;FMTTYPE=image/jpeg:https://storipowys.org.uk/wp-content/uploads/2025/05/brush-96240_1280-1-1140x500-1.jpg
ORGANIZER;CN="The Welfare Ystradgynlais":MAILTO:boxoffice@thewelfare.co.uk
END:VEVENT
BEGIN:VEVENT
DTSTART;TZID=UTC:20250812T100000
DTEND;TZID=UTC:20250812T120000
DTSTAMP:20260422T155041
CREATED:20250609T102810Z
LAST-MODIFIED:20250609T103017Z
UID:10012578-1754992800-1755000000@storipowys.org.uk
SUMMARY:Sesiwn Galw Heibio Wcreinaidd
DESCRIPTION:Fsesiynau cyfeillgar ble fydd tîm Powys ar gael i ddarparu cymorth\, gwybodaeth ac ateb unrhyw gwestiynau. \nGyda Nathan Gittins.
URL:https://storipowys.org.uk/event/ukrainian-drop-in/2025-08-12/?lang=cy
LOCATION:Llyfrgell Llandrindod Library\, Radnorshire Museum\, Temple Street\, Llandrinod Wells\, Powys\, LD1 5DL\, United Kingdom
ATTACH;FMTTYPE=image/png:https://storipowys.org.uk/wp-content/uploads/2025/06/ukraine.png
ORGANIZER;CN="Llyfrgell Llandrindod Library":MAILTO:llandrindod.library@powys.gov.uk
END:VEVENT
END:VCALENDAR