BEGIN:VCALENDAR
VERSION:2.0
PRODID:-//Powys - ECPv6.15.20//NONSGML v1.0//EN
CALSCALE:GREGORIAN
METHOD:PUBLISH
X-WR-CALNAME:Powys
X-ORIGINAL-URL:https://storipowys.org.uk/?lang=cy
X-WR-CALDESC:Events for Powys
REFRESH-INTERVAL;VALUE=DURATION:PT1H
X-Robots-Tag:noindex
X-PUBLISHED-TTL:PT1H
BEGIN:VTIMEZONE
TZID:UTC
BEGIN:STANDARD
TZOFFSETFROM:+0000
TZOFFSETTO:+0000
TZNAME:UTC
DTSTART:20240101T000000
END:STANDARD
END:VTIMEZONE
BEGIN:VEVENT
DTSTART;TZID=UTC:20250821T180000
DTEND;TZID=UTC:20250821T203000
DTSTAMP:20260422T133238
CREATED:20250113T102342Z
LAST-MODIFIED:20250205T161043Z
UID:10004823-1755799200-1755808200@storipowys.org.uk
SUMMARY:Grŵp cymdeithasol celf
DESCRIPTION:Mae Art Social Group ar gyfer artistiaid a phobl greadigol. Ein nod yw lleddfu unigedd drwy ddarparu lle i artistiaid ac unigolion creadigol ddod at ei gilydd\, creu celf\, cymdeithasu a chreu cysylltiadau newydd. Mae’r grŵp o allu cymysg\, a darperir yr holl adnoddau. Mae’r grŵp yn rhedeg o Ganolfan Integredig Teuluoedd y Trallwng bob pythefnos\, ar nos Iau\, rhwng 6-8:30pm. £15 y sesiwn i dalu am logi ystafell a deunyddiau.
URL:https://storipowys.org.uk/event/13761/2025-08-21/?lang=cy
LOCATION:Welshpool Integrated Family Centre\, Oldford Close\, Welshpool\, SY21 7SX
ATTACH;FMTTYPE=image/png:https://storipowys.org.uk/wp-content/uploads/2025/01/welshppol-art-group.png
ORGANIZER;CN="Jain Downing":MAILTO:welshpoolcreativearts@gmail.com
END:VEVENT
BEGIN:VEVENT
DTSTART;TZID=UTC:20250821T141500
DTEND;TZID=UTC:20250821T154500
DTSTAMP:20260422T133238
CREATED:20250716T091949Z
LAST-MODIFIED:20250716T091949Z
UID:10017270-1755785700-1755791100@storipowys.org.uk
SUMMARY:Gwau a Sgwrs
DESCRIPTION:Dewch i ymuno â’n grŵp gwau cyfeillgar.
URL:https://storipowys.org.uk/event/gwau-a-sgwrs/2025-08-21/?lang=cy
LOCATION:Builth Wells Library\, Antur Gwy\, Park Road\, Builth Wells\, LD2 3BA
ATTACH;FMTTYPE=image/png:https://storipowys.org.uk/wp-content/uploads/2025/07/Knit-Natter-6.png
END:VEVENT
BEGIN:VEVENT
DTSTART;TZID=UTC:20250821T120000
DTEND;TZID=UTC:20250821T140000
DTSTAMP:20260422T133238
CREATED:20250609T103503Z
LAST-MODIFIED:20250609T104139Z
UID:10013678-1755777600-1755784800@storipowys.org.uk
SUMMARY:Grŵp Gwehyddu
DESCRIPTION:Ymunwch â ni i fwynhau gwau gyda sgwrs. Mae peiriannau gwnïo ar gael.
URL:https://storipowys.org.uk/event/sewing-group-2/2025-08-21/?lang=cy
LOCATION:Llyfrgell Ystradgynlais Library
ATTACH;FMTTYPE=image/png:https://storipowys.org.uk/wp-content/uploads/2024/12/sewing-photo-for-StP.png
ORGANIZER;CN="Llyfrgell Ystradgynlais Library":MAILTO:ystrad.library@powys.gov.uk
END:VEVENT
BEGIN:VEVENT
DTSTART;TZID=UTC:20250821T110000
DTEND;TZID=UTC:20250825T213000
DTSTAMP:20260422T133238
CREATED:20250811T103224Z
LAST-MODIFIED:20250811T103224Z
UID:10018294-1755774000-1756157400@storipowys.org.uk
SUMMARY:Gŵyl Llanandras 2025 | 21-25 Awst
DESCRIPTION:Bydd Gŵyl Llanandras 2025 yn coffáu 50 mlynedd ers marwolaeth Dmitri Shostakovich (1906–1975)\, un o leisiau Rwsiaidd mwyaf arwyddocaol yr 20fed ganrif\, gyda ffocws arbennig ar ei gerddoriaeth. \nGan ddangos ei ymrwymiad parhaus i gerddoriaeth gyfoes\, bydd y Gŵyl yn croesawu’r cyfansoddwr Prydeinig a anwyd yn Jamaica\, Eleanor Alberga\, fel cyfansoddwr yn bresennol ac mae hefyd wedi gofyn am gasgliad o 13 o weithiau newydd gan sylfaen eang a amrywiol o gyfansoddwyr. \nYn ogystal â 14 perfformiad cyngerdd ac opera\, mae’r Gŵyl yn cynnig cymysgedd amrywiol o ddigwyddiadau celfyddydol – arddangosfeydd\, ffilmiau\, barddoniaeth a sgyrsiau yn ogystal â’r penwythnos ‘Open Studios’ sydd bob amser mor boblogaidd yn Llanandras.
URL:https://storipowys.org.uk/event/gwyl-llanandras-2025-21-25-awst/?lang=cy
LOCATION:Presteigne / Llanandras
ATTACH;FMTTYPE=image/png:https://storipowys.org.uk/wp-content/uploads/2025/08/IMG-1.png
END:VEVENT
BEGIN:VEVENT
DTSTART;TZID=UTC:20250821T110000
DTEND;TZID=UTC:20250821T130000
DTSTAMP:20260422T133238
CREATED:20250609T104234Z
LAST-MODIFIED:20250609T104341Z
UID:10014199-1755774000-1755781200@storipowys.org.uk
SUMMARY:Clwb Bridge
DESCRIPTION:Ymunwch ag Andrew Gilbey yn y grŵp bywiog hwn sy’n addas ar gyfer pob lefel o allu\, o ddechreuwyr i chwaraewyr medrus.
URL:https://storipowys.org.uk/event/bridge-club-2/2025-08-21/?lang=cy
LOCATION:Llyfrgell Ystradgynlais Library
ATTACH;FMTTYPE=image/png:https://storipowys.org.uk/wp-content/uploads/2024/12/bridge-photo.png
ORGANIZER;CN="Llyfrgell Ystradgynlais Library":MAILTO:ystrad.library@powys.gov.uk
END:VEVENT
BEGIN:VEVENT
DTSTART;TZID=UTC:20250821T103000
DTEND;TZID=UTC:20250821T123000
DTSTAMP:20260422T133238
CREATED:20250804T140552Z
LAST-MODIFIED:20250804T140553Z
UID:10018282-1755772200-1755779400@storipowys.org.uk
SUMMARY:Gweithdu Crefftau Gardd
DESCRIPTION:Dewch draw i wneud bomiau hadau a chymysgedd hwyliog o grefftau blodau – mandalas\, curo blodau a mwy!
URL:https://storipowys.org.uk/event/gweithdu-crefftau-gardd/?lang=cy
LOCATION:Llandrindod Library / Llyfrgell Llandrindod\, Radnorshire Museum\, Temple Street\, Llandrindod Wells\, LD1 5DL\, LLandrindod Wells\, LD1 5DL
ATTACH;FMTTYPE=image/png:https://storipowys.org.uk/wp-content/uploads/2025/08/Garden-Crafts-Cym.png
ORGANIZER;CN="Llandrindod Library":MAILTO:llandrindod.library@powys.gov.uk
END:VEVENT
BEGIN:VEVENT
DTSTART;TZID=UTC:20250821T103000
DTEND;TZID=UTC:20250821T120000
DTSTAMP:20260422T133238
CREATED:20250609T104431Z
LAST-MODIFIED:20250609T104530Z
UID:10014720-1755772200-1755777600@storipowys.org.uk
SUMMARY:Coffi a Sgwrs
DESCRIPTION:Trefnir ein boreau coffi cymunedol poblogaidd gan Ffrindiau’r Llyfrgell ac fe’u cynhelir bob dydd Iau 10.30-12.
URL:https://storipowys.org.uk/event/coffee-and-chat-2/2025-08-21/?lang=cy
LOCATION:Llyfrgell Ystradgynlais Library
ATTACH;FMTTYPE=image/png:https://storipowys.org.uk/wp-content/uploads/2024/12/Coffee-and-chat-photo.png
ORGANIZER;CN="Llyfrgell Ystradgynlais Library":MAILTO:ystrad.library@powys.gov.uk
END:VEVENT
BEGIN:VEVENT
DTSTART;TZID=UTC:20250821T093000
DTEND;TZID=UTC:20250821T110000
DTSTAMP:20260422T133238
CREATED:20250226T142244Z
LAST-MODIFIED:20250226T142244Z
UID:10007220-1755768600-1755774000@storipowys.org.uk
SUMMARY:Grŵp Y Ffrindiau Digidol
DESCRIPTION:Man diogel lle gall oedolyn hŷn dod i’r arfer â thecnoleg gyda’ igilydd.
URL:https://storipowys.org.uk/event/grwp-y-ffrindiau-digidol/2025-08-21/?lang=cy
LOCATION:Newtown Library/Llyfrgell y Drenewydd\, Park Lane\, Newtown\, SY16 1EJ
ATTACH;FMTTYPE=image/png:https://storipowys.org.uk/wp-content/uploads/2025/02/Digital-Friends-1.png
ORGANIZER;CN="Newtown Library":MAILTO:newtown.library@powys.gov.uk
END:VEVENT
BEGIN:VEVENT
DTSTART;TZID=UTC:20250821T060000
DTEND;TZID=UTC:20250821T203000
DTSTAMP:20260422T133238
CREATED:20250409T151955Z
LAST-MODIFIED:20250409T151955Z
UID:10011256-1755756000-1755808200@storipowys.org.uk
SUMMARY:
DESCRIPTION:
URL:https://storipowys.org.uk/event/15685/2025-08-21/?lang=cy
LOCATION:The Youth & Community Centre (RDC)\, Llanfyllin
ATTACH;FMTTYPE=image/png:https://storipowys.org.uk/wp-content/uploads/2025/04/lyac-facebok-banner-25.png
ORGANIZER;CN="Arts Connection - Cyswllt Celf":MAILTO:sian@artsconnection.org.uk
END:VEVENT
BEGIN:VEVENT
DTSTART;TZID=UTC:20250820T163000
DTEND;TZID=UTC:20250820T180000
DTSTAMP:20260422T133238
CREATED:20250528T101144Z
LAST-MODIFIED:20250528T101144Z
UID:10011754-1755707400-1755712800@storipowys.org.uk
SUMMARY:Dawns Solar
DESCRIPTION:Mae Solar Dance\, a sefydlwyd ym 1994\, yn cynnig ystod eang o ddosbarthiadau dawns hwyliog i blant 4 oed a hŷn.\nGydag amrywiaeth o arddulliau dawns i’w harchwilio\, mae pob myfyriwr yn cael y cyfle i fod yn ‘Seren Solar!’ \nBob dydd Mercher: 4.30pm – 6pm\n4+ oed
URL:https://storipowys.org.uk/event/dawns-solar/2025-08-20/?lang=cy
LOCATION:The Welfare Ystradgynlais Y Neuadd Les\, Brecon Rd\, Ystradgynlais\, Swansea\, SA9 1JJ\, United Kingdom
ATTACH;FMTTYPE=image/jpeg:https://storipowys.org.uk/wp-content/uploads/2025/05/45271545_2005380566213227_2904708570085851136_n.jpg
ORGANIZER;CN="The Welfare Ystradgynlais":MAILTO:boxoffice@thewelfare.co.uk
END:VEVENT
BEGIN:VEVENT
DTSTART;TZID=UTC:20250820T160000
DTEND;TZID=UTC:20250820T180000
DTSTAMP:20260422T133238
CREATED:20250711T132758Z
LAST-MODIFIED:20250714T101904Z
UID:10017205-1755705600-1755712800@storipowys.org.uk
SUMMARY:Clwb Gwyddbwyll
DESCRIPTION:Clwb gwyddbwyll yn llyfrgell ac amgueddfa Llanidloes \nCroeso i bob oed a phob lefel o allu.\nRhaid i blant dan 8 oed fod yng nghwmni oedolyn.
URL:https://storipowys.org.uk/event/clwb-gwyddbwyll-2/2025-08-20/?lang=cy
LOCATION:Llanidloes library and musuem\, Town Hall\, Llanidloes\, SY18 6BN
ATTACH;FMTTYPE=image/jpeg:https://storipowys.org.uk/wp-content/uploads/2025/07/girls-playing-chess-together-home_738298-151.jpg
ORGANIZER;CN="Llanidloes library and museum":MAILTO:llanidloes.library@powys.gov.uk
END:VEVENT
BEGIN:VEVENT
DTSTART;TZID=UTC:20250820T133000
DTEND;TZID=UTC:20250820T150000
DTSTAMP:20260422T133238
CREATED:20250528T101154Z
LAST-MODIFIED:20250528T101154Z
UID:10011994-1755696600-1755702000@storipowys.org.uk
SUMMARY:Nexus Arts
DESCRIPTION:Celfyddydau Perfformio a Chreadigol i Bawb\nDrama\, dawns a chelfyddydau gweledol ar gyfer grŵp integredig o oedolion ac oedolion ag anableddau dysgu. \nPob Dydd Mercher 1.30 – 3pm\n£5 y sesiwn\, Gofalwyr am ddim
URL:https://storipowys.org.uk/event/nexus-arts/2025-08-20/?lang=cy
LOCATION:The Welfare Ystradgynlais Y Neuadd Les\, Brecon Rd\, Ystradgynlais\, Swansea\, SA9 1JJ\, United Kingdom
ATTACH;FMTTYPE=image/jpeg:https://storipowys.org.uk/wp-content/uploads/2025/05/2jzeSqBw-1.jpeg
ORGANIZER;CN="The Welfare Ystradgynlais":MAILTO:boxoffice@thewelfare.co.uk
END:VEVENT
BEGIN:VEVENT
DTSTART;TZID=UTC:20250820T101500
DTEND;TZID=UTC:20250820T123000
DTSTAMP:20260422T133238
CREATED:20250122T145303Z
LAST-MODIFIED:20250331T142332Z
UID:10005482-1755684900-1755693000@storipowys.org.uk
SUMMARY:Clwb Celf
DESCRIPTION:Grŵp croesawgar ar gyfer pob gallu a chariadon celf. Bob wythnos byddwch yn cael rhai syniadau a thechnegau prosiect i roi cynnig arnynt\, neu gallwch ddefnyddio’r gofod i weithio ar eich prosiectau presennol. Darperir deunyddiau ac offer\, ond mae croeso i chi ddod â’ch deunyddiau eich hun.
URL:https://storipowys.org.uk/event/14172/2025-08-20/?lang=cy
LOCATION:Llyfrgell Ystradgynlais Library\, Temperance Lane\, Swansea\, SA9 1JP
ATTACH;FMTTYPE=image/png:https://storipowys.org.uk/wp-content/uploads/2025/01/Clwb-Celf-4.png
ORGANIZER;CN="Ystradgynlais Library":MAILTO:ystrad.library@powys.gov.uk
END:VEVENT
BEGIN:VEVENT
DTSTART;TZID=UTC:20250820T100000
DTEND;TZID=UTC:20250821T170000
DTSTAMP:20260422T133238
CREATED:20250804T081917Z
LAST-MODIFIED:20250804T082050Z
UID:10018285-1755684000-1755795600@storipowys.org.uk
SUMMARY:Ysgol Haf Dulsie Glasbury - 20-21 Awst
DESCRIPTION:Mae Ysgol Haf y Del yn cael ei chynnal yn Ysgol Uwchradd Gwernyfed\, Tri Choc\, Powys\, LD3 0SG. \nMae’r ysgol haf ar gael i chwaraewyr del yn pob oed\, o ddechreuwyr i raddau uwch. Mae’r ystod o gerddoriaeth a ddysgir yn: Cerddoriaeth Glasurol\, Trefniadau Cerddorfaol/Cymunedol\, Cerddoriaeth Werin Cymru a Jazz. \nMae dwy goncyrth ar agor i’r cyhoedd; \n21 Awst 7.30pm Cynhelwr Tiwtoriaid – yn yr un lle. \n23 Awst 2.30pm Cwlwm Ffrydio’r Ysgol Haf. \nManylion llawn ar: www.glasburyarts.co.uk
URL:https://storipowys.org.uk/event/17569/?lang=cy
LOCATION:Gwernyfed High School\, Three Cocks\, Brecon\, LD3 OSC\, United Kingdom
ATTACH;FMTTYPE=image/jpeg:https://storipowys.org.uk/wp-content/uploads/2025/08/STRING-THEORY-3.jpg
ORGANIZER;CN="GLASBURY ARTS":MAILTO:johnfitz59@hotmail.com
END:VEVENT
BEGIN:VEVENT
DTSTART;TZID=UTC:20250820T100000
DTEND;TZID=UTC:20250820T163000
DTSTAMP:20260422T133238
CREATED:20250801T103903Z
LAST-MODIFIED:20250804T140802Z
UID:10018162-1755684000-1755707400@storipowys.org.uk
SUMMARY:Gweithdai Gwyliau Haf i Blant
DESCRIPTION:Eleni byddwn yn cynnal gweithdai i blant 7-12 oed ddydd Mawrth a dydd Mercher 10-12.30 a 2-4.30pm\, £12 y sesiwn. \nGall plant iau ddod am un sesiwn ac efallai y bydd rhai hŷn yn hoffi mynychu’r ddwy. \nBydd y gweithgareddau’n cynnwys –\nGwneud Clai a Phrintiau gyda Cathy a Josh\nPeintio dyfrlliw gydag Angela Gladwell\nArgraffu a Chyfryngau Cymysg gyda Cheryl Leach. \nE-bostiwch office@midwalesarts.org.uk am ffurflen archebu.
URL:https://storipowys.org.uk/event/gweithdai-gwyliau-haf-i-blant/2025-08-20/?lang=cy
LOCATION:mid wales arts\, CAERSWS\, SY17 5SB
ATTACH;FMTTYPE=image/jpeg:https://storipowys.org.uk/wp-content/uploads/2025/07/IMG_8431-1-rotated.jpg
ORGANIZER;CN="Josh Jones":MAILTO:office@midwalesarts.org.uk
END:VEVENT
BEGIN:VEVENT
DTSTART;TZID=UTC:20250819T180000
DTEND;TZID=UTC:20250819T193000
DTSTAMP:20260422T133238
CREATED:20250326T133731Z
LAST-MODIFIED:20250326T133828Z
UID:10008425-1755626400-1755631800@storipowys.org.uk
SUMMARY:Clwb Crochenwaith
DESCRIPTION:Cwrs Crochenwaith Amser Tymor i Oedolion sydd eisiau dysgu sut i adeiladu â llaw yn greadigol. Pob modelu creadigol a chyfleoedd i arbrofi a chreu. Offer\, Clai a Gwydredd wedi’u cynnwys. Gyda’r Meistr Tiwtor Potter Alex Allpress
URL:https://storipowys.org.uk/event/15497/2025-08-19/?lang=cy
LOCATION:The Pottery\, Church Street\, Builth Wells\, LD2 3AP
ATTACH;FMTTYPE=image/jpeg:https://storipowys.org.uk/wp-content/uploads/2025/03/pottery-builth.jpg
END:VEVENT
BEGIN:VEVENT
DTSTART;TZID=UTC:20250819T160000
DTEND;TZID=UTC:20250819T193000
DTSTAMP:20260422T133238
CREATED:20250528T112355Z
LAST-MODIFIED:20250528T112355Z
UID:10011874-1755619200-1755631800@storipowys.org.uk
SUMMARY:The Performance Factory Stage School
DESCRIPTION:Dechrau perffaith i’r celfyddydau perfformio! \nDydd Mawrth\n4.15yp – 5.15yp:  Oedrannau 3-6\n5.15yp – 7.15yp: Oedrannau 7+
URL:https://storipowys.org.uk/event/the-performance-factory-stage-school/2025-08-19/?lang=cy
LOCATION:The Welfare Ystradgynlais Y Neuadd Les\, Brecon Rd\, Ystradgynlais\, Swansea\, SA9 1JJ\, United Kingdom
ATTACH;FMTTYPE=image/jpeg:https://storipowys.org.uk/wp-content/uploads/2025/05/124027951_3857489414296447_387030462166457355_n-2.jpg
ORGANIZER;CN="The Welfare Ystradgynlais":MAILTO:boxoffice@thewelfare.co.uk
END:VEVENT
BEGIN:VEVENT
DTSTART;TZID=UTC:20250819T153000
DTEND;TZID=UTC:20250819T163000
DTSTAMP:20260422T133238
CREATED:20250711T105109Z
LAST-MODIFIED:20250711T105109Z
UID:10017621-1755617400-1755621000@storipowys.org.uk
SUMMARY:Clwb Gwyddbwyll
DESCRIPTION:Addas ar gyfer chwaraewyr sy’n ddechreuwyr a rhai profiadol o bob oed
URL:https://storipowys.org.uk/event/clwb-gwyddbwyll/2025-08-19/?lang=cy
LOCATION:Ystradgynlais Library\, Temperance Lane\, SA9 1JP
ATTACH;FMTTYPE=image/jpeg:https://storipowys.org.uk/wp-content/uploads/2025/07/2.jpg
ORGANIZER;CN="Ystradgynlais Library / LLyfrgell Ystradygnlais":MAILTO:ystrad.library@powys.gov.uk
END:VEVENT
BEGIN:VEVENT
DTSTART;TZID=UTC:20250819T103000
DTEND;TZID=UTC:20250819T123000
DTSTAMP:20260422T133238
CREATED:20250801T104010Z
LAST-MODIFIED:20250801T104010Z
UID:10018026-1755599400-1755606600@storipowys.org.uk
SUMMARY:Wrth y Môr | Beside the Seaside – Family Arts | Celfyddydau Teulu
DESCRIPTION:🏖️ We’ll be bringing the beach to you this summer with our seaside family arts workshop! | Byddwn ni’n dod â’r traeth atoch chi’r haf hwn gyda’n gweithdy celf i’r teulu ar thema’r môr! 🌊 \nAll workshops are delivered bilingually | Cyflwynir pob gweithdy yn ddwyieithog \nThis project is funded by Social Value Forum\, Regional Partnership Board\, Welsh Government and PAVO | Mae’r prosiect hwn wedi’i ariannu gan Fforwm Gwerth Cymdeithasol\, Bwrdd Partneriaeth Rhanbarthol\, Llywodraeth Cymru a PAVO. \n🧵 Textiles | Tecstilau \n🎨  Arts & Crafts | Celfyddydau a Chrefftau \n🤲 Sensory play | Chwarae gyda’r synhwyrau \nPeople | Pobl: Leanne Griffiths a Hannah Kate Smith \nAge | Oed: Most suitable 2+ but all ages welcome | Mwyaf addas 2+ ond croeso i bob oed  \n💷 £4 per family | £𝟰 𝘆 𝘁𝗲𝘂𝗹𝘂 \n⏰ Time | Amser: 10:30 am – 12:30 pm \n✉️ kerala@artsconnection.org.uk \n☎️ 01691 648929 \n💬 07814 523 521
URL:https://storipowys.org.uk/event/wrth-y-mor-beside-the-seaside-family-arts-celfyddydau-teulu/?lang=cy
LOCATION:Llangynog Memorial Hall\, Llangynog Memorial Hall\,\, Llangynog Memorial Hall\,\, SY10 0ET
ATTACH;FMTTYPE=image/png:https://storipowys.org.uk/wp-content/uploads/2025/07/Seaside-family-Arts-Facebook-Cover-2-4.png
ORGANIZER;CN="Arts Connection - Cyswllt Celf":MAILTO:sian@artsconnection.org.uk
END:VEVENT
BEGIN:VEVENT
DTSTART;TZID=UTC:20250819T103000
DTEND;TZID=UTC:20250819T123000
DTSTAMP:20260422T133238
CREATED:20250528T101159Z
LAST-MODIFIED:20250528T112130Z
UID:10012114-1755599400-1755606600@storipowys.org.uk
SUMMARY:Caffi Crefftus
DESCRIPTION:Ymunwch â’n hartistiaid cymunedol am sesiwn grefftau gyda phaned.\nGwerthfawrogir cyfraniad pawb\, nid oes angen profiad. \nPob Dydd Mawrth | 10.30yb – 12.30yp\n£4 y sesiwn | Gofalwyr Am Ddim
URL:https://storipowys.org.uk/event/caffi-crefftus/2025-08-19/?lang=cy
LOCATION:The Welfare Ystradgynlais Y Neuadd Les\, Brecon Rd\, Ystradgynlais\, Swansea\, SA9 1JJ\, United Kingdom
ATTACH;FMTTYPE=image/jpeg:https://storipowys.org.uk/wp-content/uploads/2025/05/brush-96240_1280-1-1140x500-1.jpg
ORGANIZER;CN="The Welfare Ystradgynlais":MAILTO:boxoffice@thewelfare.co.uk
END:VEVENT
BEGIN:VEVENT
DTSTART;TZID=UTC:20250819T100000
DTEND;TZID=UTC:20250819T163000
DTSTAMP:20260422T133238
CREATED:20250801T103903Z
LAST-MODIFIED:20250804T140802Z
UID:10018161-1755597600-1755621000@storipowys.org.uk
SUMMARY:Gweithdai Gwyliau Haf i Blant
DESCRIPTION:Eleni byddwn yn cynnal gweithdai i blant 7-12 oed ddydd Mawrth a dydd Mercher 10-12.30 a 2-4.30pm\, £12 y sesiwn. \nGall plant iau ddod am un sesiwn ac efallai y bydd rhai hŷn yn hoffi mynychu’r ddwy. \nBydd y gweithgareddau’n cynnwys –\nGwneud Clai a Phrintiau gyda Cathy a Josh\nPeintio dyfrlliw gydag Angela Gladwell\nArgraffu a Chyfryngau Cymysg gyda Cheryl Leach. \nE-bostiwch office@midwalesarts.org.uk am ffurflen archebu.
URL:https://storipowys.org.uk/event/gweithdai-gwyliau-haf-i-blant/2025-08-19/?lang=cy
LOCATION:mid wales arts\, CAERSWS\, SY17 5SB
ATTACH;FMTTYPE=image/jpeg:https://storipowys.org.uk/wp-content/uploads/2025/07/IMG_8431-1-rotated.jpg
ORGANIZER;CN="Josh Jones":MAILTO:office@midwalesarts.org.uk
END:VEVENT
BEGIN:VEVENT
DTSTART;TZID=UTC:20250819T100000
DTEND;TZID=UTC:20250819T120000
DTSTAMP:20260422T133238
CREATED:20250609T102810Z
LAST-MODIFIED:20250609T103017Z
UID:10012579-1755597600-1755604800@storipowys.org.uk
SUMMARY:Sesiwn Galw Heibio Wcreinaidd
DESCRIPTION:Fsesiynau cyfeillgar ble fydd tîm Powys ar gael i ddarparu cymorth\, gwybodaeth ac ateb unrhyw gwestiynau. \nGyda Nathan Gittins.
URL:https://storipowys.org.uk/event/ukrainian-drop-in/2025-08-19/?lang=cy
LOCATION:Llyfrgell Llandrindod Library\, Radnorshire Museum\, Temple Street\, Llandrinod Wells\, Powys\, LD1 5DL\, United Kingdom
ATTACH;FMTTYPE=image/png:https://storipowys.org.uk/wp-content/uploads/2025/06/ukraine.png
ORGANIZER;CN="Llyfrgell Llandrindod Library":MAILTO:llandrindod.library@powys.gov.uk
END:VEVENT
BEGIN:VEVENT
DTSTART;TZID=UTC:20250818T140000
DTEND;TZID=UTC:20250818T160000
DTSTAMP:20260422T133239
CREATED:20250609T141251Z
LAST-MODIFIED:20250609T141406Z
UID:10015247-1755525600-1755532800@storipowys.org.uk
SUMMARY:Gweu A Sgwrs\, Crosio A Siarad
DESCRIPTION:Grŵp cyfeillgar o bobl yn gwau a chrosio amrywiaeth o eitemau o flancedi i siwmperi \nNi chodir tâl i fynychu.
URL:https://storipowys.org.uk/event/knit-natter-crochet-chatter-2/2025-08-18/?lang=cy
LOCATION:Llyfrgell Rhaeadr / Rhayader Library\, West Street\, Rhayader\, LD6 5DS
ATTACH;FMTTYPE=image/jpeg:https://storipowys.org.uk/wp-content/uploads/2025/01/Screenshot_6-1-2025_143423_rhayader.co_.uk_.jpeg
ORGANIZER;CN="Llyfrgell Rhaeadr / Rhayader Library":MAILTO:rhayader.library@powys.gov.uk
END:VEVENT
BEGIN:VEVENT
DTSTART;TZID=UTC:20250818T140000
DTEND;TZID=UTC:20250818T160000
DTSTAMP:20260422T133239
CREATED:20250609T103814Z
LAST-MODIFIED:20250609T104104Z
UID:10013417-1755525600-1755532800@storipowys.org.uk
SUMMARY:Grŵp Ffynde
DESCRIPTION:Ymunwch â ni i fwynhau plethu gyda sgwrs. Mae peiriannau plethu ar gael.Mae te a choffi ar gael hefyd!
URL:https://storipowys.org.uk/event/patchwork-group-dec-24-3/2025-08-18/?lang=cy
LOCATION:Llyfrgell Ystradgynlais Library
ATTACH;FMTTYPE=image/jpeg:https://storipowys.org.uk/wp-content/uploads/2024/11/patchwork.jpg
ORGANIZER;CN="Llyfrgell Ystradgynlais Library":MAILTO:ystrad.library@powys.gov.uk
END:VEVENT
BEGIN:VEVENT
DTSTART;TZID=UTC:20250818T140000
DTEND;TZID=UTC:20250818T150000
DTSTAMP:20260422T133239
CREATED:20250205T155212Z
LAST-MODIFIED:20251110T115910Z
UID:10006652-1755525600-1755529200@storipowys.org.uk
SUMMARY:Sesiynau jamio gitâr
DESCRIPTION:Chwarae’r gitâr?\nEisiau jamio gyda gitarwyr eraill?\nDewch â’ch gitâr a/neu’ch llais\, bob Dydd Llun 2-3!\nCroeso i bob gallu.
URL:https://storipowys.org.uk/event/sesiynau-jamio-gitar/2025-08-18/?lang=cy
LOCATION:Llyfrgell Ystradgynlais Library
ATTACH;FMTTYPE=image/png:https://storipowys.org.uk/wp-content/uploads/2025/02/GUITAR.png
ORGANIZER;CN="Ystradgynlais Library":MAILTO:ystrad.library@powys.gov.uk
END:VEVENT
BEGIN:VEVENT
DTSTART;TZID=UTC:20250818T110000
DTEND;TZID=UTC:20250818T113000
DTSTAMP:20260422T133239
CREATED:20250613T134113Z
LAST-MODIFIED:20250613T134337Z
UID:10015898-1755514800-1755516600@storipowys.org.uk
SUMMARY:Amser Stori
DESCRIPTION:Bob Dydd Llun
URL:https://storipowys.org.uk/event/storytime-2/2025-08-18/?lang=cy
LOCATION:Hay on Wye Library\, Oxford Road\, Hay on Wye\, HR3 5BT
ATTACH;FMTTYPE=image/jpeg:https://storipowys.org.uk/wp-content/uploads/2025/06/Screenshot_13-6-2025_144057_.jpeg
ORGANIZER;CN="y Gaer":MAILTO:ygaer@powys.gov.uk
END:VEVENT
BEGIN:VEVENT
DTSTART;TZID=UTC:20250818T101500
DTEND;TZID=UTC:20250818T110000
DTSTAMP:20260422T133239
CREATED:20241206T143703Z
LAST-MODIFIED:20241216T163654Z
UID:10003547-1755512100-1755514800@storipowys.org.uk
SUMMARY:Amser stori gyda Sammi
DESCRIPTION:Caneuon\, rhigymau a straeon i blant oed cyn-ysgol (a’u rhieni/gofalwyr). \nGyda Sammi Orme.
URL:https://storipowys.org.uk/event/amser-stori-gyda-sammi-llanidloes-jan-25/2025-08-18/?lang=cy
LOCATION:Llyfrgell Llanidloes / Llanidloes Library\, Great Oak Street\, Llanidloes\, SY18 6BN
ATTACH;FMTTYPE=image/jpeg:https://storipowys.org.uk/wp-content/uploads/2024/12/Storytime_With_Sammi.jpg
ORGANIZER;CN="Llfrygell Llanidloes Library":MAILTO:llanidloes.library@powys.gov.uk
END:VEVENT
BEGIN:VEVENT
DTSTART;TZID=UTC:20250818T100000
DTEND;TZID=UTC:20250819T160000
DTSTAMP:20260422T133239
CREATED:20250715T105157Z
LAST-MODIFIED:20250715T105337Z
UID:10017889-1755511200-1755619200@storipowys.org.uk
SUMMARY:Ysgol Haf Cerddoriaeth a Thechnoleg - Llandrindod
DESCRIPTION:Am greu a pherfformio cerddoriaeth fyw? Mae arnom angen cerddorion ifanc i helpu i siapio a pherfformio sgôr y Sioe Hydref. \nBydd y cerddorion a ddewisir yn mynd ymlaen i berfformio’n fyw ochr yn ochr â thîm proffesiynol. \nYn y gweithdai hyn\, byddwch yn dysgu sut i greu cerddoriaeth gan ddefnyddio offerynnau\, lleisiau\, pedalau lŵp a thechnoleg yn fyw. Dim graddau yn angenrheidiol (er bod croeso i rai gradd 8 hefyd!). Yn cael eu rhedeg gan y cyfansoddwr cymunedol Jim Elliot. \nBydd yr ysgol haf 2 ddiwrnod yma yn dilyn y sesiynau blasu i feithrin dy sgiliau a phennu dy swyddogaeth yn y sioe: \n18-19 Awst: 10am-4pm – Celf O Gwmpas\, Llandrindod \nAddas i bob gallu\, oed 14-24.
URL:https://storipowys.org.uk/event/music-tech-summer-school-llandrindod/?lang=cy
LOCATION:Celf O Gwmpas\, Tremont Road\, Llandrindod Wells\, LD1 5EB
ATTACH;FMTTYPE=image/jpeg:https://storipowys.org.uk/wp-content/uploads/2025/07/226_MGRL4400.jpg
ORGANIZER;CN="Mid Powys Youth Theatre":MAILTO:hello@mpyt.co.uk
END:VEVENT
BEGIN:VEVENT
DTSTART;TZID=UTC:20250816T140000
DTEND;TZID=UTC:20250816T160000
DTSTAMP:20260422T133239
CREATED:20250414T121022Z
LAST-MODIFIED:20250428T092240Z
UID:10011615-1755352800-1755360000@storipowys.org.uk
SUMMARY:GWYLIAD BYWYD GWYLLT
DESCRIPTION:Mae clwb gwylio yn fan lle gall plant gwrdd a mwynhau dysgu trwy archwilio eu hamgylchedd. \nMae’r grŵp hwn yn rhoi cyfleoedd i’r plant ddarganfod bywyd gwyllt lleol a mynd yn sownd â gweithgareddau ymarferol a all gynnwys unrhyw beth o waith celf amgylcheddol\, adeiladu tŷ trychfilod\, gwylio’r dylluan wen i drochi mewn pwll! \nAddas ar gyfer plant 7-12 oed\, rhaid i blant o dan 8 oed fod yng nghwmni oedolyn.
URL:https://storipowys.org.uk/event/gwyliad-bywyd-gwyllt/2025-08-16/?lang=cy
LOCATION:y Gaer Brecon Library\, Museum and Art Gallery / y Gaer Aberhonddu Llyfyrgell\, Amgueddfa a Oriel Gelf\, y Gaer\, Glamorgan Street\, Brecon\, LD3 7DW
ATTACH;FMTTYPE=image/png:https://storipowys.org.uk/wp-content/uploads/2025/04/yG-Brecon-Watch-Club-2024-2025-BI.png
END:VEVENT
BEGIN:VEVENT
DTSTART;TZID=UTC:20250815T140000
DTEND;TZID=UTC:20250815T150000
DTSTAMP:20260422T133239
CREATED:20250811T103247Z
LAST-MODIFIED:20250811T103247Z
UID:10018290-1755266400-1755270000@storipowys.org.uk
SUMMARY:Amser Stori yn Llyfrgell Rhaeadr Gwy
DESCRIPTION:Bydd Sammi yn dod i Lyfrgell Rhaeadr Gwy ddydd Gwener 15 Awst a dydd Gwener 29 Awst am 2pm\nDewch â’ch plant am straeon\, rhigymau a chaneuon.\nEdrychwn ymlaen at eich gweld chi.
URL:https://storipowys.org.uk/event/amser-stori-yn-llyfrgell-rhaeadr-gwy-2/?lang=cy
ATTACH;FMTTYPE=image/png:https://storipowys.org.uk/wp-content/uploads/2025/08/RHA-Storytime-Poster-CYM.png
END:VEVENT
END:VCALENDAR