BEGIN:VCALENDAR
VERSION:2.0
PRODID:-//Powys - ECPv6.15.20//NONSGML v1.0//EN
CALSCALE:GREGORIAN
METHOD:PUBLISH
X-WR-CALNAME:Powys
X-ORIGINAL-URL:https://storipowys.org.uk/?lang=cy
X-WR-CALDESC:Events for Powys
REFRESH-INTERVAL;VALUE=DURATION:PT1H
X-Robots-Tag:noindex
X-PUBLISHED-TTL:PT1H
BEGIN:VTIMEZONE
TZID:UTC
BEGIN:STANDARD
TZOFFSETFROM:+0000
TZOFFSETTO:+0000
TZNAME:UTC
DTSTART:20240101T000000
END:STANDARD
END:VTIMEZONE
BEGIN:VEVENT
DTSTART;TZID=UTC:20250902T100000
DTEND;TZID=UTC:20250902T120000
DTSTAMP:20260422T090856
CREATED:20250609T102810Z
LAST-MODIFIED:20250609T103017Z
UID:10012581-1756807200-1756814400@storipowys.org.uk
SUMMARY:Sesiwn Galw Heibio Wcreinaidd
DESCRIPTION:Fsesiynau cyfeillgar ble fydd tîm Powys ar gael i ddarparu cymorth\, gwybodaeth ac ateb unrhyw gwestiynau. \nGyda Nathan Gittins.
URL:https://storipowys.org.uk/event/ukrainian-drop-in/2025-09-02/?lang=cy
LOCATION:Llyfrgell Llandrindod Library\, Radnorshire Museum\, Temple Street\, Llandrinod Wells\, Powys\, LD1 5DL\, United Kingdom
ATTACH;FMTTYPE=image/png:https://storipowys.org.uk/wp-content/uploads/2025/06/ukraine.png
ORGANIZER;CN="Llyfrgell Llandrindod Library":MAILTO:llandrindod.library@powys.gov.uk
END:VEVENT
BEGIN:VEVENT
DTSTART;TZID=UTC:20250901T140000
DTEND;TZID=UTC:20250901T160000
DTSTAMP:20260422T090856
CREATED:20250609T141251Z
LAST-MODIFIED:20250609T141406Z
UID:10015249-1756735200-1756742400@storipowys.org.uk
SUMMARY:Gweu A Sgwrs\, Crosio A Siarad
DESCRIPTION:Grŵp cyfeillgar o bobl yn gwau a chrosio amrywiaeth o eitemau o flancedi i siwmperi \nNi chodir tâl i fynychu.
URL:https://storipowys.org.uk/event/knit-natter-crochet-chatter-2/2025-09-01/?lang=cy
LOCATION:Llyfrgell Rhaeadr / Rhayader Library\, West Street\, Rhayader\, LD6 5DS
ATTACH;FMTTYPE=image/jpeg:https://storipowys.org.uk/wp-content/uploads/2025/01/Screenshot_6-1-2025_143423_rhayader.co_.uk_.jpeg
ORGANIZER;CN="Llyfrgell Rhaeadr / Rhayader Library":MAILTO:rhayader.library@powys.gov.uk
END:VEVENT
BEGIN:VEVENT
DTSTART;TZID=UTC:20250901T140000
DTEND;TZID=UTC:20250901T160000
DTSTAMP:20260422T090856
CREATED:20250609T103814Z
LAST-MODIFIED:20250609T104104Z
UID:10013419-1756735200-1756742400@storipowys.org.uk
SUMMARY:Grŵp Ffynde
DESCRIPTION:Ymunwch â ni i fwynhau plethu gyda sgwrs. Mae peiriannau plethu ar gael.Mae te a choffi ar gael hefyd!
URL:https://storipowys.org.uk/event/patchwork-group-dec-24-3/2025-09-01/?lang=cy
LOCATION:Llyfrgell Ystradgynlais Library
ATTACH;FMTTYPE=image/jpeg:https://storipowys.org.uk/wp-content/uploads/2024/11/patchwork.jpg
ORGANIZER;CN="Llyfrgell Ystradgynlais Library":MAILTO:ystrad.library@powys.gov.uk
END:VEVENT
BEGIN:VEVENT
DTSTART;TZID=UTC:20250901T140000
DTEND;TZID=UTC:20250901T150000
DTSTAMP:20260422T090856
CREATED:20250205T155212Z
LAST-MODIFIED:20251110T115910Z
UID:10006654-1756735200-1756738800@storipowys.org.uk
SUMMARY:Sesiynau jamio gitâr
DESCRIPTION:Chwarae’r gitâr?\nEisiau jamio gyda gitarwyr eraill?\nDewch â’ch gitâr a/neu’ch llais\, bob Dydd Llun 2-3!\nCroeso i bob gallu.
URL:https://storipowys.org.uk/event/sesiynau-jamio-gitar/2025-09-01/?lang=cy
LOCATION:Llyfrgell Ystradgynlais Library
ATTACH;FMTTYPE=image/png:https://storipowys.org.uk/wp-content/uploads/2025/02/GUITAR.png
ORGANIZER;CN="Ystradgynlais Library":MAILTO:ystrad.library@powys.gov.uk
END:VEVENT
BEGIN:VEVENT
DTSTART;TZID=UTC:20250901T110000
DTEND;TZID=UTC:20250901T113000
DTSTAMP:20260422T090856
CREATED:20250613T134113Z
LAST-MODIFIED:20250613T134337Z
UID:10015900-1756724400-1756726200@storipowys.org.uk
SUMMARY:Amser Stori
DESCRIPTION:Bob Dydd Llun
URL:https://storipowys.org.uk/event/storytime-2/2025-09-01/?lang=cy
LOCATION:Hay on Wye Library\, Oxford Road\, Hay on Wye\, HR3 5BT
ATTACH;FMTTYPE=image/jpeg:https://storipowys.org.uk/wp-content/uploads/2025/06/Screenshot_13-6-2025_144057_.jpeg
ORGANIZER;CN="y Gaer":MAILTO:ygaer@powys.gov.uk
END:VEVENT
BEGIN:VEVENT
DTSTART;TZID=UTC:20250901T101500
DTEND;TZID=UTC:20250901T110000
DTSTAMP:20260422T090856
CREATED:20241206T143703Z
LAST-MODIFIED:20241216T163654Z
UID:10003549-1756721700-1756724400@storipowys.org.uk
SUMMARY:Amser stori gyda Sammi
DESCRIPTION:Caneuon\, rhigymau a straeon i blant oed cyn-ysgol (a’u rhieni/gofalwyr). \nGyda Sammi Orme.
URL:https://storipowys.org.uk/event/amser-stori-gyda-sammi-llanidloes-jan-25/2025-09-01/?lang=cy
LOCATION:Llyfrgell Llanidloes / Llanidloes Library\, Great Oak Street\, Llanidloes\, SY18 6BN
ATTACH;FMTTYPE=image/jpeg:https://storipowys.org.uk/wp-content/uploads/2024/12/Storytime_With_Sammi.jpg
ORGANIZER;CN="Llfrygell Llanidloes Library":MAILTO:llanidloes.library@powys.gov.uk
END:VEVENT
BEGIN:VEVENT
DTSTART;TZID=UTC:20250830T090000
DTEND;TZID=UTC:20250830T160000
DTSTAMP:20260422T090856
CREATED:20250819T093554Z
LAST-MODIFIED:20250819T094109Z
UID:10020616-1756544400-1756569600@storipowys.org.uk
SUMMARY:Y Corfflu Cymorth Sifil ar y Cyd - Diwrnod Agored
DESCRIPTION:🏴󠁧󠁢󠁷󠁬󠁳󠁿 Darganfyddwch Amddiffyn Sifil ar Waith!\nArchwiliwch ein hamrywiaeth o stondinau rhyngweithiol – o Gymorth Cyntaf a Rheoli Traffig i Ymateb i Ddigwyddiadau a llawer mwy – a chwrdd a’r gwirfoddolwyr sy’n helpu eu cymunedau lleol\, cynghorau ác awdurdodau mewn cyfnodau o angen. \nGofynnwch gwestiynau\, dysgwch sgiliau newydd a darganfyddwch sut allwch chi gymryd rhan. Diwrnod gwych i bawb! \n📆Dydd Sadwrn\, 30ain Awst 2025\n⏰09:00 – 16:00\n📍Hafan yr Afon (Uwch y Grisiau)\, SY16 2NH
URL:https://storipowys.org.uk/event/17763/?lang=cy
LOCATION:Hafan Yr Afon\, Back Lane\, Newtown\, SY16 2NH
ATTACH;FMTTYPE=image/jpeg:https://storipowys.org.uk/wp-content/uploads/2025/08/Logo.jpg
ORGANIZER;CN="Hafan Yr Afon":MAILTO:barry@opennewtown.org.uk
END:VEVENT
BEGIN:VEVENT
DTSTART;TZID=UTC:20250829T140000
DTEND;TZID=UTC:20250829T150000
DTSTAMP:20260422T090856
CREATED:20250811T103239Z
LAST-MODIFIED:20250811T103239Z
UID:10018292-1756476000-1756479600@storipowys.org.uk
SUMMARY:Amser Stori yn Llyfrgell Rhaeadr Gwy
DESCRIPTION:Bydd Sammi yn dod i Lyfrgell Rhaeadr Gwy ddydd Gwener 15 Awst a dydd Gwener 29 Awst am 2pm\nDewch â’ch plant am straeon\, rhigymau a chaneuon.\nEdrychwn ymlaen at eich gweld chi.
URL:https://storipowys.org.uk/event/amser-stori-yn-llyfrgell-rhaeadr-gwy/?lang=cy
ATTACH;FMTTYPE=image/png:https://storipowys.org.uk/wp-content/uploads/2025/08/RHA-Storytime-Poster-CYM-1.png
ORGANIZER;CN="Rhayader Library":MAILTO:rhayader.library@powys.gov.uk
END:VEVENT
BEGIN:VEVENT
DTSTART;TZID=UTC:20250829T120000
DTEND;TZID=UTC:20250829T133000
DTSTAMP:20260422T090856
CREATED:20250811T103042Z
LAST-MODIFIED:20250811T103541Z
UID:10019607-1756468800-1756474200@storipowys.org.uk
SUMMARY:Canu a chwerthin ar gyfer iechyd
DESCRIPTION:Mae canu a chwerthin yn wych ar gyfer eich ymlacio\, yn cryfhau’r system imiwn a gwella eich iechyd.Mae’r dosbarth hwyl a chyfeillgar hwn ar agor i bawb\, waeth p’un a allwch ganu ai peidio. Byddwn yn sgwrsio\, yn chwerthin\, a’n dysgu llawer o gân hardd yn gydamserol. Beth bynnag yw eich oedran\, symudedd\, hyder neu brofiad canu\, bydd y dosbarth hwn yn gwneud i chi deimlo’n wych. Dewch a gwneud ffrindiau\, a gwella eich wythnos gyfan.Cynhelir y dosbarth o 12 tan 1:30pm bob Gwener.
URL:https://storipowys.org.uk/event/17676/2025-08-29/?lang=cy
LOCATION:The Hafren\, Llanidloes Road\, Newtown\, SY164HU
ATTACH;FMTTYPE=image/jpeg:https://storipowys.org.uk/wp-content/uploads/2025/08/lungclass_TS.jpg
END:VEVENT
BEGIN:VEVENT
DTSTART;TZID=UTC:20250829T110000
DTEND;TZID=UTC:20250829T123000
DTSTAMP:20260422T090856
CREATED:20250711T132245Z
LAST-MODIFIED:20250711T132245Z
UID:10017165-1756465200-1756470600@storipowys.org.uk
SUMMARY:
DESCRIPTION:
URL:https://storipowys.org.uk/event/16808/?lang=cy
LOCATION:The Welfare Ystradgynlais Y Neuadd Les\, Brecon Rd\, Ystradgynlais\, Swansea\, SA9 1JJ\, United Kingdom
ATTACH;FMTTYPE=image/jpeg:https://storipowys.org.uk/wp-content/uploads/2025/06/The-Botanists-by-Flossy-and-Boo-at-The-Welfare-Ystradgynlais-Swansea.jpg
ORGANIZER;CN="The Welfare Ystradgynlais":MAILTO:boxoffice@thewelfare.co.uk
END:VEVENT
BEGIN:VEVENT
DTSTART;TZID=UTC:20250829T110000
DTEND;TZID=UTC:20250829T120000
DTSTAMP:20260422T090856
CREATED:20250305T122312Z
LAST-MODIFIED:20251124T120334Z
UID:10009986-1756465200-1756468800@storipowys.org.uk
SUMMARY:Grŵp Canu Rootlets
DESCRIPTION:Rootlets yn grŵp canu “dewch â’ch babi eich hun” sy’n cwrdd bob wythnos yn\nystod y tymor yn ystafell John Edwards yn Y Plas\, Machynlleth ar fore Gwener o 11-12.\nMae croeso i bob gofalwr a phob oedran o blant.\nArchebu yn hanfodol.\nRhaid i bob oedolyn fod yng nghwmni plentyn.\nBwriedir i archebion fod ar gyfer teuluoedd: gallwch archebu bloc a newid yr oedolyn\nsy’n dod gyda’r plentyn bob tro (hefyd yn iawn i’r ddau riant/gofalwr fynychu gydag un\nplentyn).\nGallwch hefyd ddod â brodyr a chwiorydd yn rhad ac am ddim.\nOs ydych chi’n rhannu gofal plant gyda ffrindiau ac eisiau dod â phlant o fwy nag un\nteulu\, mae hynny’n iawn hefyd\, cyn belled â’ch bod chi’n gallu gofalu am yr holl blant\nrydych chi’n dod â nhw gyda chi’n gyfrifol ac yn ddibynadwy.\nDylai pob plentyn o deulu ar wahân gael archebu ar wahân.\nRwy’n argymell cymhareb o 1 oedolyn i 2 blentyn os yw’r ddau o dan 4 oed. I ddod draw\,\narchebwch floc hanner tymor.
URL:https://storipowys.org.uk/event/grwp-canu-rootlets/2025-08-29/?lang=cy
LOCATION:Y Plas\, Pentrerhedyn St\, Machynlleth\, SY20 8ER
ATTACH;FMTTYPE=image/png:https://storipowys.org.uk/wp-content/uploads/2025/02/Square-website-images.zip-6.png
ORGANIZER;CN="Ruth Gordon":MAILTO:Rootedvoiceschoir@gmail.com
END:VEVENT
BEGIN:VEVENT
DTSTART;TZID=UTC:20250829T093000
DTEND;TZID=UTC:20250829T110000
DTSTAMP:20260422T090856
CREATED:20250811T103137Z
LAST-MODIFIED:20250811T103624Z
UID:10019085-1756459800-1756465200@storipowys.org.uk
SUMMARY:Canwch gyda'ch bachyn yn unig
DESCRIPTION:Dosbarth llawen ar gyfer plant bach a’u person mawr. 30 munud o ganu\, symudiad a phercusiwn ar gyfer plant cyn ysgol\, 30 munud o ddiod\, sgyrsiau\, bisgedi cartref\, 45 munud i’r plant aros a chwarae tra bydd oedolion yn sgwrsio neu’n mwynhau canu eu hunain!Dewch o hyd i’ch lleisiau\, gwnewch ffrindiau\, dadorchuddiwch glyw eich plentyn gyda harmonïau syml ac acapella. Croeso i ddechreuwyr llwyr/’doniadau’ . Beth bynnag yw eich pwynt dechreuol\, fe’ch cynhelir i fynd mewn cyfeiriad da\, datblygu eich lleisiau a chael llawer o hwyl yn y broses.Pob Gwener yn The Hafren 9:30-11:15yb.
URL:https://storipowys.org.uk/event/17668/2025-08-29/?lang=cy
LOCATION:The Hafren\, Llanidloes Road\, Newtown\, SY164HU
ATTACH;FMTTYPE=image/jpeg:https://storipowys.org.uk/wp-content/uploads/2025/08/babyclass_TS02.jpg
END:VEVENT
BEGIN:VEVENT
DTSTART;TZID=UTC:20250828T120000
DTEND;TZID=UTC:20250828T140000
DTSTAMP:20260422T090856
CREATED:20250609T103503Z
LAST-MODIFIED:20250609T104139Z
UID:10013679-1756382400-1756389600@storipowys.org.uk
SUMMARY:Grŵp Gwehyddu
DESCRIPTION:Ymunwch â ni i fwynhau gwau gyda sgwrs. Mae peiriannau gwnïo ar gael.
URL:https://storipowys.org.uk/event/sewing-group-2/2025-08-28/?lang=cy
LOCATION:Llyfrgell Ystradgynlais Library
ATTACH;FMTTYPE=image/png:https://storipowys.org.uk/wp-content/uploads/2024/12/sewing-photo-for-StP.png
ORGANIZER;CN="Llyfrgell Ystradgynlais Library":MAILTO:ystrad.library@powys.gov.uk
END:VEVENT
BEGIN:VEVENT
DTSTART;TZID=UTC:20250828T110000
DTEND;TZID=UTC:20250828T130000
DTSTAMP:20260422T090856
CREATED:20250609T104234Z
LAST-MODIFIED:20250609T104341Z
UID:10014200-1756378800-1756386000@storipowys.org.uk
SUMMARY:Clwb Bridge
DESCRIPTION:Ymunwch ag Andrew Gilbey yn y grŵp bywiog hwn sy’n addas ar gyfer pob lefel o allu\, o ddechreuwyr i chwaraewyr medrus.
URL:https://storipowys.org.uk/event/bridge-club-2/2025-08-28/?lang=cy
LOCATION:Llyfrgell Ystradgynlais Library
ATTACH;FMTTYPE=image/png:https://storipowys.org.uk/wp-content/uploads/2024/12/bridge-photo.png
ORGANIZER;CN="Llyfrgell Ystradgynlais Library":MAILTO:ystrad.library@powys.gov.uk
END:VEVENT
BEGIN:VEVENT
DTSTART;TZID=UTC:20250828T103000
DTEND;TZID=UTC:20250828T123000
DTSTAMP:20260422T090856
CREATED:20250725T104134Z
LAST-MODIFIED:20250725T104328Z
UID:10018018-1756377000-1756384200@storipowys.org.uk
SUMMARY:Cymorth Busnes
DESCRIPTION:Cyngor busnes am ddim ar gael yn eich ardal. \nGwasanaeth wedi ei ariannu’n llawn drwy Lywodraeth y DU a’i ddarparu gan Fenter Antur Cymru. \nDerbyn cyngor arbenigol yn\nGweithdai\, Rhwydweithio\, Cyngor 1:1 a mwy \n\nMarchnata a’r cyfryngau cymdeithasol\nDigido systemau busnes\nCynnig am grantiau a benthyciadau datblygu busnes\nGwasanaeth cwsmer\nMarchnata gweledol\nPrisio am elw\nDefnyddio’r iaith Gymraeg yn eich busnes\nHawliau defnyddwyr a safonau masnach\nRecriwtio a chadw staff\nLleihau carbon a gwastraff\n\nbusnes@anturcymru.org.uk \n01239 710 238\n@anturcymruwales
URL:https://storipowys.org.uk/event/business-advice/?lang=cy
LOCATION:Hay on Wye Library\, Oxford Road\, Hay on Wye\, HR3 5BT
ATTACH;FMTTYPE=image/jpeg:https://storipowys.org.uk/wp-content/uploads/2025/07/Screenshot_25-7-2025_113512_.jpeg
ORGANIZER;CN="Llyfrgell Rhaeadr / Rhayader Library":MAILTO:rhayader.library@powys.gov.uk
END:VEVENT
BEGIN:VEVENT
DTSTART;TZID=UTC:20250828T103000
DTEND;TZID=UTC:20250828T120000
DTSTAMP:20260422T090856
CREATED:20250609T104431Z
LAST-MODIFIED:20250609T104530Z
UID:10014721-1756377000-1756382400@storipowys.org.uk
SUMMARY:Coffi a Sgwrs
DESCRIPTION:Trefnir ein boreau coffi cymunedol poblogaidd gan Ffrindiau’r Llyfrgell ac fe’u cynhelir bob dydd Iau 10.30-12.
URL:https://storipowys.org.uk/event/coffee-and-chat-2/2025-08-28/?lang=cy
LOCATION:Llyfrgell Ystradgynlais Library
ATTACH;FMTTYPE=image/png:https://storipowys.org.uk/wp-content/uploads/2024/12/Coffee-and-chat-photo.png
ORGANIZER;CN="Llyfrgell Ystradgynlais Library":MAILTO:ystrad.library@powys.gov.uk
END:VEVENT
BEGIN:VEVENT
DTSTART;TZID=UTC:20250828T100000
DTEND;TZID=UTC:20250828T120000
DTSTAMP:20260422T090856
CREATED:20250819T093559Z
LAST-MODIFIED:20250819T093559Z
UID:10020620-1756375200-1756382400@storipowys.org.uk
SUMMARY:Gweithdy Crefftau Gardd
DESCRIPTION:Dewch draw i wneud bomiau hadau a chymysgedd hwyliog o grefftau blodau – mandalas\, curo blodau a mwy!
URL:https://storipowys.org.uk/event/gweithdy-crefftau-gardd-2/?lang=cy
LOCATION:Newtown Library/Llyfrgell y Drenewydd\, Park Lane\, Newtown\, SY16 1EJ
ATTACH;FMTTYPE=image/png:https://storipowys.org.uk/wp-content/uploads/2025/08/Cymraeg-Gardening-Workshops-Newtown-Facebook-Post.png
ORGANIZER;CN="Newtown Library":MAILTO:newtown.library@powys.gov.uk
END:VEVENT
BEGIN:VEVENT
DTSTART;TZID=UTC:20250828T100000
DTEND;TZID=UTC:20250828T120000
DTSTAMP:20260422T090856
CREATED:20250716T095508Z
LAST-MODIFIED:20250716T095508Z
UID:10017168-1756375200-1756382400@storipowys.org.uk
SUMMARY:Myths and Fairytales Workshop by Flossy and Boo
DESCRIPTION:Gyda siffrwd coedwig hynafol o’n cwmpas\, byddwn yn dod yn greaduriaid chwedlonol o chwedloniaeth Cymru… neu’n dyfeisio ein rhai ni ein hunain! \nDisgwyliwch chwerthin\, adenydd sigledig\, tirweddau sain meddal a thaenelliad o lwch tylwyth teg. \nTrwy gemau theatr\, adrodd straeon a hwyl synhwyraidd\, fe’ch gwahoddir i fyd hudolus lle mae unrhyw beth yn bosibl. \nGwisgwch rywbeth cyfforddus – ac mae croeso i chi wisgo fel eich hoff gymeriad chwedl dylwyth teg.\nDewch â’ch dychymyg! \nI blant 2–5 mwlydd oed (croeso i frodyr a chwiorydd iau).\nRhaid i bob plentyn fod yng nghwmni oedolyn.\nPris: £3 y plentyn 2+ oed | Am ddim i blant dan 1 oed.\nNid oes angen tocyn ar oedolion.\nMae’r gweithdy’n para tua 2 awr.
URL:https://storipowys.org.uk/event/myths-and-fairytales-workshop-by-flossy-and-boo/?lang=cy
LOCATION:The Welfare Ystradgynlais Y Neuadd Les\, Brecon Rd\, Ystradgynlais\, Swansea\, SA9 1JJ\, United Kingdom
ATTACH;FMTTYPE=image/jpeg:https://storipowys.org.uk/wp-content/uploads/2025/06/Myths-and-Fairytales-Workshop-with-Flossy-and-Boo-at-The-Welfare-Ystradgynlais-Swansea-1.jpg
ORGANIZER;CN="The Welfare Ystradgynlais":MAILTO:boxoffice@thewelfare.co.uk
END:VEVENT
BEGIN:VEVENT
DTSTART;TZID=UTC:20250828T093000
DTEND;TZID=UTC:20250828T110000
DTSTAMP:20260422T090856
CREATED:20250226T142244Z
LAST-MODIFIED:20250226T142244Z
UID:10007221-1756373400-1756378800@storipowys.org.uk
SUMMARY:Grŵp Y Ffrindiau Digidol
DESCRIPTION:Man diogel lle gall oedolyn hŷn dod i’r arfer â thecnoleg gyda’ igilydd.
URL:https://storipowys.org.uk/event/grwp-y-ffrindiau-digidol/2025-08-28/?lang=cy
LOCATION:Newtown Library/Llyfrgell y Drenewydd\, Park Lane\, Newtown\, SY16 1EJ
ATTACH;FMTTYPE=image/png:https://storipowys.org.uk/wp-content/uploads/2025/02/Digital-Friends-1.png
ORGANIZER;CN="Newtown Library":MAILTO:newtown.library@powys.gov.uk
END:VEVENT
BEGIN:VEVENT
DTSTART;TZID=UTC:20250828T060000
DTEND;TZID=UTC:20250828T203000
DTSTAMP:20260422T090856
CREATED:20250409T151955Z
LAST-MODIFIED:20250409T151955Z
UID:10011257-1756360800-1756413000@storipowys.org.uk
SUMMARY:
DESCRIPTION:
URL:https://storipowys.org.uk/event/15685/2025-08-28/?lang=cy
LOCATION:The Youth & Community Centre (RDC)\, Llanfyllin
ATTACH;FMTTYPE=image/png:https://storipowys.org.uk/wp-content/uploads/2025/04/lyac-facebok-banner-25.png
ORGANIZER;CN="Arts Connection - Cyswllt Celf":MAILTO:sian@artsconnection.org.uk
END:VEVENT
BEGIN:VEVENT
DTSTART;TZID=UTC:20250827T163000
DTEND;TZID=UTC:20250827T180000
DTSTAMP:20260422T090856
CREATED:20250528T101144Z
LAST-MODIFIED:20250528T101144Z
UID:10011755-1756312200-1756317600@storipowys.org.uk
SUMMARY:Dawns Solar
DESCRIPTION:Mae Solar Dance\, a sefydlwyd ym 1994\, yn cynnig ystod eang o ddosbarthiadau dawns hwyliog i blant 4 oed a hŷn.\nGydag amrywiaeth o arddulliau dawns i’w harchwilio\, mae pob myfyriwr yn cael y cyfle i fod yn ‘Seren Solar!’ \nBob dydd Mercher: 4.30pm – 6pm\n4+ oed
URL:https://storipowys.org.uk/event/dawns-solar/2025-08-27/?lang=cy
LOCATION:The Welfare Ystradgynlais Y Neuadd Les\, Brecon Rd\, Ystradgynlais\, Swansea\, SA9 1JJ\, United Kingdom
ATTACH;FMTTYPE=image/jpeg:https://storipowys.org.uk/wp-content/uploads/2025/05/45271545_2005380566213227_2904708570085851136_n.jpg
ORGANIZER;CN="The Welfare Ystradgynlais":MAILTO:boxoffice@thewelfare.co.uk
END:VEVENT
BEGIN:VEVENT
DTSTART;TZID=UTC:20250827T160000
DTEND;TZID=UTC:20250827T180000
DTSTAMP:20260422T090856
CREATED:20250711T132758Z
LAST-MODIFIED:20250714T101904Z
UID:10017206-1756310400-1756317600@storipowys.org.uk
SUMMARY:Clwb Gwyddbwyll
DESCRIPTION:Clwb gwyddbwyll yn llyfrgell ac amgueddfa Llanidloes \nCroeso i bob oed a phob lefel o allu.\nRhaid i blant dan 8 oed fod yng nghwmni oedolyn.
URL:https://storipowys.org.uk/event/clwb-gwyddbwyll-2/2025-08-27/?lang=cy
LOCATION:Llanidloes library and musuem\, Town Hall\, Llanidloes\, SY18 6BN
ATTACH;FMTTYPE=image/jpeg:https://storipowys.org.uk/wp-content/uploads/2025/07/girls-playing-chess-together-home_738298-151.jpg
ORGANIZER;CN="Llanidloes library and museum":MAILTO:llanidloes.library@powys.gov.uk
END:VEVENT
BEGIN:VEVENT
DTSTART;TZID=UTC:20250827T140000
DTEND;TZID=UTC:20250827T153000
DTSTAMP:20260422T090856
CREATED:20250820T102705Z
LAST-MODIFIED:20250820T102800Z
UID:10020628-1756303200-1756308600@storipowys.org.uk
SUMMARY:Gweithdy Gardd Straeon
DESCRIPTION:Ymunwch â Nikki o Nature Recovery ar gyfer Gweithdy Gardd Straeon hudolus yn ystafell plant Llyfrgell y Drenewydd. Bydd y sesiwn ryngweithiol hon yn ysbrydoli dychymyg ac yn annog creadigrwydd drwy adrodd straeon a gweithgareddau wedi’u hysbrydoli gan natur. \nFel rhan o Her Ddarllen yr Haf\, bydd cyfle i blant addurno bagiau tote—ffordd hwyliog a chreadigol o ddathlu darllen dros yr haf! \nDoes dim angen archebu—dewch draw a mwynhewch!
URL:https://storipowys.org.uk/event/story-garden-workshop/?lang=cy
LOCATION:Llyfrgell Llanidloes / Llanidloes Library\, Great Oak Street\, Llanidloes\, SY18 6BN
ATTACH;FMTTYPE=image/png:https://storipowys.org.uk/wp-content/uploads/2025/08/Picture1.png
ORGANIZER;CN="Llyfrgell Llanidloes Library":MAILTO:llanidloes.library@powys.gov.uk
END:VEVENT
BEGIN:VEVENT
DTSTART;TZID=UTC:20250827T133000
DTEND;TZID=UTC:20250827T150000
DTSTAMP:20260422T090856
CREATED:20250528T101154Z
LAST-MODIFIED:20250528T101154Z
UID:10011995-1756301400-1756306800@storipowys.org.uk
SUMMARY:Nexus Arts
DESCRIPTION:Celfyddydau Perfformio a Chreadigol i Bawb\nDrama\, dawns a chelfyddydau gweledol ar gyfer grŵp integredig o oedolion ac oedolion ag anableddau dysgu. \nPob Dydd Mercher 1.30 – 3pm\n£5 y sesiwn\, Gofalwyr am ddim
URL:https://storipowys.org.uk/event/nexus-arts/2025-08-27/?lang=cy
LOCATION:The Welfare Ystradgynlais Y Neuadd Les\, Brecon Rd\, Ystradgynlais\, Swansea\, SA9 1JJ\, United Kingdom
ATTACH;FMTTYPE=image/jpeg:https://storipowys.org.uk/wp-content/uploads/2025/05/2jzeSqBw-1.jpeg
ORGANIZER;CN="The Welfare Ystradgynlais":MAILTO:boxoffice@thewelfare.co.uk
END:VEVENT
BEGIN:VEVENT
DTSTART;TZID=UTC:20250827T101500
DTEND;TZID=UTC:20250827T123000
DTSTAMP:20260422T090856
CREATED:20250122T145303Z
LAST-MODIFIED:20250331T142332Z
UID:10005483-1756289700-1756297800@storipowys.org.uk
SUMMARY:Clwb Celf
DESCRIPTION:Grŵp croesawgar ar gyfer pob gallu a chariadon celf. Bob wythnos byddwch yn cael rhai syniadau a thechnegau prosiect i roi cynnig arnynt\, neu gallwch ddefnyddio’r gofod i weithio ar eich prosiectau presennol. Darperir deunyddiau ac offer\, ond mae croeso i chi ddod â’ch deunyddiau eich hun.
URL:https://storipowys.org.uk/event/14172/2025-08-27/?lang=cy
LOCATION:Llyfrgell Ystradgynlais Library\, Temperance Lane\, Swansea\, SA9 1JP
ATTACH;FMTTYPE=image/png:https://storipowys.org.uk/wp-content/uploads/2025/01/Clwb-Celf-4.png
ORGANIZER;CN="Ystradgynlais Library":MAILTO:ystrad.library@powys.gov.uk
END:VEVENT
BEGIN:VEVENT
DTSTART;TZID=UTC:20250827T100000
DTEND;TZID=UTC:20250827T163000
DTSTAMP:20260422T090856
CREATED:20250801T103903Z
LAST-MODIFIED:20250804T140802Z
UID:10018164-1756288800-1756312200@storipowys.org.uk
SUMMARY:Gweithdai Gwyliau Haf i Blant
DESCRIPTION:Eleni byddwn yn cynnal gweithdai i blant 7-12 oed ddydd Mawrth a dydd Mercher 10-12.30 a 2-4.30pm\, £12 y sesiwn. \nGall plant iau ddod am un sesiwn ac efallai y bydd rhai hŷn yn hoffi mynychu’r ddwy. \nBydd y gweithgareddau’n cynnwys –\nGwneud Clai a Phrintiau gyda Cathy a Josh\nPeintio dyfrlliw gydag Angela Gladwell\nArgraffu a Chyfryngau Cymysg gyda Cheryl Leach. \nE-bostiwch office@midwalesarts.org.uk am ffurflen archebu.
URL:https://storipowys.org.uk/event/gweithdai-gwyliau-haf-i-blant/2025-08-27/?lang=cy
LOCATION:mid wales arts\, CAERSWS\, SY17 5SB
ATTACH;FMTTYPE=image/jpeg:https://storipowys.org.uk/wp-content/uploads/2025/07/IMG_8431-1-rotated.jpg
ORGANIZER;CN="Josh Jones":MAILTO:office@midwalesarts.org.uk
END:VEVENT
BEGIN:VEVENT
DTSTART;TZID=UTC:20250826T183000
DTEND;TZID=UTC:20250826T203000
DTSTAMP:20260422T090856
CREATED:20250409T151816Z
LAST-MODIFIED:20250409T151816Z
UID:10011233-1756233000-1756240200@storipowys.org.uk
SUMMARY:Masquerade
DESCRIPTION:Our classes aimed at people with learning disabilities feature drama\, art\, movement & music | Mae ein dosbarthiadau ar gyfer pobl ag anableddau dysgu yn cynnwys drama\, celf\, symud a cherddoriaeth\nBi-weekly classes on Tuesday evenings | Dosbarthiadau bob yn ail wythnos ar nos Fawrth\n🕐 6:30-8:30pm\n📍 The Institute\, Llanfyllin\n💰 £4 per session | £4 y sesiwn\nDates: The group will be meeting on the following TUESDAYS of each month:\nApril | Ebrill 15 & 22\nMay | Mai 6 & 20\nJune | Mehefin 3 & 17\nJuly | Gorffennaf 1 & 15\nBreak for summer\nSep | Medi 9 & 23\nOct | Hydref 7 & 21st\nNov | Tachwedd 4\, 18 & 25\nEnd of year show: Saturday 29 November | Dydd Sad 29 Tach
URL:https://storipowys.org.uk/event/masquerade/2025-08-26/?lang=cy
LOCATION:The Institute\, Llanfyllin\, SY22 5AA
ATTACH;FMTTYPE=image/png:https://storipowys.org.uk/wp-content/uploads/2025/04/Masquerade-24-Facebook-Cover-5.png
ORGANIZER;CN="Arts Connection - Cyswllt Celf":MAILTO:sian@artsconnection.org.uk
END:VEVENT
BEGIN:VEVENT
DTSTART;TZID=UTC:20250826T180000
DTEND;TZID=UTC:20250826T193000
DTSTAMP:20260422T090856
CREATED:20250326T133731Z
LAST-MODIFIED:20250326T133828Z
UID:10008426-1756231200-1756236600@storipowys.org.uk
SUMMARY:Clwb Crochenwaith
DESCRIPTION:Cwrs Crochenwaith Amser Tymor i Oedolion sydd eisiau dysgu sut i adeiladu â llaw yn greadigol. Pob modelu creadigol a chyfleoedd i arbrofi a chreu. Offer\, Clai a Gwydredd wedi’u cynnwys. Gyda’r Meistr Tiwtor Potter Alex Allpress
URL:https://storipowys.org.uk/event/15497/2025-08-26/?lang=cy
LOCATION:The Pottery\, Church Street\, Builth Wells\, LD2 3AP
ATTACH;FMTTYPE=image/jpeg:https://storipowys.org.uk/wp-content/uploads/2025/03/pottery-builth.jpg
END:VEVENT
BEGIN:VEVENT
DTSTART;TZID=UTC:20250826T160000
DTEND;TZID=UTC:20250826T193000
DTSTAMP:20260422T090856
CREATED:20250528T112355Z
LAST-MODIFIED:20250528T112355Z
UID:10011875-1756224000-1756236600@storipowys.org.uk
SUMMARY:The Performance Factory Stage School
DESCRIPTION:Dechrau perffaith i’r celfyddydau perfformio! \nDydd Mawrth\n4.15yp – 5.15yp:  Oedrannau 3-6\n5.15yp – 7.15yp: Oedrannau 7+
URL:https://storipowys.org.uk/event/the-performance-factory-stage-school/2025-08-26/?lang=cy
LOCATION:The Welfare Ystradgynlais Y Neuadd Les\, Brecon Rd\, Ystradgynlais\, Swansea\, SA9 1JJ\, United Kingdom
ATTACH;FMTTYPE=image/jpeg:https://storipowys.org.uk/wp-content/uploads/2025/05/124027951_3857489414296447_387030462166457355_n-2.jpg
ORGANIZER;CN="The Welfare Ystradgynlais":MAILTO:boxoffice@thewelfare.co.uk
END:VEVENT
BEGIN:VEVENT
DTSTART;TZID=UTC:20250826T153000
DTEND;TZID=UTC:20250826T163000
DTSTAMP:20260422T090856
CREATED:20250711T105109Z
LAST-MODIFIED:20250711T105109Z
UID:10017622-1756222200-1756225800@storipowys.org.uk
SUMMARY:Clwb Gwyddbwyll
DESCRIPTION:Addas ar gyfer chwaraewyr sy’n ddechreuwyr a rhai profiadol o bob oed
URL:https://storipowys.org.uk/event/clwb-gwyddbwyll/2025-08-26/?lang=cy
LOCATION:Ystradgynlais Library\, Temperance Lane\, SA9 1JP
ATTACH;FMTTYPE=image/jpeg:https://storipowys.org.uk/wp-content/uploads/2025/07/2.jpg
ORGANIZER;CN="Ystradgynlais Library / LLyfrgell Ystradygnlais":MAILTO:ystrad.library@powys.gov.uk
END:VEVENT
END:VCALENDAR