BEGIN:VCALENDAR
VERSION:2.0
PRODID:-//Powys - ECPv6.15.20//NONSGML v1.0//EN
CALSCALE:GREGORIAN
METHOD:PUBLISH
X-WR-CALNAME:Powys
X-ORIGINAL-URL:https://storipowys.org.uk/?lang=cy
X-WR-CALDESC:Events for Powys
REFRESH-INTERVAL;VALUE=DURATION:PT1H
X-Robots-Tag:noindex
X-PUBLISHED-TTL:PT1H
BEGIN:VTIMEZONE
TZID:UTC
BEGIN:STANDARD
TZOFFSETFROM:+0000
TZOFFSETTO:+0000
TZNAME:UTC
DTSTART:20250101T000000
END:STANDARD
END:VTIMEZONE
BEGIN:VEVENT
DTSTART;TZID=UTC:20260427T140000
DTEND;TZID=UTC:20260427T160000
DTSTAMP:20260422T085054
CREATED:20250609T141251Z
LAST-MODIFIED:20250609T141406Z
UID:10015283-1777298400-1777305600@storipowys.org.uk
SUMMARY:Gweu A Sgwrs\, Crosio A Siarad
DESCRIPTION:Grŵp cyfeillgar o bobl yn gwau a chrosio amrywiaeth o eitemau o flancedi i siwmperi \nNi chodir tâl i fynychu.
URL:https://storipowys.org.uk/event/knit-natter-crochet-chatter-2/2026-04-27/?lang=cy
LOCATION:Llyfrgell Rhaeadr / Rhayader Library\, West Street\, Rhayader\, LD6 5DS
ATTACH;FMTTYPE=image/jpeg:https://storipowys.org.uk/wp-content/uploads/2025/01/Screenshot_6-1-2025_143423_rhayader.co_.uk_.jpeg
ORGANIZER;CN="Llyfrgell Rhaeadr / Rhayader Library":MAILTO:rhayader.library@powys.gov.uk
END:VEVENT
BEGIN:VEVENT
DTSTART;TZID=UTC:20260504T140000
DTEND;TZID=UTC:20260504T160000
DTSTAMP:20260422T085054
CREATED:20250609T141251Z
LAST-MODIFIED:20250609T141406Z
UID:10015284-1777903200-1777910400@storipowys.org.uk
SUMMARY:Gweu A Sgwrs\, Crosio A Siarad
DESCRIPTION:Grŵp cyfeillgar o bobl yn gwau a chrosio amrywiaeth o eitemau o flancedi i siwmperi \nNi chodir tâl i fynychu.
URL:https://storipowys.org.uk/event/knit-natter-crochet-chatter-2/2026-05-04/?lang=cy
LOCATION:Llyfrgell Rhaeadr / Rhayader Library\, West Street\, Rhayader\, LD6 5DS
ATTACH;FMTTYPE=image/jpeg:https://storipowys.org.uk/wp-content/uploads/2025/01/Screenshot_6-1-2025_143423_rhayader.co_.uk_.jpeg
ORGANIZER;CN="Llyfrgell Rhaeadr / Rhayader Library":MAILTO:rhayader.library@powys.gov.uk
END:VEVENT
BEGIN:VEVENT
DTSTART;TZID=UTC:20260511T140000
DTEND;TZID=UTC:20260511T160000
DTSTAMP:20260422T085054
CREATED:20250609T141251Z
LAST-MODIFIED:20250609T141406Z
UID:10015285-1778508000-1778515200@storipowys.org.uk
SUMMARY:Gweu A Sgwrs\, Crosio A Siarad
DESCRIPTION:Grŵp cyfeillgar o bobl yn gwau a chrosio amrywiaeth o eitemau o flancedi i siwmperi \nNi chodir tâl i fynychu.
URL:https://storipowys.org.uk/event/knit-natter-crochet-chatter-2/2026-05-11/?lang=cy
LOCATION:Llyfrgell Rhaeadr / Rhayader Library\, West Street\, Rhayader\, LD6 5DS
ATTACH;FMTTYPE=image/jpeg:https://storipowys.org.uk/wp-content/uploads/2025/01/Screenshot_6-1-2025_143423_rhayader.co_.uk_.jpeg
ORGANIZER;CN="Llyfrgell Rhaeadr / Rhayader Library":MAILTO:rhayader.library@powys.gov.uk
END:VEVENT
BEGIN:VEVENT
DTSTART;TZID=UTC:20260518T140000
DTEND;TZID=UTC:20260518T160000
DTSTAMP:20260422T085054
CREATED:20250609T141251Z
LAST-MODIFIED:20250609T141406Z
UID:10015286-1779112800-1779120000@storipowys.org.uk
SUMMARY:Gweu A Sgwrs\, Crosio A Siarad
DESCRIPTION:Grŵp cyfeillgar o bobl yn gwau a chrosio amrywiaeth o eitemau o flancedi i siwmperi \nNi chodir tâl i fynychu.
URL:https://storipowys.org.uk/event/knit-natter-crochet-chatter-2/2026-05-18/?lang=cy
LOCATION:Llyfrgell Rhaeadr / Rhayader Library\, West Street\, Rhayader\, LD6 5DS
ATTACH;FMTTYPE=image/jpeg:https://storipowys.org.uk/wp-content/uploads/2025/01/Screenshot_6-1-2025_143423_rhayader.co_.uk_.jpeg
ORGANIZER;CN="Llyfrgell Rhaeadr / Rhayader Library":MAILTO:rhayader.library@powys.gov.uk
END:VEVENT
BEGIN:VEVENT
DTSTART;TZID=UTC:20260525T140000
DTEND;TZID=UTC:20260525T160000
DTSTAMP:20260422T085054
CREATED:20250609T141251Z
LAST-MODIFIED:20250609T141406Z
UID:10015287-1779717600-1779724800@storipowys.org.uk
SUMMARY:Gweu A Sgwrs\, Crosio A Siarad
DESCRIPTION:Grŵp cyfeillgar o bobl yn gwau a chrosio amrywiaeth o eitemau o flancedi i siwmperi \nNi chodir tâl i fynychu.
URL:https://storipowys.org.uk/event/knit-natter-crochet-chatter-2/2026-05-25/?lang=cy
LOCATION:Llyfrgell Rhaeadr / Rhayader Library\, West Street\, Rhayader\, LD6 5DS
ATTACH;FMTTYPE=image/jpeg:https://storipowys.org.uk/wp-content/uploads/2025/01/Screenshot_6-1-2025_143423_rhayader.co_.uk_.jpeg
ORGANIZER;CN="Llyfrgell Rhaeadr / Rhayader Library":MAILTO:rhayader.library@powys.gov.uk
END:VEVENT
BEGIN:VEVENT
DTSTART;TZID=UTC:20260601T140000
DTEND;TZID=UTC:20260601T160000
DTSTAMP:20260422T085054
CREATED:20250609T141251Z
LAST-MODIFIED:20250609T141406Z
UID:10015288-1780322400-1780329600@storipowys.org.uk
SUMMARY:Gweu A Sgwrs\, Crosio A Siarad
DESCRIPTION:Grŵp cyfeillgar o bobl yn gwau a chrosio amrywiaeth o eitemau o flancedi i siwmperi \nNi chodir tâl i fynychu.
URL:https://storipowys.org.uk/event/knit-natter-crochet-chatter-2/2026-06-01/?lang=cy
LOCATION:Llyfrgell Rhaeadr / Rhayader Library\, West Street\, Rhayader\, LD6 5DS
ATTACH;FMTTYPE=image/jpeg:https://storipowys.org.uk/wp-content/uploads/2025/01/Screenshot_6-1-2025_143423_rhayader.co_.uk_.jpeg
ORGANIZER;CN="Llyfrgell Rhaeadr / Rhayader Library":MAILTO:rhayader.library@powys.gov.uk
END:VEVENT
BEGIN:VEVENT
DTSTART;TZID=UTC:20260608T140000
DTEND;TZID=UTC:20260608T160000
DTSTAMP:20260422T085054
CREATED:20250609T141251Z
LAST-MODIFIED:20250609T141406Z
UID:10015289-1780927200-1780934400@storipowys.org.uk
SUMMARY:Gweu A Sgwrs\, Crosio A Siarad
DESCRIPTION:Grŵp cyfeillgar o bobl yn gwau a chrosio amrywiaeth o eitemau o flancedi i siwmperi \nNi chodir tâl i fynychu.
URL:https://storipowys.org.uk/event/knit-natter-crochet-chatter-2/2026-06-08/?lang=cy
LOCATION:Llyfrgell Rhaeadr / Rhayader Library\, West Street\, Rhayader\, LD6 5DS
ATTACH;FMTTYPE=image/jpeg:https://storipowys.org.uk/wp-content/uploads/2025/01/Screenshot_6-1-2025_143423_rhayader.co_.uk_.jpeg
ORGANIZER;CN="Llyfrgell Rhaeadr / Rhayader Library":MAILTO:rhayader.library@powys.gov.uk
END:VEVENT
BEGIN:VEVENT
DTSTART;TZID=UTC:20260615T140000
DTEND;TZID=UTC:20260615T160000
DTSTAMP:20260422T085054
CREATED:20250609T141251Z
LAST-MODIFIED:20250609T141406Z
UID:10015290-1781532000-1781539200@storipowys.org.uk
SUMMARY:Gweu A Sgwrs\, Crosio A Siarad
DESCRIPTION:Grŵp cyfeillgar o bobl yn gwau a chrosio amrywiaeth o eitemau o flancedi i siwmperi \nNi chodir tâl i fynychu.
URL:https://storipowys.org.uk/event/knit-natter-crochet-chatter-2/2026-06-15/?lang=cy
LOCATION:Llyfrgell Rhaeadr / Rhayader Library\, West Street\, Rhayader\, LD6 5DS
ATTACH;FMTTYPE=image/jpeg:https://storipowys.org.uk/wp-content/uploads/2025/01/Screenshot_6-1-2025_143423_rhayader.co_.uk_.jpeg
ORGANIZER;CN="Llyfrgell Rhaeadr / Rhayader Library":MAILTO:rhayader.library@powys.gov.uk
END:VEVENT
BEGIN:VEVENT
DTSTART;TZID=UTC:20260622T140000
DTEND;TZID=UTC:20260622T160000
DTSTAMP:20260422T085054
CREATED:20250609T141251Z
LAST-MODIFIED:20250609T141406Z
UID:10015291-1782136800-1782144000@storipowys.org.uk
SUMMARY:Gweu A Sgwrs\, Crosio A Siarad
DESCRIPTION:Grŵp cyfeillgar o bobl yn gwau a chrosio amrywiaeth o eitemau o flancedi i siwmperi \nNi chodir tâl i fynychu.
URL:https://storipowys.org.uk/event/knit-natter-crochet-chatter-2/2026-06-22/?lang=cy
LOCATION:Llyfrgell Rhaeadr / Rhayader Library\, West Street\, Rhayader\, LD6 5DS
ATTACH;FMTTYPE=image/jpeg:https://storipowys.org.uk/wp-content/uploads/2025/01/Screenshot_6-1-2025_143423_rhayader.co_.uk_.jpeg
ORGANIZER;CN="Llyfrgell Rhaeadr / Rhayader Library":MAILTO:rhayader.library@powys.gov.uk
END:VEVENT
BEGIN:VEVENT
DTSTART;TZID=UTC:20260629T140000
DTEND;TZID=UTC:20260629T160000
DTSTAMP:20260422T085054
CREATED:20250609T141251Z
LAST-MODIFIED:20250609T141406Z
UID:10015292-1782741600-1782748800@storipowys.org.uk
SUMMARY:Gweu A Sgwrs\, Crosio A Siarad
DESCRIPTION:Grŵp cyfeillgar o bobl yn gwau a chrosio amrywiaeth o eitemau o flancedi i siwmperi \nNi chodir tâl i fynychu.
URL:https://storipowys.org.uk/event/knit-natter-crochet-chatter-2/2026-06-29/?lang=cy
LOCATION:Llyfrgell Rhaeadr / Rhayader Library\, West Street\, Rhayader\, LD6 5DS
ATTACH;FMTTYPE=image/jpeg:https://storipowys.org.uk/wp-content/uploads/2025/01/Screenshot_6-1-2025_143423_rhayader.co_.uk_.jpeg
ORGANIZER;CN="Llyfrgell Rhaeadr / Rhayader Library":MAILTO:rhayader.library@powys.gov.uk
END:VEVENT
BEGIN:VEVENT
DTSTART;TZID=UTC:20260706T140000
DTEND;TZID=UTC:20260706T160000
DTSTAMP:20260422T085054
CREATED:20250609T141251Z
LAST-MODIFIED:20250609T141406Z
UID:10015293-1783346400-1783353600@storipowys.org.uk
SUMMARY:Gweu A Sgwrs\, Crosio A Siarad
DESCRIPTION:Grŵp cyfeillgar o bobl yn gwau a chrosio amrywiaeth o eitemau o flancedi i siwmperi \nNi chodir tâl i fynychu.
URL:https://storipowys.org.uk/event/knit-natter-crochet-chatter-2/2026-07-06/?lang=cy
LOCATION:Llyfrgell Rhaeadr / Rhayader Library\, West Street\, Rhayader\, LD6 5DS
ATTACH;FMTTYPE=image/jpeg:https://storipowys.org.uk/wp-content/uploads/2025/01/Screenshot_6-1-2025_143423_rhayader.co_.uk_.jpeg
ORGANIZER;CN="Llyfrgell Rhaeadr / Rhayader Library":MAILTO:rhayader.library@powys.gov.uk
END:VEVENT
BEGIN:VEVENT
DTSTART;TZID=UTC:20260713T140000
DTEND;TZID=UTC:20260713T160000
DTSTAMP:20260422T085054
CREATED:20250609T141251Z
LAST-MODIFIED:20250609T141406Z
UID:10015294-1783951200-1783958400@storipowys.org.uk
SUMMARY:Gweu A Sgwrs\, Crosio A Siarad
DESCRIPTION:Grŵp cyfeillgar o bobl yn gwau a chrosio amrywiaeth o eitemau o flancedi i siwmperi \nNi chodir tâl i fynychu.
URL:https://storipowys.org.uk/event/knit-natter-crochet-chatter-2/2026-07-13/?lang=cy
LOCATION:Llyfrgell Rhaeadr / Rhayader Library\, West Street\, Rhayader\, LD6 5DS
ATTACH;FMTTYPE=image/jpeg:https://storipowys.org.uk/wp-content/uploads/2025/01/Screenshot_6-1-2025_143423_rhayader.co_.uk_.jpeg
ORGANIZER;CN="Llyfrgell Rhaeadr / Rhayader Library":MAILTO:rhayader.library@powys.gov.uk
END:VEVENT
BEGIN:VEVENT
DTSTART;TZID=UTC:20260720T140000
DTEND;TZID=UTC:20260720T160000
DTSTAMP:20260422T085054
CREATED:20250609T141251Z
LAST-MODIFIED:20250609T141406Z
UID:10015295-1784556000-1784563200@storipowys.org.uk
SUMMARY:Gweu A Sgwrs\, Crosio A Siarad
DESCRIPTION:Grŵp cyfeillgar o bobl yn gwau a chrosio amrywiaeth o eitemau o flancedi i siwmperi \nNi chodir tâl i fynychu.
URL:https://storipowys.org.uk/event/knit-natter-crochet-chatter-2/2026-07-20/?lang=cy
LOCATION:Llyfrgell Rhaeadr / Rhayader Library\, West Street\, Rhayader\, LD6 5DS
ATTACH;FMTTYPE=image/jpeg:https://storipowys.org.uk/wp-content/uploads/2025/01/Screenshot_6-1-2025_143423_rhayader.co_.uk_.jpeg
ORGANIZER;CN="Llyfrgell Rhaeadr / Rhayader Library":MAILTO:rhayader.library@powys.gov.uk
END:VEVENT
BEGIN:VEVENT
DTSTART;TZID=UTC:20260727T140000
DTEND;TZID=UTC:20260727T160000
DTSTAMP:20260422T085054
CREATED:20250609T141251Z
LAST-MODIFIED:20250609T141406Z
UID:10015296-1785160800-1785168000@storipowys.org.uk
SUMMARY:Gweu A Sgwrs\, Crosio A Siarad
DESCRIPTION:Grŵp cyfeillgar o bobl yn gwau a chrosio amrywiaeth o eitemau o flancedi i siwmperi \nNi chodir tâl i fynychu.
URL:https://storipowys.org.uk/event/knit-natter-crochet-chatter-2/2026-07-27/?lang=cy
LOCATION:Llyfrgell Rhaeadr / Rhayader Library\, West Street\, Rhayader\, LD6 5DS
ATTACH;FMTTYPE=image/jpeg:https://storipowys.org.uk/wp-content/uploads/2025/01/Screenshot_6-1-2025_143423_rhayader.co_.uk_.jpeg
ORGANIZER;CN="Llyfrgell Rhaeadr / Rhayader Library":MAILTO:rhayader.library@powys.gov.uk
END:VEVENT
BEGIN:VEVENT
DTSTART;TZID=UTC:20260803T140000
DTEND;TZID=UTC:20260803T160000
DTSTAMP:20260422T085054
CREATED:20250609T141251Z
LAST-MODIFIED:20250609T141406Z
UID:10015297-1785765600-1785772800@storipowys.org.uk
SUMMARY:Gweu A Sgwrs\, Crosio A Siarad
DESCRIPTION:Grŵp cyfeillgar o bobl yn gwau a chrosio amrywiaeth o eitemau o flancedi i siwmperi \nNi chodir tâl i fynychu.
URL:https://storipowys.org.uk/event/knit-natter-crochet-chatter-2/2026-08-03/?lang=cy
LOCATION:Llyfrgell Rhaeadr / Rhayader Library\, West Street\, Rhayader\, LD6 5DS
ATTACH;FMTTYPE=image/jpeg:https://storipowys.org.uk/wp-content/uploads/2025/01/Screenshot_6-1-2025_143423_rhayader.co_.uk_.jpeg
ORGANIZER;CN="Llyfrgell Rhaeadr / Rhayader Library":MAILTO:rhayader.library@powys.gov.uk
END:VEVENT
BEGIN:VEVENT
DTSTART;TZID=UTC:20260810T140000
DTEND;TZID=UTC:20260810T160000
DTSTAMP:20260422T085054
CREATED:20250609T141251Z
LAST-MODIFIED:20250609T141406Z
UID:10015298-1786370400-1786377600@storipowys.org.uk
SUMMARY:Gweu A Sgwrs\, Crosio A Siarad
DESCRIPTION:Grŵp cyfeillgar o bobl yn gwau a chrosio amrywiaeth o eitemau o flancedi i siwmperi \nNi chodir tâl i fynychu.
URL:https://storipowys.org.uk/event/knit-natter-crochet-chatter-2/2026-08-10/?lang=cy
LOCATION:Llyfrgell Rhaeadr / Rhayader Library\, West Street\, Rhayader\, LD6 5DS
ATTACH;FMTTYPE=image/jpeg:https://storipowys.org.uk/wp-content/uploads/2025/01/Screenshot_6-1-2025_143423_rhayader.co_.uk_.jpeg
ORGANIZER;CN="Llyfrgell Rhaeadr / Rhayader Library":MAILTO:rhayader.library@powys.gov.uk
END:VEVENT
BEGIN:VEVENT
DTSTART;TZID=UTC:20260817T140000
DTEND;TZID=UTC:20260817T160000
DTSTAMP:20260422T085054
CREATED:20250609T141251Z
LAST-MODIFIED:20250609T141406Z
UID:10015299-1786975200-1786982400@storipowys.org.uk
SUMMARY:Gweu A Sgwrs\, Crosio A Siarad
DESCRIPTION:Grŵp cyfeillgar o bobl yn gwau a chrosio amrywiaeth o eitemau o flancedi i siwmperi \nNi chodir tâl i fynychu.
URL:https://storipowys.org.uk/event/knit-natter-crochet-chatter-2/2026-08-17/?lang=cy
LOCATION:Llyfrgell Rhaeadr / Rhayader Library\, West Street\, Rhayader\, LD6 5DS
ATTACH;FMTTYPE=image/jpeg:https://storipowys.org.uk/wp-content/uploads/2025/01/Screenshot_6-1-2025_143423_rhayader.co_.uk_.jpeg
ORGANIZER;CN="Llyfrgell Rhaeadr / Rhayader Library":MAILTO:rhayader.library@powys.gov.uk
END:VEVENT
BEGIN:VEVENT
DTSTART;TZID=UTC:20260824T140000
DTEND;TZID=UTC:20260824T160000
DTSTAMP:20260422T085054
CREATED:20250609T141251Z
LAST-MODIFIED:20250609T141406Z
UID:10015300-1787580000-1787587200@storipowys.org.uk
SUMMARY:Gweu A Sgwrs\, Crosio A Siarad
DESCRIPTION:Grŵp cyfeillgar o bobl yn gwau a chrosio amrywiaeth o eitemau o flancedi i siwmperi \nNi chodir tâl i fynychu.
URL:https://storipowys.org.uk/event/knit-natter-crochet-chatter-2/2026-08-24/?lang=cy
LOCATION:Llyfrgell Rhaeadr / Rhayader Library\, West Street\, Rhayader\, LD6 5DS
ATTACH;FMTTYPE=image/jpeg:https://storipowys.org.uk/wp-content/uploads/2025/01/Screenshot_6-1-2025_143423_rhayader.co_.uk_.jpeg
ORGANIZER;CN="Llyfrgell Rhaeadr / Rhayader Library":MAILTO:rhayader.library@powys.gov.uk
END:VEVENT
BEGIN:VEVENT
DTSTART;TZID=UTC:20260831T140000
DTEND;TZID=UTC:20260831T160000
DTSTAMP:20260422T085054
CREATED:20250609T141251Z
LAST-MODIFIED:20250609T141406Z
UID:10015301-1788184800-1788192000@storipowys.org.uk
SUMMARY:Gweu A Sgwrs\, Crosio A Siarad
DESCRIPTION:Grŵp cyfeillgar o bobl yn gwau a chrosio amrywiaeth o eitemau o flancedi i siwmperi \nNi chodir tâl i fynychu.
URL:https://storipowys.org.uk/event/knit-natter-crochet-chatter-2/2026-08-31/?lang=cy
LOCATION:Llyfrgell Rhaeadr / Rhayader Library\, West Street\, Rhayader\, LD6 5DS
ATTACH;FMTTYPE=image/jpeg:https://storipowys.org.uk/wp-content/uploads/2025/01/Screenshot_6-1-2025_143423_rhayader.co_.uk_.jpeg
ORGANIZER;CN="Llyfrgell Rhaeadr / Rhayader Library":MAILTO:rhayader.library@powys.gov.uk
END:VEVENT
BEGIN:VEVENT
DTSTART;TZID=UTC:20260907T140000
DTEND;TZID=UTC:20260907T160000
DTSTAMP:20260422T085054
CREATED:20250609T141251Z
LAST-MODIFIED:20250609T141406Z
UID:10015302-1788789600-1788796800@storipowys.org.uk
SUMMARY:Gweu A Sgwrs\, Crosio A Siarad
DESCRIPTION:Grŵp cyfeillgar o bobl yn gwau a chrosio amrywiaeth o eitemau o flancedi i siwmperi \nNi chodir tâl i fynychu.
URL:https://storipowys.org.uk/event/knit-natter-crochet-chatter-2/2026-09-07/?lang=cy
LOCATION:Llyfrgell Rhaeadr / Rhayader Library\, West Street\, Rhayader\, LD6 5DS
ATTACH;FMTTYPE=image/jpeg:https://storipowys.org.uk/wp-content/uploads/2025/01/Screenshot_6-1-2025_143423_rhayader.co_.uk_.jpeg
ORGANIZER;CN="Llyfrgell Rhaeadr / Rhayader Library":MAILTO:rhayader.library@powys.gov.uk
END:VEVENT
BEGIN:VEVENT
DTSTART;TZID=UTC:20260914T140000
DTEND;TZID=UTC:20260914T160000
DTSTAMP:20260422T085054
CREATED:20250609T141251Z
LAST-MODIFIED:20250609T141406Z
UID:10015303-1789394400-1789401600@storipowys.org.uk
SUMMARY:Gweu A Sgwrs\, Crosio A Siarad
DESCRIPTION:Grŵp cyfeillgar o bobl yn gwau a chrosio amrywiaeth o eitemau o flancedi i siwmperi \nNi chodir tâl i fynychu.
URL:https://storipowys.org.uk/event/knit-natter-crochet-chatter-2/2026-09-14/?lang=cy
LOCATION:Llyfrgell Rhaeadr / Rhayader Library\, West Street\, Rhayader\, LD6 5DS
ATTACH;FMTTYPE=image/jpeg:https://storipowys.org.uk/wp-content/uploads/2025/01/Screenshot_6-1-2025_143423_rhayader.co_.uk_.jpeg
ORGANIZER;CN="Llyfrgell Rhaeadr / Rhayader Library":MAILTO:rhayader.library@powys.gov.uk
END:VEVENT
BEGIN:VEVENT
DTSTART;TZID=UTC:20260921T140000
DTEND;TZID=UTC:20260921T160000
DTSTAMP:20260422T085054
CREATED:20250609T141251Z
LAST-MODIFIED:20250609T141406Z
UID:10015304-1789999200-1790006400@storipowys.org.uk
SUMMARY:Gweu A Sgwrs\, Crosio A Siarad
DESCRIPTION:Grŵp cyfeillgar o bobl yn gwau a chrosio amrywiaeth o eitemau o flancedi i siwmperi \nNi chodir tâl i fynychu.
URL:https://storipowys.org.uk/event/knit-natter-crochet-chatter-2/2026-09-21/?lang=cy
LOCATION:Llyfrgell Rhaeadr / Rhayader Library\, West Street\, Rhayader\, LD6 5DS
ATTACH;FMTTYPE=image/jpeg:https://storipowys.org.uk/wp-content/uploads/2025/01/Screenshot_6-1-2025_143423_rhayader.co_.uk_.jpeg
ORGANIZER;CN="Llyfrgell Rhaeadr / Rhayader Library":MAILTO:rhayader.library@powys.gov.uk
END:VEVENT
BEGIN:VEVENT
DTSTART;TZID=UTC:20260928T140000
DTEND;TZID=UTC:20260928T160000
DTSTAMP:20260422T085054
CREATED:20250609T141251Z
LAST-MODIFIED:20250609T141406Z
UID:10015305-1790604000-1790611200@storipowys.org.uk
SUMMARY:Gweu A Sgwrs\, Crosio A Siarad
DESCRIPTION:Grŵp cyfeillgar o bobl yn gwau a chrosio amrywiaeth o eitemau o flancedi i siwmperi \nNi chodir tâl i fynychu.
URL:https://storipowys.org.uk/event/knit-natter-crochet-chatter-2/2026-09-28/?lang=cy
LOCATION:Llyfrgell Rhaeadr / Rhayader Library\, West Street\, Rhayader\, LD6 5DS
ATTACH;FMTTYPE=image/jpeg:https://storipowys.org.uk/wp-content/uploads/2025/01/Screenshot_6-1-2025_143423_rhayader.co_.uk_.jpeg
ORGANIZER;CN="Llyfrgell Rhaeadr / Rhayader Library":MAILTO:rhayader.library@powys.gov.uk
END:VEVENT
BEGIN:VEVENT
DTSTART;TZID=UTC:20261005T140000
DTEND;TZID=UTC:20261005T160000
DTSTAMP:20260422T085054
CREATED:20250609T141251Z
LAST-MODIFIED:20250609T141406Z
UID:10015306-1791208800-1791216000@storipowys.org.uk
SUMMARY:Gweu A Sgwrs\, Crosio A Siarad
DESCRIPTION:Grŵp cyfeillgar o bobl yn gwau a chrosio amrywiaeth o eitemau o flancedi i siwmperi \nNi chodir tâl i fynychu.
URL:https://storipowys.org.uk/event/knit-natter-crochet-chatter-2/2026-10-05/?lang=cy
LOCATION:Llyfrgell Rhaeadr / Rhayader Library\, West Street\, Rhayader\, LD6 5DS
ATTACH;FMTTYPE=image/jpeg:https://storipowys.org.uk/wp-content/uploads/2025/01/Screenshot_6-1-2025_143423_rhayader.co_.uk_.jpeg
ORGANIZER;CN="Llyfrgell Rhaeadr / Rhayader Library":MAILTO:rhayader.library@powys.gov.uk
END:VEVENT
BEGIN:VEVENT
DTSTART;TZID=UTC:20261012T140000
DTEND;TZID=UTC:20261012T160000
DTSTAMP:20260422T085054
CREATED:20250609T141251Z
LAST-MODIFIED:20250609T141406Z
UID:10015307-1791813600-1791820800@storipowys.org.uk
SUMMARY:Gweu A Sgwrs\, Crosio A Siarad
DESCRIPTION:Grŵp cyfeillgar o bobl yn gwau a chrosio amrywiaeth o eitemau o flancedi i siwmperi \nNi chodir tâl i fynychu.
URL:https://storipowys.org.uk/event/knit-natter-crochet-chatter-2/2026-10-12/?lang=cy
LOCATION:Llyfrgell Rhaeadr / Rhayader Library\, West Street\, Rhayader\, LD6 5DS
ATTACH;FMTTYPE=image/jpeg:https://storipowys.org.uk/wp-content/uploads/2025/01/Screenshot_6-1-2025_143423_rhayader.co_.uk_.jpeg
ORGANIZER;CN="Llyfrgell Rhaeadr / Rhayader Library":MAILTO:rhayader.library@powys.gov.uk
END:VEVENT
BEGIN:VEVENT
DTSTART;TZID=UTC:20261019T140000
DTEND;TZID=UTC:20261019T160000
DTSTAMP:20260422T085054
CREATED:20250609T141251Z
LAST-MODIFIED:20250609T141406Z
UID:10015308-1792418400-1792425600@storipowys.org.uk
SUMMARY:Gweu A Sgwrs\, Crosio A Siarad
DESCRIPTION:Grŵp cyfeillgar o bobl yn gwau a chrosio amrywiaeth o eitemau o flancedi i siwmperi \nNi chodir tâl i fynychu.
URL:https://storipowys.org.uk/event/knit-natter-crochet-chatter-2/2026-10-19/?lang=cy
LOCATION:Llyfrgell Rhaeadr / Rhayader Library\, West Street\, Rhayader\, LD6 5DS
ATTACH;FMTTYPE=image/jpeg:https://storipowys.org.uk/wp-content/uploads/2025/01/Screenshot_6-1-2025_143423_rhayader.co_.uk_.jpeg
ORGANIZER;CN="Llyfrgell Rhaeadr / Rhayader Library":MAILTO:rhayader.library@powys.gov.uk
END:VEVENT
BEGIN:VEVENT
DTSTART;TZID=UTC:20261026T140000
DTEND;TZID=UTC:20261026T160000
DTSTAMP:20260422T085054
CREATED:20250609T141251Z
LAST-MODIFIED:20250609T141406Z
UID:10015309-1793023200-1793030400@storipowys.org.uk
SUMMARY:Gweu A Sgwrs\, Crosio A Siarad
DESCRIPTION:Grŵp cyfeillgar o bobl yn gwau a chrosio amrywiaeth o eitemau o flancedi i siwmperi \nNi chodir tâl i fynychu.
URL:https://storipowys.org.uk/event/knit-natter-crochet-chatter-2/2026-10-26/?lang=cy
LOCATION:Llyfrgell Rhaeadr / Rhayader Library\, West Street\, Rhayader\, LD6 5DS
ATTACH;FMTTYPE=image/jpeg:https://storipowys.org.uk/wp-content/uploads/2025/01/Screenshot_6-1-2025_143423_rhayader.co_.uk_.jpeg
ORGANIZER;CN="Llyfrgell Rhaeadr / Rhayader Library":MAILTO:rhayader.library@powys.gov.uk
END:VEVENT
BEGIN:VEVENT
DTSTART;TZID=UTC:20261102T140000
DTEND;TZID=UTC:20261102T160000
DTSTAMP:20260422T085054
CREATED:20250609T141251Z
LAST-MODIFIED:20250609T141406Z
UID:10015310-1793628000-1793635200@storipowys.org.uk
SUMMARY:Gweu A Sgwrs\, Crosio A Siarad
DESCRIPTION:Grŵp cyfeillgar o bobl yn gwau a chrosio amrywiaeth o eitemau o flancedi i siwmperi \nNi chodir tâl i fynychu.
URL:https://storipowys.org.uk/event/knit-natter-crochet-chatter-2/2026-11-02/?lang=cy
LOCATION:Llyfrgell Rhaeadr / Rhayader Library\, West Street\, Rhayader\, LD6 5DS
ATTACH;FMTTYPE=image/jpeg:https://storipowys.org.uk/wp-content/uploads/2025/01/Screenshot_6-1-2025_143423_rhayader.co_.uk_.jpeg
ORGANIZER;CN="Llyfrgell Rhaeadr / Rhayader Library":MAILTO:rhayader.library@powys.gov.uk
END:VEVENT
BEGIN:VEVENT
DTSTART;TZID=UTC:20261109T140000
DTEND;TZID=UTC:20261109T160000
DTSTAMP:20260422T085054
CREATED:20250609T141251Z
LAST-MODIFIED:20250609T141406Z
UID:10015311-1794232800-1794240000@storipowys.org.uk
SUMMARY:Gweu A Sgwrs\, Crosio A Siarad
DESCRIPTION:Grŵp cyfeillgar o bobl yn gwau a chrosio amrywiaeth o eitemau o flancedi i siwmperi \nNi chodir tâl i fynychu.
URL:https://storipowys.org.uk/event/knit-natter-crochet-chatter-2/2026-11-09/?lang=cy
LOCATION:Llyfrgell Rhaeadr / Rhayader Library\, West Street\, Rhayader\, LD6 5DS
ATTACH;FMTTYPE=image/jpeg:https://storipowys.org.uk/wp-content/uploads/2025/01/Screenshot_6-1-2025_143423_rhayader.co_.uk_.jpeg
ORGANIZER;CN="Llyfrgell Rhaeadr / Rhayader Library":MAILTO:rhayader.library@powys.gov.uk
END:VEVENT
BEGIN:VEVENT
DTSTART;TZID=UTC:20261116T140000
DTEND;TZID=UTC:20261116T160000
DTSTAMP:20260422T085054
CREATED:20250609T141251Z
LAST-MODIFIED:20250609T141406Z
UID:10015312-1794837600-1794844800@storipowys.org.uk
SUMMARY:Gweu A Sgwrs\, Crosio A Siarad
DESCRIPTION:Grŵp cyfeillgar o bobl yn gwau a chrosio amrywiaeth o eitemau o flancedi i siwmperi \nNi chodir tâl i fynychu.
URL:https://storipowys.org.uk/event/knit-natter-crochet-chatter-2/2026-11-16/?lang=cy
LOCATION:Llyfrgell Rhaeadr / Rhayader Library\, West Street\, Rhayader\, LD6 5DS
ATTACH;FMTTYPE=image/jpeg:https://storipowys.org.uk/wp-content/uploads/2025/01/Screenshot_6-1-2025_143423_rhayader.co_.uk_.jpeg
ORGANIZER;CN="Llyfrgell Rhaeadr / Rhayader Library":MAILTO:rhayader.library@powys.gov.uk
END:VEVENT
END:VCALENDAR