BEGIN:VCALENDAR
VERSION:2.0
PRODID:-//Powys - ECPv6.15.20//NONSGML v1.0//EN
CALSCALE:GREGORIAN
METHOD:PUBLISH
X-WR-CALNAME:Powys
X-ORIGINAL-URL:https://storipowys.org.uk
X-WR-CALDESC:Events for Powys
REFRESH-INTERVAL;VALUE=DURATION:PT1H
X-Robots-Tag:noindex
X-PUBLISHED-TTL:PT1H
BEGIN:VTIMEZONE
TZID:UTC
BEGIN:STANDARD
TZOFFSETFROM:+0000
TZOFFSETTO:+0000
TZNAME:UTC
DTSTART:20240101T000000
END:STANDARD
END:VTIMEZONE
BEGIN:VEVENT
DTSTART;TZID=UTC:20251211T093000
DTEND;TZID=UTC:20251211T110000
DTSTAMP:20260419T212925
CREATED:20251114T121652Z
LAST-MODIFIED:20260116T100926Z
UID:10027014-1765445400-1765450800@storipowys.org.uk
SUMMARY:Digital Support Session
DESCRIPTION:Free Digital Support at Your Library!\nNeed help with your My Powys Account or using tech?\nBook a 1:1 session with friendly staff.\n💡 We can help with:\n🟢 My Powys Account setup & recovery\n🔵 Smartphones\, tablets\, email & printing\n📚 Accessing library services online\n🔐 Staying safe online\n📅 Weekly sessions | ⏱️ 15–30 min slots\n📍 Ask staff to book your appointment today!
URL:https://storipowys.org.uk/event/digital-support-session-sesiwn-cymorth-ddigidol-7/2025-12-11/
LOCATION:Newtown Library\, Park Lane\, Newtown\, SY16 1EJ
ATTACH;FMTTYPE=image/png:https://storipowys.org.uk/wp-content/uploads/2025/11/Digital-Support-Sessions-My-Powys-account-card-1.png
END:VEVENT
BEGIN:VEVENT
DTSTART;TZID=UTC:20251209T140000
DTEND;TZID=UTC:20251209T160000
DTSTAMP:20260419T212925
CREATED:20251114T120900Z
LAST-MODIFIED:20260116T102140Z
UID:10026492-1765288800-1765296000@storipowys.org.uk
SUMMARY:Digital Support Session
DESCRIPTION:Free Digital Support at Your Library!\nNeed help with your My Powys Account or using tech?\nBook a 1:1 session with friendly staff.\n💡 We can help with:\n🟢 My Powys Account setup & recovery\n🔵 Smartphones\, tablets\, email & printing\n📚 Accessing library services online\n🔐 Staying safe online\n📅 Weekly sessions | ⏱️ 15–30 min slots\n📍 Ask staff to book your appointment today!
URL:https://storipowys.org.uk/event/digital-support-session-sesiwn-cymorth-ddigidol-2/2025-12-09/
LOCATION:Newtown Library\, Park Lane\, Newtown\, SY16 1EJ
ATTACH;FMTTYPE=image/png:https://storipowys.org.uk/wp-content/uploads/2025/11/Digital-Support-Sessions-My-Powys-account-card-1.png
ORGANIZER;CN="Llyfrgell Y Drenewydd / Newtown Library":MAILTO:newtown.library@powys.gov.uk
END:VEVENT
BEGIN:VEVENT
DTSTART;TZID=UTC:20251204T093000
DTEND;TZID=UTC:20251204T110000
DTSTAMP:20260419T212925
CREATED:20251114T121652Z
LAST-MODIFIED:20260116T100926Z
UID:10027013-1764840600-1764846000@storipowys.org.uk
SUMMARY:Digital Support Session
DESCRIPTION:Free Digital Support at Your Library!\nNeed help with your My Powys Account or using tech?\nBook a 1:1 session with friendly staff.\n💡 We can help with:\n🟢 My Powys Account setup & recovery\n🔵 Smartphones\, tablets\, email & printing\n📚 Accessing library services online\n🔐 Staying safe online\n📅 Weekly sessions | ⏱️ 15–30 min slots\n📍 Ask staff to book your appointment today!
URL:https://storipowys.org.uk/event/digital-support-session-sesiwn-cymorth-ddigidol-7/2025-12-04/
LOCATION:Newtown Library\, Park Lane\, Newtown\, SY16 1EJ
ATTACH;FMTTYPE=image/png:https://storipowys.org.uk/wp-content/uploads/2025/11/Digital-Support-Sessions-My-Powys-account-card-1.png
END:VEVENT
BEGIN:VEVENT
DTSTART;TZID=UTC:20251202T140000
DTEND;TZID=UTC:20251202T160000
DTSTAMP:20260419T212925
CREATED:20251114T120900Z
LAST-MODIFIED:20260116T102140Z
UID:10026491-1764684000-1764691200@storipowys.org.uk
SUMMARY:Digital Support Session
DESCRIPTION:Free Digital Support at Your Library!\nNeed help with your My Powys Account or using tech?\nBook a 1:1 session with friendly staff.\n💡 We can help with:\n🟢 My Powys Account setup & recovery\n🔵 Smartphones\, tablets\, email & printing\n📚 Accessing library services online\n🔐 Staying safe online\n📅 Weekly sessions | ⏱️ 15–30 min slots\n📍 Ask staff to book your appointment today!
URL:https://storipowys.org.uk/event/digital-support-session-sesiwn-cymorth-ddigidol-2/2025-12-02/
LOCATION:Newtown Library\, Park Lane\, Newtown\, SY16 1EJ
ATTACH;FMTTYPE=image/png:https://storipowys.org.uk/wp-content/uploads/2025/11/Digital-Support-Sessions-My-Powys-account-card-1.png
ORGANIZER;CN="Llyfrgell Y Drenewydd / Newtown Library":MAILTO:newtown.library@powys.gov.uk
END:VEVENT
BEGIN:VEVENT
DTSTART;TZID=UTC:20251127T093000
DTEND;TZID=UTC:20251127T110000
DTSTAMP:20260419T212925
CREATED:20251114T121652Z
LAST-MODIFIED:20260116T100926Z
UID:10027012-1764235800-1764241200@storipowys.org.uk
SUMMARY:Digital Support Session
DESCRIPTION:Free Digital Support at Your Library!\nNeed help with your My Powys Account or using tech?\nBook a 1:1 session with friendly staff.\n💡 We can help with:\n🟢 My Powys Account setup & recovery\n🔵 Smartphones\, tablets\, email & printing\n📚 Accessing library services online\n🔐 Staying safe online\n📅 Weekly sessions | ⏱️ 15–30 min slots\n📍 Ask staff to book your appointment today!
URL:https://storipowys.org.uk/event/digital-support-session-sesiwn-cymorth-ddigidol-7/2025-11-27/
LOCATION:Newtown Library\, Park Lane\, Newtown\, SY16 1EJ
ATTACH;FMTTYPE=image/png:https://storipowys.org.uk/wp-content/uploads/2025/11/Digital-Support-Sessions-My-Powys-account-card-1.png
END:VEVENT
BEGIN:VEVENT
DTSTART;TZID=UTC:20251125T140000
DTEND;TZID=UTC:20251125T160000
DTSTAMP:20260419T212925
CREATED:20251114T120900Z
LAST-MODIFIED:20260116T102140Z
UID:10026490-1764079200-1764086400@storipowys.org.uk
SUMMARY:Digital Support Session
DESCRIPTION:Free Digital Support at Your Library!\nNeed help with your My Powys Account or using tech?\nBook a 1:1 session with friendly staff.\n💡 We can help with:\n🟢 My Powys Account setup & recovery\n🔵 Smartphones\, tablets\, email & printing\n📚 Accessing library services online\n🔐 Staying safe online\n📅 Weekly sessions | ⏱️ 15–30 min slots\n📍 Ask staff to book your appointment today!
URL:https://storipowys.org.uk/event/digital-support-session-sesiwn-cymorth-ddigidol-2/2025-11-25/
LOCATION:Newtown Library\, Park Lane\, Newtown\, SY16 1EJ
ATTACH;FMTTYPE=image/png:https://storipowys.org.uk/wp-content/uploads/2025/11/Digital-Support-Sessions-My-Powys-account-card-1.png
ORGANIZER;CN="Llyfrgell Y Drenewydd / Newtown Library":MAILTO:newtown.library@powys.gov.uk
END:VEVENT
BEGIN:VEVENT
DTSTART;TZID=UTC:20251120T093000
DTEND;TZID=UTC:20251120T110000
DTSTAMP:20260419T212925
CREATED:20251114T121652Z
LAST-MODIFIED:20260116T100926Z
UID:10027011-1763631000-1763636400@storipowys.org.uk
SUMMARY:Digital Support Session
DESCRIPTION:Free Digital Support at Your Library!\nNeed help with your My Powys Account or using tech?\nBook a 1:1 session with friendly staff.\n💡 We can help with:\n🟢 My Powys Account setup & recovery\n🔵 Smartphones\, tablets\, email & printing\n📚 Accessing library services online\n🔐 Staying safe online\n📅 Weekly sessions | ⏱️ 15–30 min slots\n📍 Ask staff to book your appointment today!
URL:https://storipowys.org.uk/event/digital-support-session-sesiwn-cymorth-ddigidol-7/2025-11-20/
LOCATION:Newtown Library\, Park Lane\, Newtown\, SY16 1EJ
ATTACH;FMTTYPE=image/png:https://storipowys.org.uk/wp-content/uploads/2025/11/Digital-Support-Sessions-My-Powys-account-card-1.png
END:VEVENT
BEGIN:VEVENT
DTSTART;TZID=UTC:20251118T140000
DTEND;TZID=UTC:20251118T160000
DTSTAMP:20260419T212925
CREATED:20251114T120900Z
LAST-MODIFIED:20260116T102140Z
UID:10026489-1763474400-1763481600@storipowys.org.uk
SUMMARY:Digital Support Session
DESCRIPTION:Free Digital Support at Your Library!\nNeed help with your My Powys Account or using tech?\nBook a 1:1 session with friendly staff.\n💡 We can help with:\n🟢 My Powys Account setup & recovery\n🔵 Smartphones\, tablets\, email & printing\n📚 Accessing library services online\n🔐 Staying safe online\n📅 Weekly sessions | ⏱️ 15–30 min slots\n📍 Ask staff to book your appointment today!
URL:https://storipowys.org.uk/event/digital-support-session-sesiwn-cymorth-ddigidol-2/2025-11-18/
LOCATION:Newtown Library\, Park Lane\, Newtown\, SY16 1EJ
ATTACH;FMTTYPE=image/png:https://storipowys.org.uk/wp-content/uploads/2025/11/Digital-Support-Sessions-My-Powys-account-card-1.png
ORGANIZER;CN="Llyfrgell Y Drenewydd / Newtown Library":MAILTO:newtown.library@powys.gov.uk
END:VEVENT
END:VCALENDAR