BEGIN:VCALENDAR
VERSION:2.0
PRODID:-//Powys - ECPv6.15.20//NONSGML v1.0//EN
CALSCALE:GREGORIAN
METHOD:PUBLISH
X-ORIGINAL-URL:https://storipowys.org.uk
X-WR-CALDESC:Events for Powys
REFRESH-INTERVAL;VALUE=DURATION:PT1H
X-Robots-Tag:noindex
X-PUBLISHED-TTL:PT1H
BEGIN:VTIMEZONE
TZID:UTC
BEGIN:STANDARD
TZOFFSETFROM:+0000
TZOFFSETTO:+0000
TZNAME:UTC
DTSTART:20240101T000000
END:STANDARD
END:VTIMEZONE
BEGIN:VEVENT
DTSTART;TZID=UTC:20260122T093000
DTEND;TZID=UTC:20260122T110000
DTSTAMP:20260419T200540
CREATED:20251114T121652Z
LAST-MODIFIED:20260116T100926Z
UID:10027020-1769074200-1769079600@storipowys.org.uk
SUMMARY:Digital Support Session
DESCRIPTION:Free Digital Support at Your Library!\nNeed help with your My Powys Account or using tech?\nBook a 1:1 session with friendly staff.\n💡 We can help with:\n🟢 My Powys Account setup & recovery\n🔵 Smartphones\, tablets\, email & printing\n📚 Accessing library services online\n🔐 Staying safe online\n📅 Weekly sessions | ⏱️ 15–30 min slots\n📍 Ask staff to book your appointment today!
URL:https://storipowys.org.uk/event/digital-support-session-sesiwn-cymorth-ddigidol-7/2026-01-22/
LOCATION:Newtown Library\, Park Lane\, Newtown\, SY16 1EJ
ATTACH;FMTTYPE=image/png:https://storipowys.org.uk/wp-content/uploads/2025/11/Digital-Support-Sessions-My-Powys-account-card-1.png
END:VEVENT
BEGIN:VEVENT
DTSTART;TZID=UTC:20260120T140000
DTEND;TZID=UTC:20260120T160000
DTSTAMP:20260419T200540
CREATED:20251114T120900Z
LAST-MODIFIED:20260116T102140Z
UID:10026498-1768917600-1768924800@storipowys.org.uk
SUMMARY:Digital Support Session
DESCRIPTION:Free Digital Support at Your Library!\nNeed help with your My Powys Account or using tech?\nBook a 1:1 session with friendly staff.\n💡 We can help with:\n🟢 My Powys Account setup & recovery\n🔵 Smartphones\, tablets\, email & printing\n📚 Accessing library services online\n🔐 Staying safe online\n📅 Weekly sessions | ⏱️ 15–30 min slots\n📍 Ask staff to book your appointment today!
URL:https://storipowys.org.uk/event/digital-support-session-sesiwn-cymorth-ddigidol-2/2026-01-20/
LOCATION:Newtown Library\, Park Lane\, Newtown\, SY16 1EJ
ATTACH;FMTTYPE=image/png:https://storipowys.org.uk/wp-content/uploads/2025/11/Digital-Support-Sessions-My-Powys-account-card-1.png
ORGANIZER;CN="Llyfrgell Y Drenewydd / Newtown Library":MAILTO:newtown.library@powys.gov.uk
END:VEVENT
BEGIN:VEVENT
DTSTART;TZID=UTC:20260115T093000
DTEND;TZID=UTC:20260115T110000
DTSTAMP:20260419T200540
CREATED:20251114T121652Z
LAST-MODIFIED:20260116T100926Z
UID:10027019-1768469400-1768474800@storipowys.org.uk
SUMMARY:Digital Support Session
DESCRIPTION:Free Digital Support at Your Library!\nNeed help with your My Powys Account or using tech?\nBook a 1:1 session with friendly staff.\n💡 We can help with:\n🟢 My Powys Account setup & recovery\n🔵 Smartphones\, tablets\, email & printing\n📚 Accessing library services online\n🔐 Staying safe online\n📅 Weekly sessions | ⏱️ 15–30 min slots\n📍 Ask staff to book your appointment today!
URL:https://storipowys.org.uk/event/digital-support-session-sesiwn-cymorth-ddigidol-7/2026-01-15/
LOCATION:Newtown Library\, Park Lane\, Newtown\, SY16 1EJ
ATTACH;FMTTYPE=image/png:https://storipowys.org.uk/wp-content/uploads/2025/11/Digital-Support-Sessions-My-Powys-account-card-1.png
END:VEVENT
BEGIN:VEVENT
DTSTART;TZID=UTC:20260113T140000
DTEND;TZID=UTC:20260113T160000
DTSTAMP:20260419T200540
CREATED:20251114T120900Z
LAST-MODIFIED:20260116T102140Z
UID:10026497-1768312800-1768320000@storipowys.org.uk
SUMMARY:Digital Support Session
DESCRIPTION:Free Digital Support at Your Library!\nNeed help with your My Powys Account or using tech?\nBook a 1:1 session with friendly staff.\n💡 We can help with:\n🟢 My Powys Account setup & recovery\n🔵 Smartphones\, tablets\, email & printing\n📚 Accessing library services online\n🔐 Staying safe online\n📅 Weekly sessions | ⏱️ 15–30 min slots\n📍 Ask staff to book your appointment today!
URL:https://storipowys.org.uk/event/digital-support-session-sesiwn-cymorth-ddigidol-2/2026-01-13/
LOCATION:Newtown Library\, Park Lane\, Newtown\, SY16 1EJ
ATTACH;FMTTYPE=image/png:https://storipowys.org.uk/wp-content/uploads/2025/11/Digital-Support-Sessions-My-Powys-account-card-1.png
ORGANIZER;CN="Llyfrgell Y Drenewydd / Newtown Library":MAILTO:newtown.library@powys.gov.uk
END:VEVENT
BEGIN:VEVENT
DTSTART;TZID=UTC:20260108T093000
DTEND;TZID=UTC:20260108T110000
DTSTAMP:20260419T200540
CREATED:20251114T121652Z
LAST-MODIFIED:20260116T100926Z
UID:10027018-1767864600-1767870000@storipowys.org.uk
SUMMARY:Digital Support Session
DESCRIPTION:Free Digital Support at Your Library!\nNeed help with your My Powys Account or using tech?\nBook a 1:1 session with friendly staff.\n💡 We can help with:\n🟢 My Powys Account setup & recovery\n🔵 Smartphones\, tablets\, email & printing\n📚 Accessing library services online\n🔐 Staying safe online\n📅 Weekly sessions | ⏱️ 15–30 min slots\n📍 Ask staff to book your appointment today!
URL:https://storipowys.org.uk/event/digital-support-session-sesiwn-cymorth-ddigidol-7/2026-01-08/
LOCATION:Newtown Library\, Park Lane\, Newtown\, SY16 1EJ
ATTACH;FMTTYPE=image/png:https://storipowys.org.uk/wp-content/uploads/2025/11/Digital-Support-Sessions-My-Powys-account-card-1.png
END:VEVENT
BEGIN:VEVENT
DTSTART;TZID=UTC:20260106T140000
DTEND;TZID=UTC:20260106T160000
DTSTAMP:20260419T200540
CREATED:20251114T120900Z
LAST-MODIFIED:20260116T102140Z
UID:10026496-1767708000-1767715200@storipowys.org.uk
SUMMARY:Digital Support Session
DESCRIPTION:Free Digital Support at Your Library!\nNeed help with your My Powys Account or using tech?\nBook a 1:1 session with friendly staff.\n💡 We can help with:\n🟢 My Powys Account setup & recovery\n🔵 Smartphones\, tablets\, email & printing\n📚 Accessing library services online\n🔐 Staying safe online\n📅 Weekly sessions | ⏱️ 15–30 min slots\n📍 Ask staff to book your appointment today!
URL:https://storipowys.org.uk/event/digital-support-session-sesiwn-cymorth-ddigidol-2/2026-01-06/
LOCATION:Newtown Library\, Park Lane\, Newtown\, SY16 1EJ
ATTACH;FMTTYPE=image/png:https://storipowys.org.uk/wp-content/uploads/2025/11/Digital-Support-Sessions-My-Powys-account-card-1.png
ORGANIZER;CN="Llyfrgell Y Drenewydd / Newtown Library":MAILTO:newtown.library@powys.gov.uk
END:VEVENT
BEGIN:VEVENT
DTSTART;TZID=UTC:20260101T093000
DTEND;TZID=UTC:20260101T110000
DTSTAMP:20260419T200540
CREATED:20251114T121652Z
LAST-MODIFIED:20260116T100926Z
UID:10027017-1767259800-1767265200@storipowys.org.uk
SUMMARY:Digital Support Session
DESCRIPTION:Free Digital Support at Your Library!\nNeed help with your My Powys Account or using tech?\nBook a 1:1 session with friendly staff.\n💡 We can help with:\n🟢 My Powys Account setup & recovery\n🔵 Smartphones\, tablets\, email & printing\n📚 Accessing library services online\n🔐 Staying safe online\n📅 Weekly sessions | ⏱️ 15–30 min slots\n📍 Ask staff to book your appointment today!
URL:https://storipowys.org.uk/event/digital-support-session-sesiwn-cymorth-ddigidol-7/2026-01-01/
LOCATION:Newtown Library\, Park Lane\, Newtown\, SY16 1EJ
ATTACH;FMTTYPE=image/png:https://storipowys.org.uk/wp-content/uploads/2025/11/Digital-Support-Sessions-My-Powys-account-card-1.png
END:VEVENT
BEGIN:VEVENT
DTSTART;TZID=UTC:20251230T140000
DTEND;TZID=UTC:20251230T160000
DTSTAMP:20260419T200540
CREATED:20251114T120900Z
LAST-MODIFIED:20260116T102140Z
UID:10026495-1767103200-1767110400@storipowys.org.uk
SUMMARY:Digital Support Session
DESCRIPTION:Free Digital Support at Your Library!\nNeed help with your My Powys Account or using tech?\nBook a 1:1 session with friendly staff.\n💡 We can help with:\n🟢 My Powys Account setup & recovery\n🔵 Smartphones\, tablets\, email & printing\n📚 Accessing library services online\n🔐 Staying safe online\n📅 Weekly sessions | ⏱️ 15–30 min slots\n📍 Ask staff to book your appointment today!
URL:https://storipowys.org.uk/event/digital-support-session-sesiwn-cymorth-ddigidol-2/2025-12-30/
LOCATION:Newtown Library\, Park Lane\, Newtown\, SY16 1EJ
ATTACH;FMTTYPE=image/png:https://storipowys.org.uk/wp-content/uploads/2025/11/Digital-Support-Sessions-My-Powys-account-card-1.png
ORGANIZER;CN="Llyfrgell Y Drenewydd / Newtown Library":MAILTO:newtown.library@powys.gov.uk
END:VEVENT
BEGIN:VEVENT
DTSTART;TZID=UTC:20251225T093000
DTEND;TZID=UTC:20251225T110000
DTSTAMP:20260419T200540
CREATED:20251114T121652Z
LAST-MODIFIED:20260116T100926Z
UID:10027016-1766655000-1766660400@storipowys.org.uk
SUMMARY:Digital Support Session
DESCRIPTION:Free Digital Support at Your Library!\nNeed help with your My Powys Account or using tech?\nBook a 1:1 session with friendly staff.\n💡 We can help with:\n🟢 My Powys Account setup & recovery\n🔵 Smartphones\, tablets\, email & printing\n📚 Accessing library services online\n🔐 Staying safe online\n📅 Weekly sessions | ⏱️ 15–30 min slots\n📍 Ask staff to book your appointment today!
URL:https://storipowys.org.uk/event/digital-support-session-sesiwn-cymorth-ddigidol-7/2025-12-25/
LOCATION:Newtown Library\, Park Lane\, Newtown\, SY16 1EJ
ATTACH;FMTTYPE=image/png:https://storipowys.org.uk/wp-content/uploads/2025/11/Digital-Support-Sessions-My-Powys-account-card-1.png
END:VEVENT
BEGIN:VEVENT
DTSTART;TZID=UTC:20251223T140000
DTEND;TZID=UTC:20251223T160000
DTSTAMP:20260419T200540
CREATED:20251114T120900Z
LAST-MODIFIED:20260116T102140Z
UID:10026494-1766498400-1766505600@storipowys.org.uk
SUMMARY:Digital Support Session
DESCRIPTION:Free Digital Support at Your Library!\nNeed help with your My Powys Account or using tech?\nBook a 1:1 session with friendly staff.\n💡 We can help with:\n🟢 My Powys Account setup & recovery\n🔵 Smartphones\, tablets\, email & printing\n📚 Accessing library services online\n🔐 Staying safe online\n📅 Weekly sessions | ⏱️ 15–30 min slots\n📍 Ask staff to book your appointment today!
URL:https://storipowys.org.uk/event/digital-support-session-sesiwn-cymorth-ddigidol-2/2025-12-23/
LOCATION:Newtown Library\, Park Lane\, Newtown\, SY16 1EJ
ATTACH;FMTTYPE=image/png:https://storipowys.org.uk/wp-content/uploads/2025/11/Digital-Support-Sessions-My-Powys-account-card-1.png
ORGANIZER;CN="Llyfrgell Y Drenewydd / Newtown Library":MAILTO:newtown.library@powys.gov.uk
END:VEVENT
BEGIN:VEVENT
DTSTART;TZID=UTC:20251218T093000
DTEND;TZID=UTC:20251218T110000
DTSTAMP:20260419T200540
CREATED:20251114T121652Z
LAST-MODIFIED:20260116T100926Z
UID:10027015-1766050200-1766055600@storipowys.org.uk
SUMMARY:Digital Support Session
DESCRIPTION:Free Digital Support at Your Library!\nNeed help with your My Powys Account or using tech?\nBook a 1:1 session with friendly staff.\n💡 We can help with:\n🟢 My Powys Account setup & recovery\n🔵 Smartphones\, tablets\, email & printing\n📚 Accessing library services online\n🔐 Staying safe online\n📅 Weekly sessions | ⏱️ 15–30 min slots\n📍 Ask staff to book your appointment today!
URL:https://storipowys.org.uk/event/digital-support-session-sesiwn-cymorth-ddigidol-7/2025-12-18/
LOCATION:Newtown Library\, Park Lane\, Newtown\, SY16 1EJ
ATTACH;FMTTYPE=image/png:https://storipowys.org.uk/wp-content/uploads/2025/11/Digital-Support-Sessions-My-Powys-account-card-1.png
END:VEVENT
BEGIN:VEVENT
DTSTART;TZID=UTC:20251216T140000
DTEND;TZID=UTC:20251216T160000
DTSTAMP:20260419T200540
CREATED:20251114T120900Z
LAST-MODIFIED:20260116T102140Z
UID:10026493-1765893600-1765900800@storipowys.org.uk
SUMMARY:Digital Support Session
DESCRIPTION:Free Digital Support at Your Library!\nNeed help with your My Powys Account or using tech?\nBook a 1:1 session with friendly staff.\n💡 We can help with:\n🟢 My Powys Account setup & recovery\n🔵 Smartphones\, tablets\, email & printing\n📚 Accessing library services online\n🔐 Staying safe online\n📅 Weekly sessions | ⏱️ 15–30 min slots\n📍 Ask staff to book your appointment today!
URL:https://storipowys.org.uk/event/digital-support-session-sesiwn-cymorth-ddigidol-2/2025-12-16/
LOCATION:Newtown Library\, Park Lane\, Newtown\, SY16 1EJ
ATTACH;FMTTYPE=image/png:https://storipowys.org.uk/wp-content/uploads/2025/11/Digital-Support-Sessions-My-Powys-account-card-1.png
ORGANIZER;CN="Llyfrgell Y Drenewydd / Newtown Library":MAILTO:newtown.library@powys.gov.uk
END:VEVENT
BEGIN:VEVENT
DTSTART;TZID=UTC:20251211T093000
DTEND;TZID=UTC:20251211T110000
DTSTAMP:20260419T200540
CREATED:20251114T121652Z
LAST-MODIFIED:20260116T100926Z
UID:10027014-1765445400-1765450800@storipowys.org.uk
SUMMARY:Digital Support Session
DESCRIPTION:Free Digital Support at Your Library!\nNeed help with your My Powys Account or using tech?\nBook a 1:1 session with friendly staff.\n💡 We can help with:\n🟢 My Powys Account setup & recovery\n🔵 Smartphones\, tablets\, email & printing\n📚 Accessing library services online\n🔐 Staying safe online\n📅 Weekly sessions | ⏱️ 15–30 min slots\n📍 Ask staff to book your appointment today!
URL:https://storipowys.org.uk/event/digital-support-session-sesiwn-cymorth-ddigidol-7/2025-12-11/
LOCATION:Newtown Library\, Park Lane\, Newtown\, SY16 1EJ
ATTACH;FMTTYPE=image/png:https://storipowys.org.uk/wp-content/uploads/2025/11/Digital-Support-Sessions-My-Powys-account-card-1.png
END:VEVENT
BEGIN:VEVENT
DTSTART;TZID=UTC:20251209T140000
DTEND;TZID=UTC:20251209T160000
DTSTAMP:20260419T200540
CREATED:20251114T120900Z
LAST-MODIFIED:20260116T102140Z
UID:10026492-1765288800-1765296000@storipowys.org.uk
SUMMARY:Digital Support Session
DESCRIPTION:Free Digital Support at Your Library!\nNeed help with your My Powys Account or using tech?\nBook a 1:1 session with friendly staff.\n💡 We can help with:\n🟢 My Powys Account setup & recovery\n🔵 Smartphones\, tablets\, email & printing\n📚 Accessing library services online\n🔐 Staying safe online\n📅 Weekly sessions | ⏱️ 15–30 min slots\n📍 Ask staff to book your appointment today!
URL:https://storipowys.org.uk/event/digital-support-session-sesiwn-cymorth-ddigidol-2/2025-12-09/
LOCATION:Newtown Library\, Park Lane\, Newtown\, SY16 1EJ
ATTACH;FMTTYPE=image/png:https://storipowys.org.uk/wp-content/uploads/2025/11/Digital-Support-Sessions-My-Powys-account-card-1.png
ORGANIZER;CN="Llyfrgell Y Drenewydd / Newtown Library":MAILTO:newtown.library@powys.gov.uk
END:VEVENT
BEGIN:VEVENT
DTSTART;TZID=UTC:20251204T093000
DTEND;TZID=UTC:20251204T110000
DTSTAMP:20260419T200540
CREATED:20251114T121652Z
LAST-MODIFIED:20260116T100926Z
UID:10027013-1764840600-1764846000@storipowys.org.uk
SUMMARY:Digital Support Session
DESCRIPTION:Free Digital Support at Your Library!\nNeed help with your My Powys Account or using tech?\nBook a 1:1 session with friendly staff.\n💡 We can help with:\n🟢 My Powys Account setup & recovery\n🔵 Smartphones\, tablets\, email & printing\n📚 Accessing library services online\n🔐 Staying safe online\n📅 Weekly sessions | ⏱️ 15–30 min slots\n📍 Ask staff to book your appointment today!
URL:https://storipowys.org.uk/event/digital-support-session-sesiwn-cymorth-ddigidol-7/2025-12-04/
LOCATION:Newtown Library\, Park Lane\, Newtown\, SY16 1EJ
ATTACH;FMTTYPE=image/png:https://storipowys.org.uk/wp-content/uploads/2025/11/Digital-Support-Sessions-My-Powys-account-card-1.png
END:VEVENT
BEGIN:VEVENT
DTSTART;TZID=UTC:20251202T140000
DTEND;TZID=UTC:20251202T160000
DTSTAMP:20260419T200540
CREATED:20251114T120900Z
LAST-MODIFIED:20260116T102140Z
UID:10026491-1764684000-1764691200@storipowys.org.uk
SUMMARY:Digital Support Session
DESCRIPTION:Free Digital Support at Your Library!\nNeed help with your My Powys Account or using tech?\nBook a 1:1 session with friendly staff.\n💡 We can help with:\n🟢 My Powys Account setup & recovery\n🔵 Smartphones\, tablets\, email & printing\n📚 Accessing library services online\n🔐 Staying safe online\n📅 Weekly sessions | ⏱️ 15–30 min slots\n📍 Ask staff to book your appointment today!
URL:https://storipowys.org.uk/event/digital-support-session-sesiwn-cymorth-ddigidol-2/2025-12-02/
LOCATION:Newtown Library\, Park Lane\, Newtown\, SY16 1EJ
ATTACH;FMTTYPE=image/png:https://storipowys.org.uk/wp-content/uploads/2025/11/Digital-Support-Sessions-My-Powys-account-card-1.png
ORGANIZER;CN="Llyfrgell Y Drenewydd / Newtown Library":MAILTO:newtown.library@powys.gov.uk
END:VEVENT
BEGIN:VEVENT
DTSTART;TZID=UTC:20251127T093000
DTEND;TZID=UTC:20251127T110000
DTSTAMP:20260419T200540
CREATED:20251114T121652Z
LAST-MODIFIED:20260116T100926Z
UID:10027012-1764235800-1764241200@storipowys.org.uk
SUMMARY:Digital Support Session
DESCRIPTION:Free Digital Support at Your Library!\nNeed help with your My Powys Account or using tech?\nBook a 1:1 session with friendly staff.\n💡 We can help with:\n🟢 My Powys Account setup & recovery\n🔵 Smartphones\, tablets\, email & printing\n📚 Accessing library services online\n🔐 Staying safe online\n📅 Weekly sessions | ⏱️ 15–30 min slots\n📍 Ask staff to book your appointment today!
URL:https://storipowys.org.uk/event/digital-support-session-sesiwn-cymorth-ddigidol-7/2025-11-27/
LOCATION:Newtown Library\, Park Lane\, Newtown\, SY16 1EJ
ATTACH;FMTTYPE=image/png:https://storipowys.org.uk/wp-content/uploads/2025/11/Digital-Support-Sessions-My-Powys-account-card-1.png
END:VEVENT
BEGIN:VEVENT
DTSTART;TZID=UTC:20251125T140000
DTEND;TZID=UTC:20251125T160000
DTSTAMP:20260419T200540
CREATED:20251114T120900Z
LAST-MODIFIED:20260116T102140Z
UID:10026490-1764079200-1764086400@storipowys.org.uk
SUMMARY:Digital Support Session
DESCRIPTION:Free Digital Support at Your Library!\nNeed help with your My Powys Account or using tech?\nBook a 1:1 session with friendly staff.\n💡 We can help with:\n🟢 My Powys Account setup & recovery\n🔵 Smartphones\, tablets\, email & printing\n📚 Accessing library services online\n🔐 Staying safe online\n📅 Weekly sessions | ⏱️ 15–30 min slots\n📍 Ask staff to book your appointment today!
URL:https://storipowys.org.uk/event/digital-support-session-sesiwn-cymorth-ddigidol-2/2025-11-25/
LOCATION:Newtown Library\, Park Lane\, Newtown\, SY16 1EJ
ATTACH;FMTTYPE=image/png:https://storipowys.org.uk/wp-content/uploads/2025/11/Digital-Support-Sessions-My-Powys-account-card-1.png
ORGANIZER;CN="Llyfrgell Y Drenewydd / Newtown Library":MAILTO:newtown.library@powys.gov.uk
END:VEVENT
BEGIN:VEVENT
DTSTART;TZID=UTC:20251120T093000
DTEND;TZID=UTC:20251120T110000
DTSTAMP:20260419T200540
CREATED:20251114T121652Z
LAST-MODIFIED:20260116T100926Z
UID:10027011-1763631000-1763636400@storipowys.org.uk
SUMMARY:Digital Support Session
DESCRIPTION:Free Digital Support at Your Library!\nNeed help with your My Powys Account or using tech?\nBook a 1:1 session with friendly staff.\n💡 We can help with:\n🟢 My Powys Account setup & recovery\n🔵 Smartphones\, tablets\, email & printing\n📚 Accessing library services online\n🔐 Staying safe online\n📅 Weekly sessions | ⏱️ 15–30 min slots\n📍 Ask staff to book your appointment today!
URL:https://storipowys.org.uk/event/digital-support-session-sesiwn-cymorth-ddigidol-7/2025-11-20/
LOCATION:Newtown Library\, Park Lane\, Newtown\, SY16 1EJ
ATTACH;FMTTYPE=image/png:https://storipowys.org.uk/wp-content/uploads/2025/11/Digital-Support-Sessions-My-Powys-account-card-1.png
END:VEVENT
BEGIN:VEVENT
DTSTART;TZID=UTC:20251118T140000
DTEND;TZID=UTC:20251118T160000
DTSTAMP:20260419T200540
CREATED:20251114T120900Z
LAST-MODIFIED:20260116T102140Z
UID:10026489-1763474400-1763481600@storipowys.org.uk
SUMMARY:Digital Support Session
DESCRIPTION:Free Digital Support at Your Library!\nNeed help with your My Powys Account or using tech?\nBook a 1:1 session with friendly staff.\n💡 We can help with:\n🟢 My Powys Account setup & recovery\n🔵 Smartphones\, tablets\, email & printing\n📚 Accessing library services online\n🔐 Staying safe online\n📅 Weekly sessions | ⏱️ 15–30 min slots\n📍 Ask staff to book your appointment today!
URL:https://storipowys.org.uk/event/digital-support-session-sesiwn-cymorth-ddigidol-2/2025-11-18/
LOCATION:Newtown Library\, Park Lane\, Newtown\, SY16 1EJ
ATTACH;FMTTYPE=image/png:https://storipowys.org.uk/wp-content/uploads/2025/11/Digital-Support-Sessions-My-Powys-account-card-1.png
ORGANIZER;CN="Llyfrgell Y Drenewydd / Newtown Library":MAILTO:newtown.library@powys.gov.uk
END:VEVENT
END:VCALENDAR